MooseX-Types-Structured v0.36 Perl 5 v5.32.0 cygwin-thread-multi
- Status
- Pass
- From
- Carlos Guevara
- Dist
-
MooseX-Types-Structured v0.36
- Platform
- Perl 5 v5.32.0 cygwin-thread-multi
- Date
- 2020-06-26 19:56:12
- ID
- ac4a1f67-6bfe-1014-a333-f6c69136dff4
This distribution has been tested as part of the CPAN Testers
project, supporting the Perl programming language. See
http://wiki.cpantesters.org/ for more information or email
questions to cpan-testers-discuss@perl.org
--
Dear Karen Etheridge,
This is a computer-generated report for MooseX-Types-Structured-0.36
on perl 5.32.0, created by CPAN-Reporter-1.2018.
Thank you for uploading your work to CPAN. Congratulations!
All tests were successful.
Sections of this report:
* Tester comments
* Program output
* Prerequisites
* Environment and other context
------------------------------
TESTER COMMENTS
------------------------------
Additional comments from tester:
this report is from an automated smoke testing program
and was not reviewed by a human for accuracy
------------------------------
PROGRAM OUTPUT
------------------------------
Output from './Build test':
t/00-load.t .................... ok
#
# Versions for all modules listed in MYMETA.json (including optional ones):
#
# === Configure Requires ===
#
# Module Want Have
# ------------------- ----- -----
# Module::Build::Tiny 0.034 0.039
#
# === Configure Suggests ===
#
# Module Want Have
# -------- ------- ----
# JSON::PP 2.27300 4.04
#
# === Test Requires ===
#
# Module Want Have
# -------------------- ---- --------
# Data::Dumper any 2.174
# DateTime any 1.52
# File::Spec any 3.78
# Module::Metadata any 1.000037
# MooseX::Types::Moose any 0.50
# Test::Fatal any 0.014
# Test::More 0.88 1.302175
# Test::Needs any 0.002006
# strict any 1.11
# warnings any 1.47
#
# === Test Recommends ===
#
# Module Want Have
# ---------- -------- --------
# CPAN::Meta 2.120900 2.150010
#
# === Test Suggests ===
#
# Module Want Have
# ----------------------- ---- -------
# MooseX::Types::DateTime any missing
#
# === Runtime Requires ===
#
# Module Want Have
# -------------------------------------------- ----- ------
# Devel::PartialDump 0.13 0.20
# Moose any 2.2012
# Moose::Meta::TypeCoercion any 2.2012
# Moose::Meta::TypeConstraint any 2.2012
# Moose::Meta::TypeConstraint::Parameterizable any 2.2012
# Moose::Util::TypeConstraints 1.06 2.2012
# MooseX::Types 0.22 0.50
# Scalar::Util any 1.55
# Sub::Exporter 0.982 0.987
# if any 0.0608
# namespace::clean 0.19 0.27
# overload any 1.31
#
# === Other Modules ===
#
# Module Have
# -------------------- ----
# Dist::CheckConflicts 0.11
# JSON::PP 4.04
# Sub::Name 0.26
# YAML 1.30
# autodie 2.32
#
t/00-report-prereqs.t .......... ok
t/01-basic.t ................... ok
t/02-tuple.t ................... ok
t/03-dict.t .................... ok
t/04-combined.t ................ ok
t/04-map.t ..................... ok
t/05-advanced.t ................ ok
t/06-api.t ..................... ok
t/07-coerce.t .................. ok
t/08-examples.t ................ skipped: Need MooseX::Types::DateTime
t/09-optional.t ................ ok
t/10-recursion.t ............... ok
t/11-overflow.t ................ ok
t/12-error.t ................... ok
t/13-deeper_error.t ............ ok
t/14-fully-qualified.t ......... ok
t/bug-incorrect-message.t ...... ok
t/bug-is-subtype.t ............. ok
t/bug-mixed-stringy.t .......... ok
t/bug-optional.t ............... ok
t/regressions/01-is_type_of.t .. ok
t/zzz-check-breaks.t ........... ok
All tests successful.
Files=23, Tests=352, 12 wallclock secs ( 0.03 usr 0.05 sys + 8.27 cusr 3.77 csys = 12.12 CPU)
Result: PASS
------------------------------
PREREQUISITES
------------------------------
Prerequisite modules loaded:
requires:
Module Need Have
-------------------------------------------- ----- --------
Devel::PartialDump 0.13 0.20
if 0 0.0608
Moose 0 2.2012
Moose::Meta::TypeCoercion 0 2.2012
Moose::Meta::TypeConstraint 0 2.2012
Moose::Meta::TypeConstraint::Parameterizable 0 2.2012
Moose::Util::TypeConstraints 1.06 2.2012
MooseX::Types 0.22 0.50
namespace::clean 0.19 0.27
overload 0 1.31
perl 5.008 5.032000
Scalar::Util 0 1.55
Sub::Exporter 0.982 0.987
build_requires:
Module Need Have
-------------------------------------------- ----- --------
Data::Dumper 0 2.174
DateTime 0 1.52
File::Spec 0 3.78
Module::Metadata 0 1.000037
MooseX::Types::Moose 0 0.50
perl 5.008 5.032000
strict 0 1.11
Test::Fatal 0 0.014
Test::More 0.88 1.302175
Test::Needs 0 0.002006
warnings 0 1.47
configure_requires:
Module Need Have
-------------------------------------------- ----- --------
Module::Build::Tiny 0.034 0.039
perl 5.008 5.032000
------------------------------
ENVIRONMENT AND OTHER CONTEXT
------------------------------
Environment variables:
AUTOMATED_TESTING = 1
COMSPEC = C:\Windows\system32\cmd.exe
DATE_MANIP_TEST_DM5 = 1
LANG = en_US.UTF-8
LC_ALL = C
NONINTERACTIVE_TESTING = 1
NUMBER_OF_PROCESSORS = 2
PATH = /home/cpan/bin/perl-blead/bin:/home/cpan/bin:/usr/local/bin:/usr/bin:/cygdrive/c/Windows/system32:/cygdrive/c/Windows:/cygdrive/c/Windows/System32/Wbem:/cygdrive/c/Windows/System32/WindowsPowerShell/v1.0:/cygdrive/c/Users/cpan/AppData/Local/Microsoft/WindowsApps
PERL5LIB =
PERL5OPT =
PERL5_CPANPLUS_IS_RUNNING = 49864
PERL5_CPAN_IS_RUNNING = 49864
PERL_MM_USE_DEFAULT = 1
PERL_USE_UNSAFE_INC = 1
PERL_VERSION = blead
PROCESSOR_IDENTIFIER = Intel64 Family 6 Model 69 Stepping 1, GenuineIntel
SHELL = /bin/bash
TEMP = /tmp
TERM = xterm
TMPDIR = /home/cpan/tmp
Perl special variables (and OS-specific diagnostics, for MSWin32):
$^X = /home/cpan/bin/perl-blead/bin/perl5.32.0
$UID/$EUID = 197609 / 197609
$GID = 197121 197121 555 545 4 66049 11 15 113 4095 66048 262154 401408
$EGID = 197121 197121 555 545 4 66049 11 15 113 4095 66048 262154 401408
Perl module toolchain versions installed:
Module Have
------------------- --------
CPAN 2.27
CPAN::Meta 2.150010
Cwd 3.78
ExtUtils::CBuilder 0.280234
ExtUtils::Command 7.44
ExtUtils::Install 2.14
ExtUtils::MakeMaker 7.44
ExtUtils::Manifest 1.72
ExtUtils::ParseXS 3.40
File::Spec 3.78
JSON 4.02
JSON::PP 4.04
Module::Build 0.4231
Module::Signature n/a
Parse::CPAN::Meta 2.150010
Test::Harness 3.42
Test::More 1.302175
YAML 1.30
YAML::Syck 1.32
version 0.9924
--
Summary of my perl5 (revision 5 version 32 subversion 0) configuration:
Commit id: 0cf01644e9e0460386db76c3546d69b15e0806df
Platform:
osname=cygwin
osvers=3.1.5(0.34053)
archname=cygwin-thread-multi
uname='cygwin_nt-10.0 cjg-cygwin 3.1.5(0.34053) 2020-06-01 08:59 x86_64 cygwin '
config_args='-des -Dprefix=~/bin/perl-blead -Dscriptdir=~/bin/perl-blead/bin -Dusedevel -Duse64bitall'
hint=recommended
useposix=true
d_sigaction=define
useithreads=define
usemultiplicity=define
use64bitint=define
use64bitall=define
uselongdouble=undef
usemymalloc=n
default_inc_excludes_dot=define
bincompat5005=undef
Compiler:
cc='gcc'
ccflags ='-DPERL_USE_SAFE_PUTENV -U__STRICT_ANSI__ -D_GNU_SOURCE -fwrapv -fno-strict-aliasing -pipe -fstack-protector-strong -D_FORTIFY_SOURCE=2'
optimize='-O3'
cppflags='-DPERL_USE_SAFE_PUTENV -U__STRICT_ANSI__ -D_GNU_SOURCE -fwrapv -fno-strict-aliasing -pipe -fstack-protector-strong'
ccversion=''
gccversion='9.3.0'
gccosandvers=''
intsize=4
longsize=8
ptrsize=8
doublesize=8
byteorder=12345678
doublekind=3
d_longlong=define
longlongsize=8
d_longdbl=define
longdblsize=16
longdblkind=3
ivtype='long'
ivsize=8
nvtype='double'
nvsize=8
Off_t='off_t'
lseeksize=8
alignbytes=8
prototype=define
Linker and Libraries:
ld='g++'
ldflags =' -Wl,--enable-auto-import -Wl,--export-all-symbols -Wl,--enable-auto-image-base -fstack-protector-strong -L/usr/local/lib'
libpth=/usr/lib /usr/lib/gcc/x86_64-pc-cygwin/9.3.0/../../../../lib/../include/w32api /usr/local/lib /lib
libs=-lpthread -ldl
perllibs=-lpthread -ldl
libc=/usr/lib/libc.a
so=dll
useshrplib=true
libperl=cygperl5_32_0.dll
gnulibc_version=''
Dynamic Linking:
dlsrc=dl_dlopen.xs
dlext=dll
d_dlsymun=undef
ccdlflags=' '
cccdlflags=' '
lddlflags=' --shared -Wl,--enable-auto-import -Wl,--export-all-symbols -Wl,--enable-auto-image-base -L/usr/local/lib -fstack-protector-strong'
Characteristics of this binary (from libperl):
Compile-time options:
HAS_TIMES
MULTIPLICITY
PERLIO_LAYERS
PERL_COPY_ON_WRITE
PERL_DONT_CREATE_GVSV
PERL_IMPLICIT_CONTEXT
PERL_MALLOC_WRAP
PERL_OP_PARENT
PERL_PRESERVE_IVUV
PERL_USE_DEVEL
PERL_USE_SAFE_PUTENV
USE_64_BIT_ALL
USE_64_BIT_INT
USE_ITHREADS
USE_LARGE_FILES
USE_LOCALE
USE_LOCALE_COLLATE
USE_LOCALE_CTYPE
USE_LOCALE_NUMERIC
USE_LOCALE_TIME
USE_PERLIO
USE_PERL_ATOF
USE_REENTRANT_API
USE_THREAD_SAFE_LOCALE
Built under cygwin
Compiled at Jun 26 2020 11:13:05
%ENV:
PERL5LIB=""
PERL5OPT=""
PERL5_CPANPLUS_IS_RUNNING="49864"
PERL5_CPAN_IS_RUNNING="49864"
PERL_MM_USE_DEFAULT="1"
PERL_USE_UNSAFE_INC="1"
PERL_VERSION="blead"
@INC:
/home/cpan/bin/perl-blead/lib/site_perl/5.32.0/cygwin-thread-multi
/home/cpan/bin/perl-blead/lib/site_perl/5.32.0
/home/cpan/bin/perl-blead/lib/5.32.0/cygwin-thread-multi
/home/cpan/bin/perl-blead/lib/5.32.0
.