Data-FormValidator v4.88 Perl 5 v5.39.5 aarch64-freebsd
- Status
- Pass
- From
- Slaven Rezić
- Dist
-
Data-FormValidator v4.88
- Platform
- Perl 5 v5.39.5 aarch64-freebsd
- Date
- 2023-12-28 21:25:50
- ID
- ac6b0576-a5c7-11ee-9722-8dfc6d8775ea
This distribution has been tested as part of the CPAN Testers
project, supporting the Perl programming language. See
http://wiki.cpantesters.org/ for more information or email
questions to cpan-testers-discuss@perl.org
--
Dear David Farrell,
This is a computer-generated report for Data-FormValidator-4.88
on perl 5.39.5, created by CPAN-Reporter-1.2019.
Thank you for uploading your work to CPAN. Congratulations!
All tests were successful.
Sections of this report:
* Tester comments
* Program output
* Prerequisites
* Environment and other context
------------------------------
TESTER COMMENTS
------------------------------
Additional comments from tester:
none provided
------------------------------
PROGRAM OUTPUT
------------------------------
Output from '/usr/bin/make test':
PERL_DL_NONLAZY=1 "/usr/perl5.39.5/bin/perl5.39.5" "-MExtUtils::Command::MM" "-MTest::Harness" "-e" "undef *Test::Harness::Switches; test_harness(0, 'blib/lib', 'blib/arch')" t/*.t
t/00_base.t .............................. ok
t/02_code_ref.t .......................... ok
t/03_dependency.t ........................ ok
t/04_arrayify_undef.t .................... ok
t/05_valid_ip_address.t .................. ok
t/06_regexp_map.t ........................ ok
t/09_require_some.t ...................... ok
t/11_procedural_match.t .................. ok
t/13_validator_packages.t ................ ok
t/15_literal_param_constraints.t ......... ok
t/16_cgi_object.t ........................ ok
t/17_multi_valued_keys.t ................. ok
t/18_constraint_refs.t ................... ok
t/19_refs_as_values.t .................... ok
t/20_careful_exception_handling.t ........ ok
t/21_multiple_fields.t ................... ok
t/25_results.t ........................... ok
t/26_qr.t ................................ ok
t/27_qualify_ref_happy_death.t ........... ok
t/28_defaults_for_new.t .................. ok
t/30_filter_definedness.t ................ ok
t/any_errors.t ........................... ok
t/check_profile_syntax.t ................. ok
t/closure_msgs.t ......................... ok
t/constraint_method.t .................... ok
t/constraint_method_string.t ............. ok
t/constraint_method_zero.t ............... ok
t/constraint_regexp_map_profile_reuse.t .. ok
t/constraints_builtin.t .................. ok
t/constraints_builtin_closure.t .......... ok
t/constraints_factory.t .................. ok
t/constraints_invalid_once_only.t ........ ok
t/constraints_num_values.t ............... ok
t/constraints_regexp_map_interaction.t ... ok
t/constraints_reuse.t .................... ok
t/credit_card.t .......................... ok
t/dates.t ................................ ok
t/dates_closure.t ........................ ok
t/dependency_coderef.t ................... ok
t/dependency_groups.t .................... ok
t/filter_constraints.t ................... ok
t/filters_builtin.t ...................... ok
t/filters_shouldnt_modify.t .............. ok
t/FV_length.t ............................ ok
t/get_filtered_data.t .................... ok
t/get_input_data.t ....................... ok
t/missing_optional.t ..................... ok
t/msgs.t ................................. ok
t/multiple_constraints.t ................. ok
t/params_not_mentioned.t ................. ok
t/pod.t .................................. ok
t/procedural_valid.t ..................... ok
t/profile_checking.t ..................... ok
t/regexp_common.t ........................ ok
t/regexp_common_closure.t ................ ok
t/rename_builtin_constraints.t ........... ok
t/results_success.t ...................... ok
t/simple.t ............................... ok
t/tt_and_overload.t ...................... ok
t/undefined_arrayref.t ................... ok
t/unknown.t .............................. ok
t/untaint.t .............................. ok
# Skipping CGI::Simple Tests
# testing with CGI.pm version: 4.60
# Running tests with CGI
t/upload.t ............................... ok
# testing with CGI.pm version: 4.60
t/upload_closure.t ....................... ok
t/upload_mime_types.t .................... ok
All tests successful.
Files=65, Tests=606, 7 wallclock secs ( 0.14 usr 0.19 sys + 4.77 cusr 1.16 csys = 6.26 CPU)
Result: PASS
------------------------------
PREREQUISITES
------------------------------
Prerequisite modules loaded:
requires:
Module Need Have
------------------- ----- ----------
Date::Calc 5 6.4
Email::Valid 0 1.203
File::MMagic 1.17 1.30
File::Spec 0 3.90
Image::Size 0 3.300
MIME::Types 1.005 2.24
perl 5.008 5.039005
Regexp::Common 0.03 2017060201
Scalar::Util 0 1.63
Test::More 0 1.302195
build_requires:
Module Need Have
------------------- ----- ----------
ExtUtils::MakeMaker 0 7.70
configure_requires:
Module Need Have
------------------- ----- ----------
ExtUtils::MakeMaker 0 7.70
------------------------------
ENVIRONMENT AND OTHER CONTEXT
------------------------------
Environment variables:
LANG = C.UTF-8
PATH = /usr/local/bin:/usr/bin:/bin:/usr/local/sbin:/usr/sbin:/sbin:/home/cpansand/bin/freebsd14.0:/home/cpansand/bin/sh:/home/cpansand/bin:/usr/games:/home/cpansand/devel:/home/eserte/src/srezic-misc/scripts
PERL5LIB = /home/cpansand/.cpan/build/2023122820/Image-Size-3.300-3/blib/arch:/home/cpansand/.cpan/build/2023122820/Image-Size-3.300-3/blib/lib:/home/cpansand/.cpan/build/2023122820/File-MMagic-1.30-3/blib/arch:/home/cpansand/.cpan/build/2023122820/File-MMagic-1.30-3/blib/lib:/home/cpansand/.cpan/build/2023122820/Email-Valid-1.203-3/blib/arch:/home/cpansand/.cpan/build/2023122820/Email-Valid-1.203-3/blib/lib:/home/cpansand/.cpan/build/2023122820/Date-Calc-6.4-3/blib/arch:/home/cpansand/.cpan/build/2023122820/Date-Calc-6.4-3/blib/lib:/home/cpansand/.cpan/build/2023122820/Bit-Vector-7.4-2/blib/arch:/home/cpansand/.cpan/build/2023122820/Bit-Vector-7.4-2/blib/lib
PERL5OPT =
PERL5_CPANPLUS_IS_RUNNING = 21699
PERL5_CPAN_IS_RUNNING = 21699
PERL5_CPAN_IS_RUNNING_IN_RECURSION = 15826,21699
PERLDOC = -MPod::Perldoc::ToTextOverstrike
PERL_BATCH = yes
PERL_CANARY_STABILITY_NOPROMPT = 1
PERL_CPAN_REPORTER_CONFIG = /var/tmp/cpansmoker-1023/2023122820/cpanreporter_002_config.ini
PERL_EXTUTILS_AUTOINSTALL = --defaultdeps
PERL_USE_UNSAFE_INC = 1
SHELL = /usr/local/bin/zsh
TERM = screen
TMPDIR = /var/tmp/cpansmoker-1023/2023122820
Perl special variables (and OS-specific diagnostics, for MSWin32):
$^X = /usr/perl5.39.5/bin/perl5.39.5
$UID/$EUID = 1023 / 1023
$GID = 1023 1023
$EGID = 1023 1023
Perl module toolchain versions installed:
Module Have
------------------- --------
CPAN 2.36
CPAN::Meta 2.150010
Cwd 3.90
ExtUtils::CBuilder 0.280240
ExtUtils::Command 7.70
ExtUtils::Install 2.22
ExtUtils::MakeMaker 7.70
ExtUtils::Manifest 1.75
ExtUtils::ParseXS 3.51
File::Spec 3.90
JSON 4.10
JSON::PP 4.16
Module::Build 0.4234
Module::Signature 0.88
Parse::CPAN::Meta 2.150010
Test2 1.302195
Test::Harness 3.48
Test::More 1.302195
YAML 1.30
YAML::Syck 1.34
version 0.9930
--
Summary of my perl5 (revision 5 version 39 subversion 5) configuration:
Platform:
osname=freebsd
osvers=14.0-stable
archname=aarch64-freebsd
uname='freebsd cloud9.bbbike.org 14.0-stable freebsd 14.0-stable #0 stable14-ac83f3fa4: mon dec 25 18:44:17 utc 2023 root@cloud9.bbbike.org:usrobjhomeprojectsfreebsd-srcarm64.aarch64sysgeneric arm64 '
config_args='-ds -e -Dprefix=/usr/perl5.39.5 -Dusedevel -Dusemallocwrap=no -Dcf_email=srezic@cpan.org -Doptimize=-O2 -pipe'
hint=recommended
useposix=true
d_sigaction=define
useithreads=undef
usemultiplicity=undef
use64bitint=define
use64bitall=define
uselongdouble=undef
usemymalloc=n
default_inc_excludes_dot=define
Compiler:
cc='cc'
ccflags ='-DHAS_FPSETMASK -DHAS_FLOATINGPOINT_H -DNO_POSIX_2008_LOCALE -fno-strict-aliasing -pipe -fstack-protector-strong -I/usr/local/include'
optimize='-O2 -pipe'
cppflags='-DHAS_FPSETMASK -DHAS_FLOATINGPOINT_H -DNO_POSIX_2008_LOCALE -fno-strict-aliasing -pipe -fstack-protector-strong -I/usr/local/include'
ccversion=''
gccversion='FreeBSD Clang 16.0.6 (https://github.com/llvm/llvm-project.git llvmorg-16.0.6-0-g7cbf1a259152)'
gccosandvers=''
intsize=4
longsize=8
ptrsize=8
doublesize=8
byteorder=12345678
doublekind=3
d_longlong=define
longlongsize=8
d_longdbl=define
longdblsize=16
longdblkind=1
ivtype='long'
ivsize=8
nvtype='double'
nvsize=8
Off_t='off_t'
lseeksize=8
alignbytes=8
prototype=define
Linker and Libraries:
ld='cc'
ldflags ='-Wl,-E -fstack-protector-strong -L/usr/local/lib'
libpth=/usr/lib /usr/local/lib /usr/lib/clang/16/lib
libs=-lpthread -lgdbm -ldl -lm -lcrypt -lutil -lc
perllibs=-lpthread -ldl -lm -lcrypt -lutil -lc
libc=
so=so
useshrplib=false
libperl=libperl.a
gnulibc_version=''
Dynamic Linking:
dlsrc=dl_dlopen.xs
dlext=so
d_dlsymun=undef
ccdlflags=' '
cccdlflags='-DPIC -fPIC'
lddlflags='-shared -L/usr/local/lib -fstack-protector-strong'
Characteristics of this binary (from libperl):
Compile-time options:
HAS_LONG_DOUBLE
HAS_STRTOLD
HAS_TIMES
PERLIO_LAYERS
PERL_COPY_ON_WRITE
PERL_DONT_CREATE_GVSV
PERL_HASH_FUNC_SIPHASH13
PERL_HASH_USE_SBOX32
PERL_OP_PARENT
PERL_PRESERVE_IVUV
PERL_USE_DEVEL
PERL_USE_SAFE_PUTENV
USE_64_BIT_ALL
USE_64_BIT_INT
USE_LARGE_FILES
USE_LOCALE
USE_LOCALE_COLLATE
USE_LOCALE_CTYPE
USE_LOCALE_NUMERIC
USE_LOCALE_TIME
USE_PERLIO
USE_PERL_ATOF
Built under freebsd
Compiled at Dec 26 2023 16:17:54
%ENV:
PERL5LIB="/home/cpansand/.cpan/build/2023122820/Image-Size-3.300-3/blib/arch:/home/cpansand/.cpan/build/2023122820/Image-Size-3.300-3/blib/lib:/home/cpansand/.cpan/build/2023122820/File-MMagic-1.30-3/blib/arch:/home/cpansand/.cpan/build/2023122820/File-MMagic-1.30-3/blib/lib:/home/cpansand/.cpan/build/2023122820/Email-Valid-1.203-3/blib/arch:/home/cpansand/.cpan/build/2023122820/Email-Valid-1.203-3/blib/lib:/home/cpansand/.cpan/build/2023122820/Date-Calc-6.4-3/blib/arch:/home/cpansand/.cpan/build/2023122820/Date-Calc-6.4-3/blib/lib:/home/cpansand/.cpan/build/2023122820/Bit-Vector-7.4-2/blib/arch:/home/cpansand/.cpan/build/2023122820/Bit-Vector-7.4-2/blib/lib"
PERL5OPT=""
PERL5_CPANPLUS_IS_RUNNING="21699"
PERL5_CPAN_IS_RUNNING="21699"
PERL5_CPAN_IS_RUNNING_IN_RECURSION="15826,21699"
PERLDOC="-MPod::Perldoc::ToTextOverstrike"
PERL_BATCH="yes"
PERL_CANARY_STABILITY_NOPROMPT="1"
PERL_CPAN_REPORTER_CONFIG="/var/tmp/cpansmoker-1023/2023122820/cpanreporter_002_config.ini"
PERL_EXTUTILS_AUTOINSTALL="--defaultdeps"
PERL_USE_UNSAFE_INC="1"
@INC:
/home/cpansand/.cpan/build/2023122820/Image-Size-3.300-3/blib/arch
/home/cpansand/.cpan/build/2023122820/Image-Size-3.300-3/blib/lib
/home/cpansand/.cpan/build/2023122820/File-MMagic-1.30-3/blib/arch
/home/cpansand/.cpan/build/2023122820/File-MMagic-1.30-3/blib/lib
/home/cpansand/.cpan/build/2023122820/Email-Valid-1.203-3/blib/arch
/home/cpansand/.cpan/build/2023122820/Email-Valid-1.203-3/blib/lib
/home/cpansand/.cpan/build/2023122820/Date-Calc-6.4-3/blib/arch
/home/cpansand/.cpan/build/2023122820/Date-Calc-6.4-3/blib/lib
/home/cpansand/.cpan/build/2023122820/Bit-Vector-7.4-2/blib/arch
/home/cpansand/.cpan/build/2023122820/Bit-Vector-7.4-2/blib/lib
/usr/perl5.39.5/lib/site_perl/5.39.5/aarch64-freebsd
/usr/perl5.39.5/lib/site_perl/5.39.5
/usr/perl5.39.5/lib/5.39.5/aarch64-freebsd
/usr/perl5.39.5/lib/5.39.5
.