Report for Win32-GUI-1.14

Back
From: metabase:user:616312fa-6cf7-1014-9929-57b4416a2910
Subject: PASS Win32-GUI-1.14 v5.22.2 
Date: 2017-06-03T00:13:59Z

This distribution has been tested as part of the CPAN Testers
project, supporting the Perl programming language.  See
http://wiki.cpantesters.org/ for more information or email
questions to cpan-testers-discuss@perl.org


--
Dear kmx,

This is a computer-generated report for Win32-GUI-1.14
on perl 5.22.2, created by CPAN-Reporter-1.2018.

Thank you for uploading your work to CPAN.  Congratulations!
All tests were successful.

Sections of this report:

    * Tester comments
    * Program output
    * Prerequisites
    * Environment and other context

------------------------------
TESTER COMMENTS
------------------------------

Additional comments from tester:

none provided

------------------------------
PROGRAM OUTPUT
------------------------------

Output from 'C:\Strawberry\c\bin\dmake.exe test':

"C:\Strawberry\perl\bin\perl.exe" -MExtUtils::Command::MM -e cp_nonempty -- GUI.bs blib\arch\auto\Win32\GUI\GUI.bs 644
"C:\Strawberry\perl\bin\perl.exe" -MExtUtils::Command::MM -e cp_nonempty -- Constants.bs ..\blib\arch\auto\Win32\GUI\Constants\Constants.bs 644
"C:\Strawberry\perl\bin\perl.exe" "C:\Strawberry\perl\lib\ExtUtils\xsubpp"  -typemap C:\Strawberry\perl\lib\ExtUtils\typemap  Constants.xs > Constants.xsc
"C:\Strawberry\perl\bin\perl.exe" -MExtUtils::Command -e mv -- Constants.xsc Constants.c
gcc -c   	-s -O2 -DWIN32  -DPERL_TEXTMODE_SCRIPTS -DPERL_IMPLICIT_CONTEXT -DPERL_IMPLICIT_SYS -fwrapv -fno-strict-aliasing -mms-bitfields -Wno-write-strings -s -O2 	  -DVERSION=\"0.04\" 	-DXS_VERSION=\"0.04\"  "-IC:\Strawberry\perl\lib\CORE"   Constants.c
g++ Constants.def -o ..\blib\arch\auto\Win32\GUI\Constants\Constants.xs.dll -mdll -s -L"C:\Strawberry\perl\lib\CORE" -L"C:\Strawberry\c\lib" Constants.o Constants.res   "C:\Strawberry\perl\lib\CORE\libperl522.a" -lmoldname -lkernel32 -luser32 -lgdi32 -lwinspool -lcomdlg32 -ladvapi32 -lshell32 -lole32 -loleaut32 -lnetapi32 -luuid -lws2_32 -lmpr -lwinmm -lversion -lodbc32 -lodbccp32 -lcomctl32 -Wl,--enable-auto-image-base
"C:\Strawberry\perl\bin\perl.exe" -MExtUtils::Command -e chmod -- 755 ..\blib\arch\auto\Win32\GUI\Constants\Constants.xs.dll
dmake:  Warning: -- Found file corresponding to virtual target [phash.def].
"C:\Strawberry\perl\bin\perl.exe" -MExtUtils::Command::MM -e cp_nonempty -- DropFiles.bs ..\blib\arch\auto\Win32\GUI\DropFiles\DropFiles.bs 644
"C:\Strawberry\perl\bin\perl.exe" -MExtUtils::Command::MM -e cp_nonempty -- Scintilla.bs ..\blib\arch\auto\Win32\GUI\Scintilla\Scintilla.bs 644
"C:\Strawberry\perl\bin\perl.exe" "-MExtUtils::Command::MM" "-MTest::Harness" "-e" "undef *Test::Harness::Switches; test_harness(0, '..\blib\lib', '..\blib\arch')" t/*.t
t/01_load.t .......... ok
t/02_public_api.t .... ok
t/03_inline.t ........ ok
t/04_new.t ........... ok
t/05_newCursor.t ..... ok
t/06_newIcon.t ....... ok
t/98_pod.t ........... skipped: set TEST_POD to enable this test
t/99_pod_coverage.t .. skipped: Test::Pod::Coverage 1.04 required for testing POD coverage
All tests successful.
Files=8, Tests=30,  3 wallclock secs ( 0.11 usr +  0.11 sys =  0.22 CPU)
Result: PASS
"C:\Strawberry\perl\bin\perl.exe" -MExtUtils::Command::MM -e cp_nonempty -- Constants.bs ..\blib\arch\auto\Win32\GUI\Constants\Constants.bs 644
"C:\Strawberry\perl\bin\perl.exe" "C:\Strawberry\perl\lib\ExtUtils\xsubpp"  -typemap C:\Strawberry\perl\lib\ExtUtils\typemap  Constants.xs > Constants.xsc
"C:\Strawberry\perl\bin\perl.exe" -MExtUtils::Command -e mv -- Constants.xsc Constants.c
gcc -c   	-s -O2 -DWIN32  -DPERL_TEXTMODE_SCRIPTS -DPERL_IMPLICIT_CONTEXT -DPERL_IMPLICIT_SYS -fwrapv -fno-strict-aliasing -mms-bitfields -Wno-write-strings -s -O2 	  -DVERSION=\"0.04\" 	-DXS_VERSION=\"0.04\"  "-IC:\Strawberry\perl\lib\CORE"   Constants.c
g++ Constants.def -o ..\blib\arch\auto\Win32\GUI\Constants\Constants.xs.dll -mdll -s -L"C:\Strawberry\perl\lib\CORE" -L"C:\Strawberry\c\lib" Constants.o Constants.res   "C:\Strawberry\perl\lib\CORE\libperl522.a" -lmoldname -lkernel32 -luser32 -lgdi32 -lwinspool -lcomdlg32 -ladvapi32 -lshell32 -lole32 -loleaut32 -lnetapi32 -luuid -lws2_32 -lmpr -lwinmm -lversion -lodbc32 -lodbccp32 -lcomctl32 -Wl,--enable-auto-image-base
"C:\Strawberry\perl\bin\perl.exe" -MExtUtils::Command -e chmod -- 755 ..\blib\arch\auto\Win32\GUI\Constants\Constants.xs.dll
"C:\Strawberry\perl\bin\perl.exe" "-MExtUtils::Command::MM" "-MTest::Harness" "-e" "undef *Test::Harness::Switches; test_harness(0, '..\blib\lib', '..\blib\arch')" t/*.t
t/01_load.t .......................... ok
t/02_default.t ....................... ok
t/03_inline.t ........................ ok
t/04_noexport.t ...................... ok
t/05_export_byname.t ................. ok
t/06_export_bytag.t .................. ok
t/07_nothing.t ....................... ok
t/08_exportpkg.t ..................... ok
t/09_autoload.t ...................... ok
t/10_inherit.t ....................... ok
t/50_tags_compatability_win32_gui.t .. ok
t/51_tags_all.t ...................... ok
t/52_tags.t .......................... ok
t/70_values.t ........................ ok
t/71_invalid_values.t ................ ok
t/97_Version.t ....................... ok
t/98_pod.t ........................... skipped: set TEST_POD to enable this test
t/99_pod_coverage.t .................. skipped: Test::Pod::Coverage 1.04 required for testing POD coverage
All tests successful.
Files=18, Tests=2182,  9 wallclock secs ( 0.50 usr +  0.17 sys =  0.67 CPU)
Result: PASS
dmake:  Warning: -- Found file corresponding to virtual target [phash.def].
"C:\Strawberry\perl\bin\perl.exe" -MExtUtils::Command::MM -e cp_nonempty -- DropFiles.bs ..\blib\arch\auto\Win32\GUI\DropFiles\DropFiles.bs 644
"C:\Strawberry\perl\bin\perl.exe" "-MExtUtils::Command::MM" "-MTest::Harness" "-e" "undef *Test::Harness::Switches; test_harness(0, '..\blib\lib', '..\blib\arch')" t/*.t
t/01_load.t ............. ok
t/02_old_callback.t ..... ok
t/03_new_callback.t ..... ok
t/04_GetDroppedFiles.t .. ok
t/05_GetDroppedFile.t ... ok
t/06_GetDropPos.t ....... ok
t/07_DragQueryFile.t .... ok
t/08_DragQueryPoint.t ... ok
t/09_DragFinish.t ....... ok
t/10_Unicode.t .......... skipped: Unicode::String required for testing Unicode Support
t/11_invalid_handles.t .. ok
t/97_Version.t .......... ok
t/98_pod.t .............. skipped: set TEST_POD to enable this test
t/99_pod_coverage.t ..... skipped: Test::Pod::Coverage 1.04 required for testing POD coverage
All tests successful.
Files=14, Tests=112,  5 wallclock secs ( 0.20 usr +  0.09 sys =  0.30 CPU)
Result: PASS
"C:\Strawberry\perl\bin\perl.exe" "-MExtUtils::Command::MM" "-MTest::Harness" "-e" "undef *Test::Harness::Switches; test_harness(0, '..\blib\lib', '..\blib\arch')" t/*.t
t/98_pod.t .. skipped: set TEST_POD to enable this test
Files=1, Tests=0,  0 wallclock secs ( 0.08 usr +  0.06 sys =  0.14 CPU)
Result: NOTESTS
"C:\Strawberry\perl\bin\perl.exe" -MExtUtils::Command::MM -e cp_nonempty -- Scintilla.bs ..\blib\arch\auto\Win32\GUI\Scintilla\Scintilla.bs 644
"C:\Strawberry\perl\bin\perl.exe" "-MExtUtils::Command::MM" "-MTest::Harness" "-e" "undef *Test::Harness::Switches; test_harness(0, '..\blib\lib', '..\blib\arch')" t/*.t
t/01_load.t .......... ok
t/02_new.t ........... ok
t/03_LoadFile.t ...... ok
t/55_crash.t ......... ok
t/97_Version.t ....... ok
t/98_pod.t ........... skipped: set TEST_POD to enable this test
t/99_pod_coverage.t .. skipped: Test::Pod::Coverage 1.04 required for testing POD coverage
All tests successful.
Files=7, Tests=19,  3 wallclock secs ( 0.12 usr +  0.09 sys =  0.22 CPU)
Result: PASS
"C:\Strawberry\perl\bin\perl.exe" "-MExtUtils::Command::MM" "-MTest::Harness" "-e" "undef *Test::Harness::Switches; test_harness(0, 'blib\lib', 'blib\arch')" t/*.t
t/01_basic.t ....................... ok
Use of uninitialized value in subroutine entry at t/02_background.t line 85.
t/02_background.t .................. ok
t/02_constants.t ................... ok
t/02_window.t ...................... ok
t/03_button.t ...................... ok
t/04_cov.t ......................... ok
t/05_AcceleratorTable.t ............ ok
t/05_Menu.t ........................ ok
t/05_NotifyIcon_01_Constructor.t ... ok
t/05_NotifyIcon_02_Change.t ........ ok
t/05_NotifyIcon_03_OtherMethods.t .. ok
t/05_NotifyIcon_04_Remove.t ........ ok
t/05_NotifyIcon_05_DESTROY.t ....... ok
t/05_Timer_01_OEM.t ................ ok
t/05_Timer_02_NEM.t ................ ok
t/05_Timer_03_Interval.t ........... ok
t/05_Timer_04_Kill.t ............... ok
t/05_Timer_05_DESTROY.t ............ ok
t/06_Cursor.t ...................... ok
t/06_Icon.t ........................ ok
t/50_Font_GetMetrics.t ............. ok
t/50_Richedit_GetCharFormat.t ...... ok
t/97_Version.t ..................... ok
t/98_Pod.t ......................... skipped: set TEST_POD to enable this test
t/99_pod_coverage.t ................ skipped: Test::Pod::Coverage 1.04 required for testing POD coverage
All tests successful.
Files=25, Tests=335, 16 wallclock secs ( 0.36 usr +  0.17 sys =  0.53 CPU)
Result: PASS

------------------------------
PREREQUISITES
------------------------------

Prerequisite modules loaded:

requires:

    Module              Need Have    
    ------------------- ---- --------
    Test::More          0    1.302085

build_requires:

    Module              Need Have    
    ------------------- ---- --------
    ExtUtils::MakeMaker 0    7.29_01 

configure_requires:

    Module              Need Have    
    ------------------- ---- --------
    ExtUtils::MakeMaker 0    7.29_01 


------------------------------
ENVIRONMENT AND OTHER CONTEXT
------------------------------

Environment variables:

    COMSPEC = C:\windows\system32\cmd.exe
    NONINTERACTIVE_TESTING = 1
    NUMBER_OF_PROCESSORS = 4
    PATH = C:\home\wind\perl5\bin;C:\windows\system32;C:\windows;C:\windows\System32\Wbem;C:\windows\System32\WindowsPowerShell\v1.0\;C:\Strawberry\c\bin;C:\Strawberry\perl\site\bin;C:\Strawberry\perl\bin
    PERL5LIB = C:\home\wind\perl5\lib\perl5
    PERL5OPT = 
    PERL5_CPANPLUS_IS_RUNNING = 4852
    PERL5_CPAN_IS_RUNNING = 4852
    PERL_LOCAL_LIB_ROOT = C:\home\wind\perl5
    PERL_MB_OPT = --install_base "C:\\home\\wind\\perl5"
    PERL_MM_OPT = INSTALL_BASE=C:\\home\\wind\\perl5
    PERL_MM_USE_DEFAULT = 1
    PROCESSOR_IDENTIFIER = x86 Family 6 Model 37 Stepping 5, GenuineIntel
    TEMP = C:\Users\user\AppData\Local\Temp
    TERM = dumb

Perl special variables (and OS-specific diagnostics, for MSWin32):

    $^X = C:\Strawberry\perl\bin\perl.exe
    $UID/$EUID = 0 / 0
    $GID = 0
    $EGID = 0
    Win32::GetOSName = Win7
    Win32::GetOSVersion = Service Pack 1, 6, 1, 7601, 2, 1, 0, 256, 1
    Win32::FsType = NTFS
    Win32::IsAdminUser = 0

Perl module toolchain versions installed:

    Module              Have    
    ------------------- --------
    CPAN                2.16    
    CPAN::Meta          2.150010
    Cwd                 3.62    
    ExtUtils::CBuilder  0.280224
    ExtUtils::Command   7.29_01 
    ExtUtils::Install   2.14    
    ExtUtils::MakeMaker 7.29_01 
    ExtUtils::Manifest  1.70    
    ExtUtils::ParseXS   3.30    
    File::Spec          3.62    
    JSON                2.94    
    JSON::PP            2.94    
    Module::Build       0.4218  
    Module::Signature   n/a     
    Parse::CPAN::Meta   2.150010
    Test::Harness       3.36    
    Test::More          1.302085
    YAML                1.15    
    YAML::Syck          1.29    
    version             0.9916  


--

Summary of my perl5 (revision 5 version 22 subversion 2) configuration:
   
  Platform:
    osname=MSWin32, osvers=6.3, archname=MSWin32-x86-multi-thread-64int
    uname='Win32 strawberry-perl 5.22.2.1 #1 Sat Apr 30 11:51:13 2016 i386'
    config_args='undef'
    hint=recommended, useposix=true, d_sigaction=undef
    useithreads=define, usemultiplicity=define
    use64bitint=define, use64bitall=undef, uselongdouble=undef
    usemymalloc=n, bincompat5005=undef
  Compiler:
    cc='gcc', ccflags =' -s -O2 -DWIN32  -DPERL_TEXTMODE_SCRIPTS -DPERL_IMPLICIT_CONTEXT -DPERL_IMPLICIT_SYS -fwrapv -fno-strict-aliasing -mms-bitfields',
    optimize='-s -O2',
    cppflags='-DWIN32'
    ccversion='', gccversion='4.9.2', gccosandvers=''
    intsize=4, longsize=4, ptrsize=4, doublesize=8, byteorder=12345678, doublekind=3
    d_longlong=define, longlongsize=8, d_longdbl=define, longdblsize=12, longdblkind=3
    ivtype='long long', ivsize=8, nvtype='double', nvsize=8, Off_t='long long', lseeksize=8
    alignbytes=8, prototype=define
  Linker and Libraries:
    ld='g++', ldflags ='-s -L"C:\Strawberry\perl\lib\CORE" -L"C:\Strawberry\c\lib"'
    libpth=C:\Strawberry\c\lib C:\Strawberry\c\i686-w64-mingw32\lib C:\Strawberry\c\lib\gcc\i686-w64-mingw32\4.9.2
    libs=-lmoldname -lkernel32 -luser32 -lgdi32 -lwinspool -lcomdlg32 -ladvapi32 -lshell32 -lole32 -loleaut32 -lnetapi32 -luuid -lws2_32 -lmpr -lwinmm -lversion -lodbc32 -lodbccp32 -lcomctl32
    perllibs=-lmoldname -lkernel32 -luser32 -lgdi32 -lwinspool -lcomdlg32 -ladvapi32 -lshell32 -lole32 -loleaut32 -lnetapi32 -luuid -lws2_32 -lmpr -lwinmm -lversion -lodbc32 -lodbccp32 -lcomctl32
    libc=, so=dll, useshrplib=true, libperl=libperl522.a
    gnulibc_version=''
  Dynamic Linking:
    dlsrc=dl_win32.xs, dlext=xs.dll, d_dlsymun=undef, ccdlflags=' '
    cccdlflags=' ', lddlflags='-mdll -s -L"C:\Strawberry\perl\lib\CORE" -L"C:\Strawberry\c\lib"'


Characteristics of this binary (from libperl): 
  Compile-time options: HAS_TIMES HAVE_INTERP_INTERN MULTIPLICITY
                        PERLIO_LAYERS PERL_DONT_CREATE_GVSV
                        PERL_HASH_FUNC_ONE_AT_A_TIME_HARD
                        PERL_IMPLICIT_CONTEXT PERL_IMPLICIT_SYS
                        PERL_MALLOC_WRAP PERL_NEW_COPY_ON_WRITE
                        PERL_PRESERVE_IVUV USE_64_BIT_INT USE_ITHREADS
                        USE_LARGE_FILES USE_LOCALE USE_LOCALE_COLLATE
                        USE_LOCALE_CTYPE USE_LOCALE_NUMERIC USE_LOCALE_TIME
                        USE_PERLIO USE_PERL_ATOF
  Built under MSWin32
  Compiled at Apr 30 2016 11:56:07
  %ENV:
    PERL5LIB="C:\home\wind\perl5\lib\perl5"
    PERL5_CPANPLUS_IS_RUNNING="4852"
    PERL5_CPAN_IS_RUNNING="4852"
    PERL_LOCAL_LIB_ROOT="C:\home\wind\perl5"
    PERL_MB_OPT="--install_base "C:\\home\\wind\\perl5""
    PERL_MM_OPT="INSTALL_BASE=C:\\home\\wind\\perl5"
    PERL_MM_USE_DEFAULT="1"
  @INC:
    C:\home\wind\perl5\lib\perl5/MSWin32-x86-multi-thread-64int
    C:\home\wind\perl5\lib\perl5
    C:/Strawberry/perl/site/lib
    C:/Strawberry/perl/vendor/lib
    C:/Strawberry/perl/lib
    .