Catalyst-View-Email v0.36 Perl 5 v5.41.7 darwin-2level
- Status
- Pass
- From
- John SJ Anderson
- Dist
-
Catalyst-View-Email v0.36
- Platform
- Perl 5 v5.41.7 darwin-2level
- Date
- 2024-12-20 20:47:48
- ID
- ac6e105c-bf13-11ef-922f-962f8530b8aa
This distribution has been tested as part of the CPAN Testers
project, supporting the Perl programming language. See
http://wiki.cpantesters.org/ for more information or email
questions to cpan-testers-discuss@perl.org
--
Dear DHOSS,
This is a computer-generated report for Catalyst-View-Email-0.36
on perl 5.41.7, created by App::cpanminus::reporter 0.22 (1.7048).
Thank you for uploading your work to CPAN. Congratulations!
All tests were successful.
Sections of this report:
* Tester comments
* Program output
* Prerequisites
* Environment and other context
------------------------------
TESTER COMMENTS
------------------------------
Additional comments from tester:
none provided
------------------------------
PROGRAM OUTPUT
------------------------------
Output from '':
Building and testing Catalyst-View-Email-0.36
cp lib/Catalyst/View/Email/Template.pm blib/lib/Catalyst/View/Email/Template.pm
cp lib/Catalyst/Helper/View/Email.pm blib/lib/Catalyst/Helper/View/Email.pm
cp lib/Catalyst/View/Email.pm blib/lib/Catalyst/View/Email.pm
cp lib/Catalyst/Helper/View/Email/Template.pm blib/lib/Catalyst/Helper/View/Email/Template.pm
PERL_DL_NONLAZY=1 "/opt/plenv/versions/5.41.7/bin/perl5.41.7" "-MExtUtils::Command::MM" "-MTest::Harness" "-e" "undef *Test::Harness::Switches; test_harness(0, 'inc', 'blib/lib', 'blib/arch')" t/01use.t t/02pod.t t/04basic.t t/05template.t t/06config.t t/07mason.t
Attempt to call undefined import method with arguments ("Catalyst::View::Email::Template") via package "Catalyst::View::Email" (Perhaps you forgot to load the package?) at t/01use.t line 3.
t/01use.t ....... ok
t/02pod.t ....... skipped: set TEST_POD to enable this test
require TestApp::View::TT was successful but the package is not defined. at /opt/plenv/versions/5.41.7/lib/perl5/site_perl/5.41.7/Catalyst/Utils.pm line 316.
require TestApp::View::Mason was successful but the package is not defined. at /opt/plenv/versions/5.41.7/lib/perl5/site_perl/5.41.7/Catalyst/Utils.pm line 316.
t/04basic.t ..... ok
t/05template.t .. skipped: Test requires module 'Catalyst::View::TT' but it's not found
t/06config.t .... skipped: Test requires module 'Catalyst::View::TT' but it's not found
t/07mason.t ..... skipped: Test requires module 'Catalyst::View::Mason' but it's not found
All tests successful.
Files=6, Tests=6, 2 wallclock secs ( 0.03 usr 0.02 sys + 1.32 cusr 0.21 csys = 1.58 CPU)
Result: PASS
------------------------------
PREREQUISITES
------------------------------
Prerequisite modules loaded:
runtime:
Module Need Have
--------------------- -------- --------
Authen::SASL 2.13 2.1700
Catalyst 5.7 5.90132
Email::MIME 1.859 1.954
Email::MIME::Creator 1.455 1.954
Email::Sender::Simple 0.100110 2.601
MIME::Base64 3.08 3.16_01
Module::Runtime 0.014 0.016
Moose 0.93 2.2207
parent 0.223 0.244
Test::More 0.88 1.302204
Test::Requires 0 0.11
build:
Module Need Have
--------------------- -------- --------
ExtUtils::MakeMaker 6.36 7.70
Test::More 0 1.302204
Test::Requires 0 0.11
configure:
Module Need Have
--------------------- -------- --------
ExtUtils::MakeMaker 0 7.70
------------------------------
ENVIRONMENT AND OTHER CONTEXT
------------------------------
Environment variables:
LANG = en_US.UTF-8
LC_ALL = en_US.UTF-8
LC_TERMINAL = iTerm2
LC_TERMINAL_VERSION = 3.5.10
PATH = /opt/plenv/versions/5.41.7/bin:/opt/plenv/libexec:/opt/plenv/plugins/Perl-Build/bin:/opt/rbenv/shims:/opt/nextstrain:/Users/genehack/bin:/opt/plenv/shims:/opt/plenv/bin:/opt/git/bin:/opt/local/bin:/usr/local/bin:/usr/local/sbin:/usr/bin:/bin:/usr/sbin:/sbin:/opt/rust/cargo/bin:/usr/local/opt/fzf/bin/
PERL_CPANM_OPT = --skip-installed --prompt
SHELL = /bin/zsh
TERM = screen-256color
TMPDIR = /var/folders/91/jjmr4sms7fz9s27f3_9glhb80000gn/T/
Perl special variables (and OS-specific diagnostics, for MSWin32):
EGID = 20 20 12 61 79 80 81 98 701 33 100 204 250 395 398 399 400
EUID = 501
EXECUTABLE_NAME = /opt/plenv/versions/5.41.7/bin/perl5.41.7
GID = 20 20 12 61 79 80 81 98 701 33 100 204 250 395 398 399 400
UID = 501
Perl module toolchain versions installed:
Module Have
------------------- --------
CPAN 2.38
CPAN::Meta 2.150010
Cwd 3.92
ExtUtils::CBuilder 0.280240
ExtUtils::Command 7.70
ExtUtils::Install 2.22
ExtUtils::MakeMaker 7.70
ExtUtils::Manifest 1.75
ExtUtils::ParseXS 3.56
File::Spec 3.93
JSON 4.10
JSON::PP 4.16
Module::Build 0.4234
Module::Signature n/a
Parse::CPAN::Meta 2.150010
Test::Harness 3.50
Test::More 1.302204
YAML 1.31
YAML::Syck n/a
version 0.9933
--
Summary of my perl5 (revision 5 version 41 subversion 7) configuration:
Platform:
osname=darwin
osvers=24.2.0
archname=darwin-2level
uname='darwin bigjob.home.genehack.org 24.2.0 darwin kernel version 24.2.0: fri dec 6 18:41:43 pst 2024; root:xnu-11215.61.5~2release_x86_64 x86_64 i386 macmini8,1 darwin '
config_args='-Dprefix=/opt/plenv/versions/5.41.7 -de -Dversiononly -Dusedevel -A'eval:scriptdir=/opt/plenv/versions/5.41.7/bin''
hint=recommended
useposix=true
d_sigaction=define
useithreads=undef
usemultiplicity=undef
use64bitint=define
use64bitall=define
uselongdouble=undef
usemymalloc=n
default_inc_excludes_dot=define
Compiler:
cc='cc'
ccflags ='-fno-common -DPERL_DARWIN -mmacosx-version-min=15.2 -DNO_THREAD_SAFE_QUERYLOCALE -DNO_POSIX_2008_LOCALE -DHAS_BROKEN_LANGINFO_CODESET -fno-strict-aliasing -pipe -fstack-protector-strong -I/usr/local/include'
optimize='-O3'
cppflags='-fno-common -DPERL_DARWIN -mmacosx-version-min=15.2 -DNO_THREAD_SAFE_QUERYLOCALE -DNO_POSIX_2008_LOCALE -DHAS_BROKEN_LANGINFO_CODESET -fno-strict-aliasing -pipe -fstack-protector-strong -I/usr/local/include'
ccversion=''
gccversion='Apple LLVM 16.0.0 (clang-1600.0.26.6)'
gccosandvers=''
intsize=4
longsize=8
ptrsize=8
doublesize=8
byteorder=12345678
doublekind=3
d_longlong=define
longlongsize=8
d_longdbl=define
longdblsize=16
longdblkind=3
ivtype='long'
ivsize=8
nvtype='double'
nvsize=8
Off_t='off_t'
lseeksize=8
alignbytes=8
prototype=define
Linker and Libraries:
ld='cc'
ldflags =' -mmacosx-version-min=15.2 -fstack-protector-strong -L/usr/local/lib'
libpth=/usr/local/lib /Applications/Xcode.app/Contents/Developer/Toolchains/XcodeDefault.xctoolchain/usr/lib/clang/16/lib /Applications/Xcode.app/Contents/Developer/Platforms/MacOSX.platform/Developer/SDKs/MacOSX.sdk/usr/lib /Applications/Xcode.app/Contents/Developer/Toolchains/XcodeDefault.xctoolchain/usr/lib /usr/lib
libs=
perllibs=
libc=
so=dylib
useshrplib=false
libperl=libperl.a
gnulibc_version=''
Dynamic Linking:
dlsrc=dl_dlopen.xs
dlext=bundle
d_dlsymun=undef
ccdlflags=' '
cccdlflags=' '
lddlflags=' -mmacosx-version-min=15.2 -bundle -undefined dynamic_lookup -L/usr/local/lib -fstack-protector-strong'
Characteristics of this binary (from libperl):
Compile-time options:
HAS_LONG_DOUBLE
HAS_STRTOLD
HAS_TIMES
PERLIO_LAYERS
PERL_COPY_ON_WRITE
PERL_DONT_CREATE_GVSV
PERL_HASH_FUNC_SIPHASH13
PERL_HASH_USE_SBOX32
PERL_MALLOC_WRAP
PERL_OP_PARENT
PERL_PRESERVE_IVUV
PERL_USE_DEVEL
PERL_USE_SAFE_PUTENV
USE_64_BIT_ALL
USE_64_BIT_INT
USE_LARGE_FILES
USE_LOCALE
USE_LOCALE_COLLATE
USE_LOCALE_CTYPE
USE_LOCALE_NUMERIC
USE_LOCALE_TIME
USE_PERLIO
USE_PERL_ATOF
Built under darwin
Compiled at Dec 20 2024 10:39:38
%ENV:
PERL_CPANM_OPT="--skip-installed --prompt"
@INC:
/opt/plenv/versions/5.41.7/lib/perl5/site_perl/5.41.7/darwin-2level
/opt/plenv/versions/5.41.7/lib/perl5/site_perl/5.41.7
/opt/plenv/versions/5.41.7/lib/perl5/5.41.7/darwin-2level
/opt/plenv/versions/5.41.7/lib/perl5/5.41.7