Report for Dist-Zilla-Plugin-CheckEmacsChangeLog-0.0.2

Back
From: metabase:user:88ef830e-3cb1-11e3-afcf-3a1e153c5931
Subject: PASS Dist-Zilla-Plugin-CheckEmacsChangeLog-0.0.2 v5.19.5 GNU/Linux
Date: 2013-10-24T23:19:04Z

This distribution has been tested as part of the CPAN Testers
project, supporting the Perl programming language.  See
http://wiki.cpantesters.org/ for more information or email
questions to cpan-testers-discuss@perl.org


--
Dear TULSOFT,

This is a computer-generated report for Dist-Zilla-Plugin-CheckEmacsChangeLog-0.0.2
on perl 5.19.5, created by App::cpanminus::reporter 0.10 (1.7001).

Thank you for uploading your work to CPAN.  Congratulations!
All tests were successful.

Sections of this report:

    * Tester comments
    * Program output
    * Prerequisites
    * Environment and other context

------------------------------
TESTER COMMENTS
------------------------------

Additional comments from tester:

none provided

------------------------------
PROGRAM OUTPUT
------------------------------

Output from '':

Building and testing Dist-Zilla-Plugin-CheckEmacsChangeLog-0.0.2
cp lib/Dist/Zilla/Plugin/CheckEmacsChangeLog.pm blib/lib/Dist/Zilla/Plugin/CheckEmacsChangeLog.pm
Manifying blib/man3/Dist::Zilla::Plugin::CheckEmacsChangeLog.3
PERL_DL_NONLAZY=1 /root/perl5/perlbrew/perls/perl-5.19.5/bin/perl5.19.5 "-MExtUtils::Command::MM" "-MTest::Harness" "-e" "undef *Test::Harness::Switches; test_harness(0, 'blib/lib', 'blib/arch')" t/*.t
t/00-compile.t .......... ok
# Testing Dist::Zilla::Plugin::CheckEmacsChangeLog
t/00-load.t ............. ok
t/author-critic.t ....... skipped: these tests are for testing by the author
t/author-pod-spell.t .... skipped: these tests are for testing by the author
t/release-eol.t ......... skipped: these tests are for release candidate testing
t/release-no-tabs.t ..... skipped: these tests are for release candidate testing
t/release-pod-syntax.t .. skipped: these tests are for release candidate testing
All tests successful.
Files=7, Tests=2,  2 wallclock secs ( 0.05 usr  0.05 sys +  0.97 cusr  0.20 csys =  1.27 CPU)
Result: PASS

------------------------------
PREREQUISITES
------------------------------

Prerequisite modules loaded:

runtime:

    Module                              Need  Have    
    ----------------------------------- ----- --------
    Dist::Zilla::Plugin::CheckChangeLog 0     0.01    
    Moose                               0     2.1005  
    perl                                5.006 5.019005
    strict                              0     1.08    
    Tie::STDOUT                         0     1.0401  
    warnings                            0     1.20    

configure:

    Module                              Need  Have    
    ----------------------------------- ----- --------
    ExtUtils::MakeMaker                 6.30  6.80    


------------------------------
ENVIRONMENT AND OTHER CONTEXT
------------------------------

Environment variables:

    LANG = de_DE.UTF-8
    PATH = /root/perl5/perlbrew/bin:/root/perl5/perlbrew/perls/perl-5.19.5/bin:/sbin:/usr/sbin:/usr/local/sbin:/root/bin:/usr/local/bin:/usr/bin:/bin:/usr/X11R6/bin:/usr/games
    PERLBREW_MANPATH = /root/perl5/perlbrew/perls/perl-5.19.5/man
    PERLBREW_PATH = /root/perl5/perlbrew/bin:/root/perl5/perlbrew/perls/perl-5.19.5/bin
    PERLBREW_PERL = perl-5.19.5
    PERLBREW_ROOT = /root/perl5/perlbrew
    PERLBREW_SKIP_INIT = 1
    PERLBREW_VERSION = 0.42
    SHELL = /bin/bash
    TERM = xterm

Perl special variables (and OS-specific diagnostics, for MSWin32):

    EGID = 0 0
    EUID = 0
    EXECUTABLE_NAME = /root/perl5/perlbrew/perls/perl-5.19.5/bin/perl5.19.5
    GID = 0 0
    UID = 0

Perl module toolchain versions installed:

    Module              Have    
    ------------------- --------
    CPAN                2.03    
    CPAN::Meta          2.132830
    Cwd                 3.45    
    ExtUtils::CBuilder  0.280212
    ExtUtils::Command   1.18    
    ExtUtils::Install   1.61    
    ExtUtils::MakeMaker 6.80    
    ExtUtils::Manifest  1.63    
    ExtUtils::ParseXS   3.23    
    File::Spec          3.45    
    JSON                2.61    
    JSON::PP            2.27203 
    Module::Build       0.4007  
    Module::Signature   0.73    
    Parse::CPAN::Meta   1.4409  
    Test::Harness       3.29    
    Test::More          0.99    
    YAML                0.84    
    YAML::Syck          1.27    
    version             0.9904  


--

Summary of my perl5 (revision 5 version 19 subversion 5) configuration:
   
  Platform:
    osname=linux, osvers=3.10.13-x86_64-jb1, archname=x86_64-linux
    uname='linux j67734 3.10.13-x86_64-jb1 #3 smp fri oct 4 11:46:29 cest 2013 x86_64 x86_64 x86_64 gnulinux '
    config_args='-de -Dprefix=/root/perl5/perlbrew/perls/perl-5.19.5 -Dusedevel'
    hint=recommended, useposix=true, d_sigaction=define
    useithreads=undef, usemultiplicity=undef
    useperlio=define, d_sfio=undef, uselargefiles=define, usesocks=undef
    use64bitint=define, use64bitall=define, uselongdouble=undef
    usemymalloc=n, bincompat5005=undef
  Compiler:
    cc='cc', ccflags ='-fno-strict-aliasing -pipe -fstack-protector -I/usr/local/include -D_LARGEFILE_SOURCE -D_FILE_OFFSET_BITS=64',
    optimize='-O2',
    cppflags='-fno-strict-aliasing -pipe -fstack-protector -I/usr/local/include'
    ccversion='', gccversion='4.7.2 20130108 [gcc-4_7-branch revision 195012]', gccosandvers=''
    intsize=4, longsize=8, ptrsize=8, doublesize=8, byteorder=12345678
    d_longlong=define, longlongsize=8, d_longdbl=define, longdblsize=16
    ivtype='long', ivsize=8, nvtype='double', nvsize=8, Off_t='off_t', lseeksize=8
    alignbytes=8, prototype=define
  Linker and Libraries:
    ld='cc', ldflags =' -fstack-protector -L/usr/local/lib'
    libpth=/usr/local/lib /lib/../lib64 /usr/lib/../lib64 /lib /usr/lib /lib64 /usr/lib64 /usr/local/lib64
    libs=-lnsl -ldl -lm -lcrypt -lutil -lc
    perllibs=-lnsl -ldl -lm -lcrypt -lutil -lc
    libc=/lib/libc-2.17.so, so=so, useshrplib=false, libperl=libperl.a
    gnulibc_version='2.17'
  Dynamic Linking:
    dlsrc=dl_dlopen.xs, dlext=so, d_dlsymun=undef, ccdlflags='-Wl,-E'
    cccdlflags='-fPIC', lddlflags='-shared -O2 -L/usr/local/lib -fstack-protector'


Characteristics of this binary (from libperl): 
  Compile-time options: HAS_TIMES PERLIO_LAYERS PERL_DONT_CREATE_GVSV
                        PERL_HASH_FUNC_ONE_AT_A_TIME_HARD PERL_MALLOC_WRAP
                        PERL_NEW_COPY_ON_WRITE PERL_PRESERVE_IVUV
                        PERL_USE_DEVEL USE_64_BIT_ALL USE_64_BIT_INT
                        USE_LARGE_FILES USE_LOCALE USE_LOCALE_COLLATE
                        USE_LOCALE_CTYPE USE_LOCALE_NUMERIC USE_PERLIO
                        USE_PERL_ATOF
  Built under linux
  Compiled at Oct 24 2013 13:16:23
  %ENV:
    PERLBREW_MANPATH="/root/perl5/perlbrew/perls/perl-5.19.5/man"
    PERLBREW_PATH="/root/perl5/perlbrew/bin:/root/perl5/perlbrew/perls/perl-5.19.5/bin"
    PERLBREW_PERL="perl-5.19.5"
    PERLBREW_ROOT="/root/perl5/perlbrew"
    PERLBREW_SKIP_INIT="1"
    PERLBREW_VERSION="0.42"
  @INC:
    /root/perl5/perlbrew/perls/perl-5.19.5/lib/site_perl/5.19.5/x86_64-linux
    /root/perl5/perlbrew/perls/perl-5.19.5/lib/site_perl/5.19.5
    /root/perl5/perlbrew/perls/perl-5.19.5/lib/5.19.5/x86_64-linux
    /root/perl5/perlbrew/perls/perl-5.19.5/lib/5.19.5
    .