Catalyst-Authentication-AuthTkt v0.17 Perl 5 v5.12.5 x86_64-linux

Status
Pass
From
Andreas J. König (ANDK)
Dist
Catalyst-Authentication-AuthTkt v0.17
Platform
Perl 5 v5.12.5 x86_64-linux
Date
2018-06-03 17:36:40
ID
ac9c7ba4-6754-11e8-8a4a-21cf92041a07
This distribution has been tested as part of the CPAN Testers
project, supporting the Perl programming language.  See
http://wiki.cpantesters.org/ for more information or email
questions to cpan-testers-discuss@perl.org


--
Dear Peter Karman,

This is a computer-generated report for Catalyst-Authentication-AuthTkt-0.17
on perl 5.12.5, created by CPAN-Reporter-1.2018.

Thank you for uploading your work to CPAN.  Congratulations!
All tests were successful.

Sections of this report:

    * Tester comments
    * Program output
    * Prerequisites
    * Environment and other context

------------------------------
TESTER COMMENTS
------------------------------

Additional comments from tester:

this report is from an automated smoke testing program
and was not reviewed by a human for accuracy

------------------------------
PROGRAM OUTPUT
------------------------------

Output from '/usr/bin/make test':

PERL_DL_NONLAZY=1 "/home/sand/src/perl/repoperls/installed-perls/host/k93msid/v5.12.5/da1c/bin/perl" "-MExtUtils::Command::MM" "-MTest::Harness" "-e" "undef *Test::Harness::Switches; test_harness(0, 'inc', 'blib/lib', 'blib/arch')" t/*.t
# Testing Catalyst::Authentication::AuthTkt 0.17, Perl 5.012005, /home/sand/src/perl/repoperls/installed-perls/host/k93msid/v5.12.5/da1c/bin/perl
# Testing Catalyst 5.90118
t/00-load.t ....... ok
[warn] no cookie with name auth_tkt found to expire
t/01-authtkt.t .... ok
[warn] no cookie with name auth_tkt found to expire
t/02-ignore_ip.t .. ok
t/pod-coverage.t .. ok
t/pod.t ........... ok
All tests successful.
Files=5, Tests=58,  5 wallclock secs ( 0.03 usr  0.03 sys +  2.66 cusr  0.36 csys =  3.08 CPU)
Result: PASS

------------------------------
PREREQUISITES
------------------------------

Prerequisite modules loaded:

requires:

    Module                                   Need     Have    
    ---------------------------------------- -------- --------
    Apache::AuthTkt                          0.08     2.1     
    Catalyst                                 5.7014   5.90118 
    Catalyst::Plugin::Authentication         0.10007  0.10023 
    Config::General                          0        2.63    
    Data::Dump                               0        1.23    
    Moose                                    0        2.2011  
    perl                                     5.008009 5.012005

build_requires:

    Module                                   Need     Have    
    ---------------------------------------- -------- --------
    Catalyst::Plugin::ConfigLoader           0        0.34    
    Catalyst::Plugin::Session                0        0.40    
    Catalyst::Plugin::Session::State::Cookie 0        0.17    
    Catalyst::Plugin::Session::Store::Dummy  0        0       
    Catalyst::Plugin::Static::Simple         0        0.36    
    ExtUtils::MakeMaker                      6.59     7.35_03 
    HTTP::Cookies                            0        6.04    
    HTTP::Request::AsCGI                     0        1.2     
    Test::More                               0        1.302136

configure_requires:

    Module                                   Need     Have    
    ---------------------------------------- -------- --------
    ExtUtils::MakeMaker                      6.59     7.35_03 


------------------------------
ENVIRONMENT AND OTHER CONTEXT
------------------------------

Environment variables:

    AUTOMATED_TESTING = 1
    LANG = en_US.UTF-8
    PATH = /home/sand/bin:/usr/local/bin:/usr/bin:/bin:/usr/games:/usr/local/perl/bin:/usr/X11/bin:/sbin:/usr/sbin
    PERL5LIB = 
    PERL5OPT = 
    PERL5_CPANPLUS_IS_RUNNING = 21164
    PERL5_CPAN_IS_RUNNING = 21164
    PERL_CANARY_STABILITY_NOPROMPT = 1
    PERL_MM_USE_DEFAULT = 1
    PERL_USE_UNSAFE_INC = 1
    SHELL = /usr/bin/zsh
    TERM = screen

Perl special variables (and OS-specific diagnostics, for MSWin32):

    $^X = /home/sand/src/perl/repoperls/installed-perls/host/k93msid/v5.12.5/da1c/bin/perl
    $UID/$EUID = 1005 / 1005
    $GID = 1005 1005
    $EGID = 1005 1005

Perl module toolchain versions installed:

    Module              Have    
    ------------------- --------
    CPAN                2.20    
    CPAN::Meta          2.150010
    Cwd                 3.74    
    ExtUtils::CBuilder  0.280230
    ExtUtils::Command   7.35_03 
    ExtUtils::Install   2.06    
    ExtUtils::MakeMaker 7.35_03 
    ExtUtils::Manifest  1.70    
    ExtUtils::ParseXS   3.35    
    File::Spec          3.74    
    JSON                2.97001 
    JSON::PP            2.97001 
    Module::Build       0.42_28 
    Module::Signature   0.81    
    Parse::CPAN::Meta   2.150010
    Test::Harness       3.43_01 
    Test::More          1.302136
    YAML                1.25_001
    YAML::Syck          1.30    
    version             0.9922  


--

Summary of my perl5 (revision 5 version 12 subversion 5) configuration:
  Derived from: 9a9cbd715960a905dcbc9166349a73a64a007e4e
  Platform:
    osname=linux, osvers=4.14.0-3-amd64, archname=x86_64-linux
    uname='linux k93msid 4.14.0-3-amd64 #1 smp debian 4.14.12-2 (2018-01-06) x86_64 gnulinux '
    config_args='-Dprefix=/home/sand/src/perl/repoperls/installed-perls/host/k93msid/v5.12.5/da1c -Dmyhostname=k93msid -Dinstallusrbinperl=n -Uversiononly -Dusedevel -des -Ui_db -Dlibswanted=cl pthread socket inet nsl gdbm dbm malloc dl ld sun m crypt sec util c cposix posix ucb BSD gdbm_compat -Uuseithreads -Uuselongdouble -DEBUGGING=-g'
    hint=recommended, useposix=true, d_sigaction=define
    useithreads=undef, usemultiplicity=undef
    useperlio=define, d_sfio=undef, uselargefiles=define, usesocks=undef
    use64bitint=define, use64bitall=define, uselongdouble=undef
    usemymalloc=n, bincompat5005=undef
  Compiler:
    cc='cc', ccflags ='-fno-strict-aliasing -pipe -fstack-protector -I/usr/local/include -D_LARGEFILE_SOURCE -D_FILE_OFFSET_BITS=64',
    optimize='-O2 -g',
    cppflags='-fno-strict-aliasing -pipe -fstack-protector -I/usr/local/include'
    ccversion='', gccversion='7.2.0', gccosandvers=''
    intsize=4, longsize=8, ptrsize=8, doublesize=8, byteorder=12345678
    d_longlong=define, longlongsize=8, d_longdbl=define, longdblsize=16
    ivtype='long', ivsize=8, nvtype='double', nvsize=8, Off_t='off_t', lseeksize=8
    alignbytes=8, prototype=define
  Linker and Libraries:
    ld='cc', ldflags =' -fstack-protector -L/usr/local/lib'
    libpth=/usr/local/lib /lib/x86_64-linux-gnu /lib/../lib /usr/lib/x86_64-linux-gnu /usr/lib/../lib /lib /usr/lib
    libs=-lpthread -lnsl -ldl -lm -lcrypt -lutil -lc
    perllibs=-lpthread -lnsl -ldl -lm -lcrypt -lutil -lc
    libc=libc-2.26.so, so=so, useshrplib=false, libperl=libperl.a
    gnulibc_version='2.26'
  Dynamic Linking:
    dlsrc=dl_dlopen.xs, dlext=so, d_dlsymun=undef, ccdlflags='-Wl,-E'
    cccdlflags='-fPIC', lddlflags='-shared -O2 -g -L/usr/local/lib -fstack-protector'


Characteristics of this binary (from libperl): 
  Compile-time options: PERL_DONT_CREATE_GVSV PERL_MALLOC_WRAP PERL_USE_DEVEL
                        USE_64_BIT_ALL USE_64_BIT_INT USE_LARGE_FILES
                        USE_PERLIO USE_PERL_ATOF
  Locally applied patches:
	uncommitted-changes
  Built under linux
  Compiled at Jan  8 2018 23:36:11
  %ENV:
    PERL5LIB=""
    PERL5OPT=""
    PERL5_CPANPLUS_IS_RUNNING="21164"
    PERL5_CPAN_IS_RUNNING="21164"
    PERL_CANARY_STABILITY_NOPROMPT="1"
    PERL_MM_USE_DEFAULT="1"
    PERL_USE_UNSAFE_INC="1"
  @INC:
    /home/sand/src/perl/repoperls/installed-perls/host/k93msid/v5.12.5/da1c/lib/site_perl/5.12.5/x86_64-linux
    /home/sand/src/perl/repoperls/installed-perls/host/k93msid/v5.12.5/da1c/lib/site_perl/5.12.5
    /home/sand/src/perl/repoperls/installed-perls/host/k93msid/v5.12.5/da1c/lib/5.12.5/x86_64-linux
    /home/sand/src/perl/repoperls/installed-perls/host/k93msid/v5.12.5/da1c/lib/5.12.5
    .