HTML-FormFu-MultiForm v1.03 Perl 5 v5.36.3 x86_64-linux-thread-multi

Status
Pass
From
David Cantrell (DCANTRELL)
Dist
HTML-FormFu-MultiForm v1.03
Platform
Perl 5 v5.36.3 x86_64-linux-thread-multi
Date
2024-11-21 10:09:20
ID
acab3728-a7f0-11ef-bda5-c3dd6642852d
This distribution has been tested as part of the CPAN Testers
project, supporting the Perl programming language.  See
http://wiki.cpantesters.org/ for more information or email
questions to cpan-testers-discuss@perl.org


--
Dear Nigel Metheringham,

This is a computer-generated report for HTML-FormFu-MultiForm-1.03
on perl 5.36.3, created by CPAN-Reporter-1.2019.

Thank you for uploading your work to CPAN.  Congratulations!
All tests were successful.

Sections of this report:

    * Tester comments
    * Program output
    * Prerequisites
    * Environment and other context

------------------------------
TESTER COMMENTS
------------------------------

Additional comments from tester:

this report is from an automated smoke testing program
and was not reviewed by a human for accuracy

------------------------------
PROGRAM OUTPUT
------------------------------

Output from '/usr/bin/make test':

PERL_DL_NONLAZY=1 "/home/david/cpantesting/perl-5.36.3/bin/perl" "-MExtUtils::Command::MM" "-MTest::Harness" "-e" "undef *Test::Harness::Switches; test_harness(0, 'blib/lib', 'blib/arch')" t/*.t t/multiform-misc/*.t t/multiform-nested-name/*.t t/multiform-no-combine/*.t t/multiform/*.t t/multiform_hidden_name/*.t
# 
# Versions for all modules listed in MYMETA.json (including optional ones):
# 
# === Configure Requires ===
# 
#     Module              Want Have
#     ------------------- ---- ----
#     ExtUtils::MakeMaker  any 7.70
# 
# === Build Requires ===
# 
#     Module              Want Have
#     ------------------- ---- ----
#     ExtUtils::MakeMaker  any 7.70
# 
# === Test Requires ===
# 
#     Module              Want     Have
#     ------------------- ---- --------
#     Cwd                  any     3.84
#     ExtUtils::MakeMaker  any     7.70
#     Fatal                any     2.36
#     File::Spec           any     3.84
#     Test::More          0.92 1.302198
#     YAML::XS             any     0.88
#     warnings             any     1.58
# 
# === Test Recommends ===
# 
#     Module         Want     Have
#     ---------- -------- --------
#     CPAN::Meta 2.120900 2.150010
# 
# === Runtime Requires ===
# 
#     Module                                       Want   Have
#     -------------------------------------------- ---- ------
#     Carp                                          any   1.52
#     Clone                                         any   0.46
#     Crypt::CBC                                    any   3.04
#     Crypt::DES                                    any   2.07
#     HTML::FormFu                                  any   2.07
#     HTML::FormFu::Attribute                       any   2.07
#     HTML::FormFu::ObjectUtil                      any   2.07
#     HTML::FormFu::QueryType::CGI                  any   2.07
#     HTML::FormFu::Role::FormAndElementMethods     any   2.07
#     HTML::FormFu::Role::FormBlockAndFieldMethods  any   2.07
#     HTML::FormFu::Role::NestedHashUtils           any   2.07
#     HTML::FormFu::Role::Populate                  any   2.07
#     List::MoreUtils                               any  0.430
#     Moose                                         any 2.2206
#     MooseX::Attribute::Chained                    any  1.0.3
#     Scalar::Util                                  any   1.63
#     Storable                                      any   3.26
#     overload                                      any   1.35
#     strict                                        any   1.12
# 
t/00-report-prereqs.t ........................ ok
t/multiform-misc-file-client-side.t .......... skipped: CGI tmp_upload_dir functionality makes this unusable on modern versions
WARNING: The key derivation method "opensslv1" is deprecated. Using -pbkdf=>'pbkdf2' would be better.
Pass -nodeprecate=>1 to inhibit this message.
 at /home/david/cpantesting/perl-5.36.3/.cpan/build/HTML-FormFu-MultiForm-1.03-0/blib/lib/HTML/FormFu/MultiForm.pm line 533.
t/multiform-misc/accessors.t ................. ok
t/multiform-misc/file-server-side.t .......... skipped: CGI tmp_upload_dir functionality makes this unusable on modern versions
t/multiform-nested-name/0_render_page_1.t .... ok
t/multiform-nested-name/1_submit_page_1.t .... ok
WARNING: The key derivation method "opensslv1" is deprecated. Using -pbkdf=>'pbkdf2' would be better.
Pass -nodeprecate=>1 to inhibit this message.
 at /home/david/cpantesting/perl-5.36.3/.cpan/build/HTML-FormFu-MultiForm-1.03-0/blib/lib/HTML/FormFu/MultiForm.pm line 533.
WARNING: The key derivation method "opensslv1" is deprecated. Using -pbkdf=>'pbkdf2' would be better.
Pass -nodeprecate=>1 to inhibit this message.
 at /home/david/cpantesting/perl-5.36.3/.cpan/build/HTML-FormFu-MultiForm-1.03-0/blib/lib/HTML/FormFu/MultiForm.pm line 533.
t/multiform-nested-name/2_render_page_2.t .... ok
WARNING: The key derivation method "opensslv1" is deprecated. Using -pbkdf=>'pbkdf2' would be better.
Pass -nodeprecate=>1 to inhibit this message.
 at /home/david/cpantesting/perl-5.36.3/.cpan/build/HTML-FormFu-MultiForm-1.03-0/blib/lib/HTML/FormFu/MultiForm.pm line 533.
WARNING: The key derivation method "opensslv1" is deprecated. Using -pbkdf=>'pbkdf2' would be better.
Pass -nodeprecate=>1 to inhibit this message.
 at /home/david/cpantesting/perl-5.36.3/.cpan/build/HTML-FormFu-MultiForm-1.03-0/blib/lib/HTML/FormFu/MultiForm.pm line 533.
t/multiform-nested-name/3_submit_page_2.t .... ok
WARNING: The key derivation method "opensslv1" is deprecated. Using -pbkdf=>'pbkdf2' would be better.
Pass -nodeprecate=>1 to inhibit this message.
 at /home/david/cpantesting/perl-5.36.3/.cpan/build/HTML-FormFu-MultiForm-1.03-0/blib/lib/HTML/FormFu/MultiForm.pm line 533.
WARNING: The key derivation method "opensslv1" is deprecated. Using -pbkdf=>'pbkdf2' would be better.
Pass -nodeprecate=>1 to inhibit this message.
 at /home/david/cpantesting/perl-5.36.3/.cpan/build/HTML-FormFu-MultiForm-1.03-0/blib/lib/HTML/FormFu/MultiForm.pm line 533.
t/multiform-nested-name/4_complete_page_3.t .. ok
t/multiform-no-combine/0_render_page_1.t ..... ok
t/multiform-no-combine/1_submit_page_1.t ..... ok
WARNING: The key derivation method "opensslv1" is deprecated. Using -pbkdf=>'pbkdf2' would be better.
Pass -nodeprecate=>1 to inhibit this message.
 at /home/david/cpantesting/perl-5.36.3/.cpan/build/HTML-FormFu-MultiForm-1.03-0/blib/lib/HTML/FormFu/MultiForm.pm line 533.
WARNING: The key derivation method "opensslv1" is deprecated. Using -pbkdf=>'pbkdf2' would be better.
Pass -nodeprecate=>1 to inhibit this message.
 at /home/david/cpantesting/perl-5.36.3/.cpan/build/HTML-FormFu-MultiForm-1.03-0/blib/lib/HTML/FormFu/MultiForm.pm line 533.
t/multiform-no-combine/2_render_page_2.t ..... ok
WARNING: The key derivation method "opensslv1" is deprecated. Using -pbkdf=>'pbkdf2' would be better.
Pass -nodeprecate=>1 to inhibit this message.
 at /home/david/cpantesting/perl-5.36.3/.cpan/build/HTML-FormFu-MultiForm-1.03-0/blib/lib/HTML/FormFu/MultiForm.pm line 533.
WARNING: The key derivation method "opensslv1" is deprecated. Using -pbkdf=>'pbkdf2' would be better.
Pass -nodeprecate=>1 to inhibit this message.
 at /home/david/cpantesting/perl-5.36.3/.cpan/build/HTML-FormFu-MultiForm-1.03-0/blib/lib/HTML/FormFu/MultiForm.pm line 533.
t/multiform-no-combine/3_submit_page_2.t ..... ok
WARNING: The key derivation method "opensslv1" is deprecated. Using -pbkdf=>'pbkdf2' would be better.
Pass -nodeprecate=>1 to inhibit this message.
 at /home/david/cpantesting/perl-5.36.3/.cpan/build/HTML-FormFu-MultiForm-1.03-0/blib/lib/HTML/FormFu/MultiForm.pm line 533.
WARNING: The key derivation method "opensslv1" is deprecated. Using -pbkdf=>'pbkdf2' would be better.
Pass -nodeprecate=>1 to inhibit this message.
 at /home/david/cpantesting/perl-5.36.3/.cpan/build/HTML-FormFu-MultiForm-1.03-0/blib/lib/HTML/FormFu/MultiForm.pm line 533.
t/multiform-no-combine/4_complete_page_3.t ... ok
t/multiform/0_render_page_1.t ................ ok
t/multiform/1_submit_page_1.t ................ ok
WARNING: The key derivation method "opensslv1" is deprecated. Using -pbkdf=>'pbkdf2' would be better.
Pass -nodeprecate=>1 to inhibit this message.
 at /home/david/cpantesting/perl-5.36.3/.cpan/build/HTML-FormFu-MultiForm-1.03-0/blib/lib/HTML/FormFu/MultiForm.pm line 533.
WARNING: The key derivation method "opensslv1" is deprecated. Using -pbkdf=>'pbkdf2' would be better.
Pass -nodeprecate=>1 to inhibit this message.
 at /home/david/cpantesting/perl-5.36.3/.cpan/build/HTML-FormFu-MultiForm-1.03-0/blib/lib/HTML/FormFu/MultiForm.pm line 533.
t/multiform/2_render_page_2.t ................ ok
WARNING: The key derivation method "opensslv1" is deprecated. Using -pbkdf=>'pbkdf2' would be better.
Pass -nodeprecate=>1 to inhibit this message.
 at /home/david/cpantesting/perl-5.36.3/.cpan/build/HTML-FormFu-MultiForm-1.03-0/blib/lib/HTML/FormFu/MultiForm.pm line 533.
WARNING: The key derivation method "opensslv1" is deprecated. Using -pbkdf=>'pbkdf2' would be better.
Pass -nodeprecate=>1 to inhibit this message.
 at /home/david/cpantesting/perl-5.36.3/.cpan/build/HTML-FormFu-MultiForm-1.03-0/blib/lib/HTML/FormFu/MultiForm.pm line 533.
t/multiform/3_submit_page_2.t ................ ok
WARNING: The key derivation method "opensslv1" is deprecated. Using -pbkdf=>'pbkdf2' would be better.
Pass -nodeprecate=>1 to inhibit this message.
 at /home/david/cpantesting/perl-5.36.3/.cpan/build/HTML-FormFu-MultiForm-1.03-0/blib/lib/HTML/FormFu/MultiForm.pm line 533.
WARNING: The key derivation method "opensslv1" is deprecated. Using -pbkdf=>'pbkdf2' would be better.
Pass -nodeprecate=>1 to inhibit this message.
 at /home/david/cpantesting/perl-5.36.3/.cpan/build/HTML-FormFu-MultiForm-1.03-0/blib/lib/HTML/FormFu/MultiForm.pm line 533.
t/multiform/4_complete_page_3.t .............. ok
t/multiform_hidden_name/0_render_page_1.t .... ok
t/multiform_hidden_name/1_submit_page_1.t .... ok
WARNING: The key derivation method "opensslv1" is deprecated. Using -pbkdf=>'pbkdf2' would be better.
Pass -nodeprecate=>1 to inhibit this message.
 at /home/david/cpantesting/perl-5.36.3/.cpan/build/HTML-FormFu-MultiForm-1.03-0/blib/lib/HTML/FormFu/MultiForm.pm line 533.
WARNING: The key derivation method "opensslv1" is deprecated. Using -pbkdf=>'pbkdf2' would be better.
Pass -nodeprecate=>1 to inhibit this message.
 at /home/david/cpantesting/perl-5.36.3/.cpan/build/HTML-FormFu-MultiForm-1.03-0/blib/lib/HTML/FormFu/MultiForm.pm line 533.
t/multiform_hidden_name/2_render_page_2.t .... ok
WARNING: The key derivation method "opensslv1" is deprecated. Using -pbkdf=>'pbkdf2' would be better.
Pass -nodeprecate=>1 to inhibit this message.
 at /home/david/cpantesting/perl-5.36.3/.cpan/build/HTML-FormFu-MultiForm-1.03-0/blib/lib/HTML/FormFu/MultiForm.pm line 533.
WARNING: The key derivation method "opensslv1" is deprecated. Using -pbkdf=>'pbkdf2' would be better.
Pass -nodeprecate=>1 to inhibit this message.
 at /home/david/cpantesting/perl-5.36.3/.cpan/build/HTML-FormFu-MultiForm-1.03-0/blib/lib/HTML/FormFu/MultiForm.pm line 533.
t/multiform_hidden_name/3_submit_page_2.t .... ok
WARNING: The key derivation method "opensslv1" is deprecated. Using -pbkdf=>'pbkdf2' would be better.
Pass -nodeprecate=>1 to inhibit this message.
 at /home/david/cpantesting/perl-5.36.3/.cpan/build/HTML-FormFu-MultiForm-1.03-0/blib/lib/HTML/FormFu/MultiForm.pm line 533.
WARNING: The key derivation method "opensslv1" is deprecated. Using -pbkdf=>'pbkdf2' would be better.
Pass -nodeprecate=>1 to inhibit this message.
 at /home/david/cpantesting/perl-5.36.3/.cpan/build/HTML-FormFu-MultiForm-1.03-0/blib/lib/HTML/FormFu/MultiForm.pm line 533.
t/multiform_hidden_name/4_complete_page_3.t .. ok
All tests successful.
Files=24, Tests=111, 98 wallclock secs ( 0.12 usr  0.02 sys + 19.73 cusr  1.37 csys = 21.24 CPU)
Result: PASS

------------------------------
PREREQUISITES
------------------------------

Prerequisite modules loaded:

requires:

    Module                                       Need     Have    
    -------------------------------------------- -------- --------
    Carp                                         0        1.52    
    Clone                                        0        0.46    
    Crypt::CBC                                   0        3.04    
    Crypt::DES                                   0        2.07    
    HTML::FormFu                                 0        2.07    
    HTML::FormFu::Attribute                      0        2.07    
    HTML::FormFu::ObjectUtil                     0        2.07    
    HTML::FormFu::QueryType::CGI                 0        2.07    
    HTML::FormFu::Role::FormAndElementMethods    0        2.07    
    HTML::FormFu::Role::FormBlockAndFieldMethods 0        2.07    
    HTML::FormFu::Role::NestedHashUtils          0        2.07    
    HTML::FormFu::Role::Populate                 0        2.07    
    List::MoreUtils                              0        0.430   
    Moose                                        0        2.2206  
    MooseX::Attribute::Chained                   0        1.0.3   
    overload                                     0        1.35    
    Scalar::Util                                 0        1.63    
    Storable                                     0        3.26    
    strict                                       0        1.12    

build_requires:

    Module                                       Need     Have    
    -------------------------------------------- -------- --------
    Cwd                                          0        3.84    
    ExtUtils::MakeMaker                          0        7.70    
    Fatal                                        0        2.36    
    File::Spec                                   0        3.84    
    Test::More                                   0.92     1.302198
    warnings                                     0        1.58    
    YAML::XS                                     0        0.88    

configure_requires:

    Module                                       Need     Have    
    -------------------------------------------- -------- --------
    ExtUtils::MakeMaker                          0        7.70    

opt_build_requires:

    Module                                       Need     Have    
    -------------------------------------------- -------- --------
    CPAN::Meta                                   2.120900 2.150010


------------------------------
ENVIRONMENT AND OTHER CONTEXT
------------------------------

Environment variables:

    AUTOMATED_TESTING = 1
    LANG = en_GB.UTF-8
    LANGUAGE = en_GB:en
    LC_TERMINAL = iTerm2
    LC_TERMINAL_VERSION = 3.5.9
    NONINTERACTIVE_TESTING = 1
    PATH = /home/david/.nvm/versions/node/v22.11.0/bin:/home/david/.cargo/bin:/home/david/perl5/perlbrew/bin:/home/david/perl5/perlbrew/perls/perl-5.30.2/bin:/home/david/bin:/usr/local/bin:/usr/bin:/bin:/usr/local/games:/usr/games
    PERL = 5.36.3
    PERL5LIB = 
    PERL5OPT = 
    PERL5_CPANPLUS_IS_RUNNING = 774551
    PERL5_CPAN_IS_RUNNING = 774551
    PERLBREW_HOME = /home/david/.perlbrew
    PERLBREW_MANPATH = /home/david/perl5/perlbrew/perls/perl-5.30.2/man
    PERLBREW_PATH = /home/david/perl5/perlbrew/bin:/home/david/perl5/perlbrew/perls/perl-5.30.2/bin
    PERLBREW_PERL = perl-5.30.2
    PERLBREW_ROOT = /home/david/perl5/perlbrew
    PERLBREW_SHELLRC_VERSION = 0.98
    PERLBREW_VERSION = 0.98
    PERLVER = 5.36.3
    PERL_INLINE_DIRECTORY = /home/david/.Inline-5.36.3
    PERL_MM_USE_DEFAULT = 1
    PERL_USE_UNSAFE_INC = 0
    SHELL = /bin/bash
    TERM = screen

Perl special variables (and OS-specific diagnostics, for MSWin32):

    $^X = /home/david/cpantesting/perl-5.36.3/bin/perl
    $UID/$EUID = 1000 / 1000
    $GID = 1000 24 25 27 29 30 44 46 109 1000
    $EGID = 1000 24 25 27 29 30 44 46 109 1000

Perl module toolchain versions installed:

    Module              Have    
    ------------------- --------
    CPAN                2.33    
    CPAN::Meta          2.150010
    Cwd                 3.84    
    ExtUtils::CBuilder  0.280236
    ExtUtils::Command   7.70    
    ExtUtils::Install   2.22    
    ExtUtils::MakeMaker 7.70    
    ExtUtils::Manifest  1.75    
    ExtUtils::ParseXS   3.51    
    File::Spec          3.84    
    JSON                4.10    
    JSON::PP            4.16    
    Module::Build       0.4234  
    Module::Signature   n/a     
    Parse::CPAN::Meta   2.150010
    Test2               1.302198
    Test::Harness       3.48    
    Test::More          1.302198
    YAML                1.30    
    YAML::Syck          1.34    
    version             0.9930  


--

Summary of my perl5 (revision 5 version 36 subversion 3) configuration:
   
  Platform:
    osname=linux
    osvers=6.1.0-11-amd64
    archname=x86_64-linux-thread-multi
    uname='linux cpantesting-linux 6.1.0-11-amd64 #1 smp preempt_dynamic debian 6.1.38-4 (2023-08-08) x86_64 gnulinux '
    config_args='-de -Dprefix=/home/david/cpantesting/perl-5.36.3 -Dusethreads'
    hint=recommended
    useposix=true
    d_sigaction=define
    useithreads=define
    usemultiplicity=define
    use64bitint=define
    use64bitall=define
    uselongdouble=undef
    usemymalloc=n
    default_inc_excludes_dot=define
  Compiler:
    cc='cc'
    ccflags ='-D_REENTRANT -D_GNU_SOURCE -fwrapv -fno-strict-aliasing -pipe -fstack-protector-strong -I/usr/local/include -D_LARGEFILE_SOURCE -D_FILE_OFFSET_BITS=64 -D_FORTIFY_SOURCE=2'
    optimize='-O2'
    cppflags='-D_REENTRANT -D_GNU_SOURCE -fwrapv -fno-strict-aliasing -pipe -fstack-protector-strong -I/usr/local/include'
    ccversion=''
    gccversion='12.2.0'
    gccosandvers=''
    intsize=4
    longsize=8
    ptrsize=8
    doublesize=8
    byteorder=12345678
    doublekind=3
    d_longlong=define
    longlongsize=8
    d_longdbl=define
    longdblsize=16
    longdblkind=3
    ivtype='long'
    ivsize=8
    nvtype='double'
    nvsize=8
    Off_t='off_t'
    lseeksize=8
    alignbytes=8
    prototype=define
  Linker and Libraries:
    ld='cc'
    ldflags =' -fstack-protector-strong -L/usr/local/lib'
    libpth=/usr/local/lib /usr/lib/x86_64-linux-gnu /usr/lib /usr/lib64
    libs=-lpthread -lnsl -ldl -lm -lcrypt -lutil -lc
    perllibs=-lpthread -lnsl -ldl -lm -lcrypt -lutil -lc
    libc=/lib/x86_64-linux-gnu/libc.so.6
    so=so
    useshrplib=false
    libperl=libperl.a
    gnulibc_version='2.36'
  Dynamic Linking:
    dlsrc=dl_dlopen.xs
    dlext=so
    d_dlsymun=undef
    ccdlflags='-Wl,-E'
    cccdlflags='-fPIC'
    lddlflags='-shared -O2 -L/usr/local/lib -fstack-protector-strong'


Characteristics of this binary (from libperl): 
  Compile-time options:
    HAS_TIMES
    MULTIPLICITY
    PERLIO_LAYERS
    PERL_COPY_ON_WRITE
    PERL_DONT_CREATE_GVSV
    PERL_MALLOC_WRAP
    PERL_OP_PARENT
    PERL_PRESERVE_IVUV
    USE_64_BIT_ALL
    USE_64_BIT_INT
    USE_ITHREADS
    USE_LARGE_FILES
    USE_LOCALE
    USE_LOCALE_COLLATE
    USE_LOCALE_CTYPE
    USE_LOCALE_NUMERIC
    USE_LOCALE_TIME
    USE_PERLIO
    USE_PERL_ATOF
    USE_REENTRANT_API
    USE_THREAD_SAFE_LOCALE
  Built under linux
  Compiled at Nov 30 2023 23:58:45
  %ENV:
    PERL="5.36.3"
    PERL5LIB=""
    PERL5OPT=""
    PERL5_CPANPLUS_IS_RUNNING="774551"
    PERL5_CPAN_IS_RUNNING="774551"
    PERLBREW_HOME="/home/david/.perlbrew"
    PERLBREW_MANPATH="/home/david/perl5/perlbrew/perls/perl-5.30.2/man"
    PERLBREW_PATH="/home/david/perl5/perlbrew/bin:/home/david/perl5/perlbrew/perls/perl-5.30.2/bin"
    PERLBREW_PERL="perl-5.30.2"
    PERLBREW_ROOT="/home/david/perl5/perlbrew"
    PERLBREW_SHELLRC_VERSION="0.98"
    PERLBREW_VERSION="0.98"
    PERLVER="5.36.3"
    PERL_INLINE_DIRECTORY="/home/david/.Inline-5.36.3"
    PERL_MM_USE_DEFAULT="1"
    PERL_USE_UNSAFE_INC="0"
  @INC:
    /home/david/cpantesting/perl-5.36.3/lib/site_perl/5.36.3/x86_64-linux-thread-multi
    /home/david/cpantesting/perl-5.36.3/lib/site_perl/5.36.3
    /home/david/cpantesting/perl-5.36.3/lib/5.36.3/x86_64-linux-thread-multi
    /home/david/cpantesting/perl-5.36.3/lib/5.36.3