Back
From: metabase:user:322078bc-2aae-11df-837a-5e0a49663a4f
Subject: PASS Apache-Test-1.36 v5.12.1 Mac OS X
Date: 2011-06-04T18:08:39Z
This distribution has been tested as part of the CPAN Testers
project, supporting the Perl programming language. See
http://wiki.cpantesters.org/ for more information or email
questions to cpan-testers-discuss@perl.org
--
Dear Fred Moyer,
This is a computer-generated error report created automatically by
CPANPLUS, version 0.9105. Testers personal comments may appear
at the end of this report.
MAKE TEST passed: /Volumes/Media/smoke/rel/perl-5.12.1/bin/perl -Iblib/arch -Iblib/lib \
t/TEST -clean
[warning] setting ulimit to allow core files
ulimit -c unlimited; /Volumes/Media/smoke/rel/perl-5.12.1/bin/perl /Volumes/Media/smoke/rel/conf/perl-5.12.1/.cpanplus/5.12.1/build/Apache-Test-1.36/t/TEST -clean
APACHE_TEST_GROUP= APACHE_TEST_HTTPD= APACHE_TEST_PORT= APACHE_TEST_USER= APACHE_TEST_APXS= \
/Volumes/Media/smoke/rel/perl-5.12.1/bin/perl -Iblib/arch -Iblib/lib \
t/TEST -bugreport -verbose=0
[warning] setting ulimit to allow core files
ulimit -c unlimited; /Volumes/Media/smoke/rel/perl-5.12.1/bin/perl /Volumes/Media/smoke/rel/conf/perl-5.12.1/.cpanplus/5.12.1/build/Apache-Test-1.36/t/TEST -bugreport -verbose=0
/usr/sbin/httpd -d /Volumes/Media/smoke/rel/conf/perl-5.12.1/.cpanplus/5.12.1/build/Apache-Test-1.36/t -f /Volumes/Media/smoke/rel/conf/perl-5.12.1/.cpanplus/5.12.1/build/Apache-Test-1.36/t/conf/httpd.conf -D APACHE1 -D PERL_USEITHREADS
using Apache/1.3.41
waiting 60 seconds for server to start: .
waiting 60 seconds for server to start: ok (waited 0 secs)
server localhost:8529 started
[ info] adding source lib /Volumes/Media/smoke/rel/conf/perl-5.12.1/.cpanplus/5.12.1/build/Apache-Test-1.36/lib to @INC
[warning] Using random number seed: 2102039626 (autogenerated)
Use of uninitialized value in binmode at /Volumes/Media/smoke/rel/perl-5.12.1/lib/5.12.1/Test/Builder.pm line 1916.
Use of uninitialized value in binmode at /Volumes/Media/smoke/rel/perl-5.12.1/lib/5.12.1/Test/Builder.pm line 1916.
Use of uninitialized value in binmode at /Volumes/Media/smoke/rel/perl-5.12.1/lib/5.12.1/Test/Builder.pm line 1916.
Use of uninitialized value in binmode at /Volumes/Media/smoke/rel/perl-5.12.1/lib/5.12.1/Test/Builder.pm line 1916.
t/sok.t .................. ok
t/log_watch.t ............ ok
t/ping.t ................. ok
t/alltest/all.t .......... skipped: testing all.t
t/alltest2/all.t ......... skipped: testing more than one all.t
t/redirect.t ............. skipped: libwww-perl is not installed
t/request.t .............. skipped: libwww-perl is not installed
t/cookies.t .............. skipped: libwww-perl is not installed
t/more/all.t ............. skipped: cannot find module 'mod_perl.c'
t/bad_coding.t ........... ok
t/next_available_port.t .. skipped: cannot find module 'mod_env.c'
Use of uninitialized value in binmode at /Volumes/Media/smoke/rel/perl-5.12.1/lib/5.12.1/Test/Builder.pm line 1916.
Use of uninitialized value in binmode at /Volumes/Media/smoke/rel/perl-5.12.1/lib/5.12.1/Test/Builder.pm line 1916.
t/import.t ............... ok
All tests successful.
Files=12, Tests=70, 31 wallclock secs ( 0.56 usr 0.36 sys + 24.74 cusr 4.53 csys = 30.19 CPU)
Result: PASS
[warning] server localhost:8529 shutdown
[MSG] [Sat Jun 4 19:10:52 2011] Sending test report for 'Apache-Test-1.36'
This report was machine-generated by CPANPLUS::Dist::YACSmoke 0.62.
Powered by minismokebox version 0.44
------------------------------
ENVIRONMENT AND OTHER CONTEXT
------------------------------
Environment variables:
AUTOMATED_TESTING = 1
PATH = /bin:/sbin:/usr/bin:/usr/sbin:/usr/local/bin:/usr/local/sbin
PERL5LIB = :/Volumes/Media/smoke/rel/conf/perl-5.12.1/.cpanplus/5.12.1/build/Apache-Test-1.36/blib/lib:/Volumes/Media/smoke/rel/conf/perl-5.12.1/.cpanplus/5.12.1/build/Apache-Test-1.36/blib/arch
PERL5_CPANPLUS_IS_RUNNING = 24798
PERL5_CPANPLUS_IS_VERSION = 0.9105
PERL5_MINISMOKEBOX = 0.44
PERL5_YACSMOKE_BASE = /Volumes/Media/smoke/rel/conf/perl-5.12.1
PERL_EXTUTILS_AUTOINSTALL = --defaultdeps
PERL_MM_USE_DEFAULT = 1
SHELL = /bin/bash
TERM = screen
Perl special variables (and OS-specific diagnostics, for MSWin32):
Perl: $^X = /Volumes/Media/smoke/rel/perl-5.12.1/bin/perl
UID: $< = 502
EUID: $> = 502
GID: $( = 502 502
EGID: $) = 502 502
-------------------------------
--
Summary of my perl5 (revision 5 version 12 subversion 1) configuration:
Platform:
osname=darwin, osvers=8.11.0, archname=darwin-thread-multi-64int-2level
uname='darwin afalglas.bingosnet.co.uk 8.11.0 darwin kernel version 8.11.0: wed oct 10 18:26:00 pdt 2007; root:xnu-792.24.17~1release_ppc power macintosh powerpc '
config_args='-des -Dprefix=/Volumes/Media/smoke/rel/perl-5.12.1 -Dusethreads -Duse64bitint'
hint=recommended, useposix=true, d_sigaction=define
useithreads=define, usemultiplicity=define
useperlio=define, d_sfio=undef, uselargefiles=define, usesocks=undef
use64bitint=define, use64bitall=undef, uselongdouble=undef
usemymalloc=n, bincompat5005=undef
Compiler:
cc='cc', ccflags ='-fno-common -DPERL_DARWIN -no-cpp-precomp -fno-strict-aliasing -pipe -I/usr/local/include',
optimize='-O3',
cppflags='-no-cpp-precomp -fno-common -DPERL_DARWIN -no-cpp-precomp -fno-strict-aliasing -pipe -I/usr/local/include'
ccversion='', gccversion='4.0.1 (Apple Computer, Inc. build 5367)', gccosandvers=''
intsize=4, longsize=4, ptrsize=4, doublesize=8, byteorder=87654321
d_longlong=define, longlongsize=8, d_longdbl=define, longdblsize=16
ivtype='long long', ivsize=8, nvtype='double', nvsize=8, Off_t='off_t', lseeksize=8
alignbytes=8, prototype=define
Linker and Libraries:
ld='env MACOSX_DEPLOYMENT_TARGET=10.3 cc', ldflags =' -L/usr/local/lib'
libpth=/usr/local/lib /usr/lib
libs=-ldbm -ldl -lm -lc
perllibs=-ldl -lm -lc
libc=/usr/lib/libc.dylib, so=dylib, useshrplib=false, libperl=libperl.a
gnulibc_version=''
Dynamic Linking:
dlsrc=dl_dlopen.xs, dlext=bundle, d_dlsymun=undef, ccdlflags=' '
cccdlflags=' ', lddlflags=' -bundle -undefined dynamic_lookup -L/usr/local/lib'
Characteristics of this binary (from libperl):
Compile-time options: MULTIPLICITY PERL_DONT_CREATE_GVSV
PERL_IMPLICIT_CONTEXT PERL_MALLOC_WRAP USE_64_BIT_INT
USE_ITHREADS USE_LARGE_FILES USE_PERLIO USE_PERL_ATOF
USE_REENTRANT_API
Built under darwin
Compiled at May 18 2010 09:46:25
%ENV:
PERL5LIB=":/Volumes/Media/smoke/rel/conf/perl-5.12.1/.cpanplus/5.12.1/build/Apache-Test-1.36/blib/lib:/Volumes/Media/smoke/rel/conf/perl-5.12.1/.cpanplus/5.12.1/build/Apache-Test-1.36/blib/arch"
PERL5_CPANPLUS_IS_RUNNING="24798"
PERL5_CPANPLUS_IS_VERSION="0.9105"
PERL5_MINISMOKEBOX="0.44"
PERL5_YACSMOKE_BASE="/Volumes/Media/smoke/rel/conf/perl-5.12.1"
PERL_EXTUTILS_AUTOINSTALL="--defaultdeps"
PERL_MM_USE_DEFAULT="1"
@INC:
/Volumes/Media/smoke/rel/conf/perl-5.12.1/.cpanplus/5.12.1/build/Apache-Test-1.36/blib/lib
/Volumes/Media/smoke/rel/conf/perl-5.12.1/.cpanplus/5.12.1/build/Apache-Test-1.36/blib/arch
/Volumes/Media/smoke/rel/perl-5.12.1/lib/site_perl/5.12.1/darwin-thread-multi-64int-2level
/Volumes/Media/smoke/rel/perl-5.12.1/lib/site_perl/5.12.1
/Volumes/Media/smoke/rel/perl-5.12.1/lib/5.12.1/darwin-thread-multi-64int-2level
/Volumes/Media/smoke/rel/perl-5.12.1/lib/5.12.1
.