Net-Async-Redis v6.006 Perl 5 v5.38.4 RC1 x86_64-linux
- Status
- Pass
- From
- Andreas J. König (ANDK)
- Dist
-
Net-Async-Redis v6.006
- Platform
- Perl 5 v5.38.4 RC1 x86_64-linux
- Date
- 2025-04-01 14:57:47
- ID
- acccb9d6-0f09-11f0-910f-ff8a8731b237
This distribution has been tested as part of the CPAN Testers
project, supporting the Perl programming language. See
http://wiki.cpantesters.org/ for more information or email
questions to cpan-testers-discuss@perl.org
--
Dear Tom Molesworth,
This is a computer-generated report for Net-Async-Redis-6.006
on perl 5.38.4, created by CPAN-Reporter-1.2020.
Thank you for uploading your work to CPAN. Congratulations!
All tests were successful.
Sections of this report:
* Tester comments
* Program output
* Prerequisites
* Environment and other context
------------------------------
TESTER COMMENTS
------------------------------
Additional comments from tester:
this report is from an automated smoke testing program
and was not reviewed by a human for accuracy
------------------------------
PROGRAM OUTPUT
------------------------------
Output from '/usr/bin/make test':
Skip blib/lib/auto/share/dist/Net-Async-Redis/commands.yaml (unchanged)
PERL_DL_NONLAZY=1 "/tmp/basesmoker-reloperl-3VRm/bin/perl" "-MExtUtils::Command::MM" "-MTest::Harness" "-e" "undef *Test::Harness::Switches; test_harness(0, 'blib/lib', 'blib/arch')" t/*.t
t/00-check-deps.t ................ ok
t/00-compile.t ................... ok
#
# Versions for all modules listed in MYMETA.json (including optional ones):
#
# === Configure Requires ===
#
# Module Want Have
# ----------------------- ---- ----
# ExtUtils::MakeMaker any 7.72
# File::ShareDir::Install 0.06 0.14
#
# === Build Requires ===
#
# Module Want Have
# ------------------- ---- ----
# ExtUtils::MakeMaker any 7.72
#
# === Test Requires ===
#
# Module Want Have
# --------------------- ----- --------
# ExtUtils::MakeMaker any 7.72
# File::Spec any 3.88
# IO::Handle any 1.52
# IPC::Open3 any 1.22
# Test::CheckDeps 0.010 0.010
# Test::Deep any 1.204
# Test::Fatal 0.016 0.017
# Test::HexString any 0.03
# Test::MockModule any 0.179.0
# Test::More 0.98 1.302210
# Variable::Disposition 0.004 0.005
#
# === Test Recommends ===
#
# Module Want Have
# ---------- -------- --------
# CPAN::Meta 2.120900 2.150010
#
# === Runtime Requires ===
#
# Module Want Have
# ---------------------------- ----- --------
# Cache::LRU 0.04 0.04
# Class::Method::Modifiers any 2.15
# Digest::CRC 0.22 0.24
# Dir::Self any 0.11
# File::ShareDir any 1.118
# File::ShareDir::Install any 0.14
# Full::Class 1.004 1.004
# Future 0.51 0.51
# Future::AsyncAwait 0.48 0.70
# Future::Queue 0.50 0.52
# IO::Async any 0.803
# List::BinarySearch::XS 0.09 0.09
# List::Util 1.55 1.68
# Log::Any 1.708 1.717
# Math::Random::Secure any 0.080001
# Metrics::Any any 0.10
# Object::Pad 0.800 0.820
# Path::Tiny any 0.148
# Ryu 2.009 4.001
# Ryu::Async 0.019 0.020
# Syntax::Keyword::Dynamically 0.07 0.14
# Syntax::Keyword::Match any 0.15
# Syntax::Keyword::Try 0.21 0.30
# URI any 5.31
# URI::redis any 0.02
# YAML::XS 0.88 v0.903.0
# curry any 2.000001
# parent any 0.244
#
# === Runtime Recommends ===
#
# Module Want Have
# ------------------ ----- -------
# OpenTelemetry 0.018 missing
# OpenTelemetry::SDK 0.020 missing
#
# === Runtime Suggests ===
#
# Module Want Have
# ---------------- ----- -----
# OpenTracing::Any 1.003 1.006
#
t/00-report-prereqs.t ............ ok
t/basic.t ........................ skipped: set NET_ASYNC_REDIS_HOST env var to test, but be prepared for it to *wipe that redis instance*
t/client_side_caching.t .......... skipped: set NET_ASYNC_REDIS_HOST or NET_ASYNC_REDIS_URI env var to test
t/cluster.t ...................... skipped: set NET_ASYNC_REDIS_CLUSTER env var to test
t/hash_slot.t .................... ok
t/interleave.t ................... skipped: set NET_ASYNC_REDIS_HOST env var to test
t/keyspec.t ...................... ok
t/multi.t ........................ skipped: set NET_ASYNC_REDIS_HOST env var to test
t/pipeline.t ..................... skipped: set NET_ASYNC_REDIS_HOST or NET_ASYNC_REDIS_URI env var to test
t/protocol.t ..................... ok
t/protocol_compatibility_test.t .. skipped: set NET_ASYNC_REDIS5_URI and NET_ASYNC_REDIS6_URI env var to test
t/psubscribe.t ................... skipped: set NET_ASYNC_REDIS_HOST env var to test
t/pubsub.t ....................... skipped: set NET_ASYNC_REDIS_HOST or NET_ASYNC_REDIS_URI env var to test
t/watch_keyspace.t ............... skipped: set NET_ASYNC_REDIS_HOST env var to test
All tests successful.
Files=16, Tests=737, 9 wallclock secs ( 0.09 usr 0.03 sys + 8.24 cusr 0.64 csys = 9.00 CPU)
Result: PASS
------------------------------
PREREQUISITES
------------------------------
Prerequisite modules loaded:
requires:
Module Need Have
---------------------------- ----- --------
Cache::LRU 0.04 0.04
Class::Method::Modifiers 0 2.15
curry 0 2.000001
Digest::CRC 0.22 0.24
Dir::Self 0 0.11
File::ShareDir 0 1.118
File::ShareDir::Install 0 0.14
Full::Class 1.004 1.004
Future 0.51 0.51
Future::AsyncAwait 0.48 0.70
Future::Queue 0.50 0.52
IO::Async 0 0.803
List::BinarySearch::XS 0.09 0.09
List::Util 1.55 1.68
Log::Any 1.708 1.717
Math::Random::Secure 0 0.080001
Metrics::Any 0 0.10
Object::Pad 0.800 0.820
parent 0 0.244
Path::Tiny 0 0.148
Ryu 2.009 4.001
Ryu::Async 0.019 0.020
Syntax::Keyword::Dynamically 0.07 0.14
Syntax::Keyword::Match 0 0.15
Syntax::Keyword::Try 0.21 0.30
URI 0 5.31
URI::redis 0 0.02
YAML::XS 0.88 v0.903.0
build_requires:
Module Need Have
---------------------------- ----- --------
ExtUtils::MakeMaker 0 7.72
File::Spec 0 3.88
IO::Handle 0 1.52
IPC::Open3 0 1.22
Test::CheckDeps 0.010 0.010
Test::Deep 0 1.204
Test::Fatal 0.016 0.017
Test::HexString 0 0.03
Test::MockModule 0 0.179.0
Test::More 0.98 1.302210
Variable::Disposition 0.004 0.005
configure_requires:
Module Need Have
---------------------------- ----- --------
ExtUtils::MakeMaker 0 7.72
File::ShareDir::Install 0.06 0.14
opt_requires:
Module Need Have
---------------------------- ----- --------
! OpenTelemetry 0.018 n/a
! OpenTelemetry::SDK 0.020 n/a
------------------------------
ENVIRONMENT AND OTHER CONTEXT
------------------------------
Environment variables:
AUTOMATED_TESTING = 1
LANG = en_US.UTF-8
PATH = /home/sand/bin:/usr/local/bin:/usr/local/sbin:/usr/sbin:/usr/bin:/sbin:/bin:/usr/games:/usr/local/games:/snap/bin:/usr/local/perl/bin:/usr/X11/bin
PERL = /tmp/basesmoker-reloperl-3VRm/bin/perl
PERL5LIB = /tmp/loop_over_bdir-2787454-LT3RhR/Alien-SNMP-MIBDEV-2.020000-0/blib/arch:/tmp/loop_over_bdir-2787454-LT3RhR/Alien-SNMP-MIBDEV-2.020000-0/blib/lib:/tmp/loop_over_bdir-2787454-LT3RhR/LiquidWeb-Storm-CLI-1.03-0/blib/arch:/tmp/loop_over_bdir-2787454-LT3RhR/LiquidWeb-Storm-CLI-1.03-0/blib/lib:/tmp/loop_over_bdir-2787454-LT3RhR/Module-ScanDeps-Static-1.7.2-0/blib/arch:/tmp/loop_over_bdir-2787454-LT3RhR/Module-ScanDeps-Static-1.7.2-0/blib/lib:/tmp/loop_over_bdir-2787454-LT3RhR/HTML-Menu-TreeView-1.22-0/blib/arch:/tmp/loop_over_bdir-2787454-LT3RhR/HTML-Menu-TreeView-1.22-0/blib/lib
PERL5OPT =
PERL5_CPANPLUS_IS_RUNNING = 2787464
PERL5_CPAN_IS_RUNNING = 2787464
PERL_CANARY_STABILITY_NOPROMPT = 1
PERL_MM_USE_DEFAULT = 1
PERL_USE_UNSAFE_INC = 1
SHELL = /usr/bin/zsh
TERM = screen
Perl special variables (and OS-specific diagnostics, for MSWin32):
$^X = /tmp/basesmoker-reloperl-3VRm/bin/perl
$UID/$EUID = 1005 / 1005
$GID = 1005 1005
$EGID = 1005 1005
Perl module toolchain versions installed:
Module Have
------------------- --------
CPAN 2.38
CPAN::Meta 2.150010
Cwd 3.89
ExtUtils::CBuilder 0.280238
ExtUtils::Command 7.72
ExtUtils::Install 2.22
ExtUtils::MakeMaker 7.72
ExtUtils::Manifest 1.73
ExtUtils::ParseXS 3.51
File::Spec 3.88
JSON 4.10
JSON::PP 4.16
Module::Build 0.4234
Module::Signature 0.89
Parse::CPAN::Meta 2.150010
Test2 1.302210
Test::Harness 3.50
Test::More 1.302210
YAML 1.31
YAML::Syck 1.34
version 0.9933
--
Summary of my perl5 (revision 5 version 38 subversion 4) configuration:
Platform:
osname=linux
osvers=5.4.0-208-generic
archname=x86_64-linux
uname='linux k93focal 5.4.0-208-generic #228-ubuntu smp fri feb 7 19:41:33 utc 2025 x86_64 x86_64 x86_64 gnulinux '
config_args='-Dprefix=/home/sand/src/perl/repoperls/installed-perls/host/k93focal/perl-5.38.4-RC1/d119 -Dmyhostname=k93focal -Dinstallusrbinperl=n -Uversiononly -Dusedevel -des -Ui_db -Dlibswanted=cl pthread socket inet nsl gdbm dbm malloc dl ld sun m crypt sec util c cposix posix ucb BSD gdbm_compat -Duseithreads -Uuselongdouble -DEBUGGING=both'
hint=previous
useposix=true
d_sigaction=define
useithreads=undef
usemultiplicity=undef
use64bitint=define
use64bitall=define
uselongdouble=undef
usemymalloc=n
default_inc_excludes_dot=define
Compiler:
cc='cc'
ccflags ='-fwrapv -DDEBUGGING -fno-strict-aliasing -pipe -fstack-protector-strong -I/usr/local/include -D_LARGEFILE_SOURCE -D_FILE_OFFSET_BITS=64'
optimize='-O2 -g'
cppflags='-fwrapv -DDEBUGGING -fno-strict-aliasing -pipe -fstack-protector-strong -I/usr/local/include'
ccversion=''
gccversion='9.4.0'
gccosandvers=''
intsize=4
longsize=8
ptrsize=8
doublesize=8
byteorder=12345678
doublekind=3
d_longlong=define
longlongsize=8
d_longdbl=define
longdblsize=16
longdblkind=3
ivtype='long'
ivsize=8
nvtype='double'
nvsize=8
Off_t='off_t'
lseeksize=8
alignbytes=8
prototype=define
Linker and Libraries:
ld='cc'
ldflags =' -fstack-protector-strong -L/usr/local/lib'
libpth=/usr/local/lib /usr/lib/x86_64-linux-gnu /usr/lib /usr/lib64
libs=-lpthread -lnsl -ldl -lm -lcrypt -lutil -lc
perllibs=-lpthread -lnsl -ldl -lm -lcrypt -lutil -lc
libc=libc-2.31.so
so=so
useshrplib=false
libperl=libperl.a
gnulibc_version='2.31'
Dynamic Linking:
dlsrc=dl_dlopen.xs
dlext=so
d_dlsymun=undef
ccdlflags='-Wl,-E'
cccdlflags='-fPIC'
lddlflags='-shared -O2 -g -L/usr/local/lib -fstack-protector-strong'
Characteristics of this binary (from libperl):
Compile-time options:
DEBUGGING
HAS_LONG_DOUBLE
HAS_STRTOLD
HAS_TIMES
PERLIO_LAYERS
PERL_COPY_ON_WRITE
PERL_DONT_CREATE_GVSV
PERL_HASH_FUNC_SIPHASH13
PERL_HASH_USE_SBOX32
PERL_MALLOC_WRAP
PERL_OP_PARENT
PERL_PRESERVE_IVUV
PERL_USE_DEVEL
PERL_USE_SAFE_PUTENV
USE_64_BIT_ALL
USE_64_BIT_INT
USE_LARGE_FILES
USE_LOCALE
USE_LOCALE_COLLATE
USE_LOCALE_CTYPE
USE_LOCALE_NUMERIC
USE_LOCALE_TIME
USE_PERLIO
USE_PERL_ATOF
Locally applied patches:
RC1
Built under linux
Compiled at Mar 30 2025 19:41:51
%ENV:
PERL="/tmp/basesmoker-reloperl-3VRm/bin/perl"
PERL5LIB="/tmp/loop_over_bdir-2787454-LT3RhR/Alien-SNMP-MIBDEV-2.020000-0/blib/arch:/tmp/loop_over_bdir-2787454-LT3RhR/Alien-SNMP-MIBDEV-2.020000-0/blib/lib:/tmp/loop_over_bdir-2787454-LT3RhR/LiquidWeb-Storm-CLI-1.03-0/blib/arch:/tmp/loop_over_bdir-2787454-LT3RhR/LiquidWeb-Storm-CLI-1.03-0/blib/lib:/tmp/loop_over_bdir-2787454-LT3RhR/Module-ScanDeps-Static-1.7.2-0/blib/arch:/tmp/loop_over_bdir-2787454-LT3RhR/Module-ScanDeps-Static-1.7.2-0/blib/lib:/tmp/loop_over_bdir-2787454-LT3RhR/HTML-Menu-TreeView-1.22-0/blib/arch:/tmp/loop_over_bdir-2787454-LT3RhR/HTML-Menu-TreeView-1.22-0/blib/lib"
PERL5OPT=""
PERL5_CPANPLUS_IS_RUNNING="2787464"
PERL5_CPAN_IS_RUNNING="2787464"
PERL_CANARY_STABILITY_NOPROMPT="1"
PERL_MM_USE_DEFAULT="1"
PERL_USE_UNSAFE_INC="1"
@INC:
/tmp/loop_over_bdir-2787454-LT3RhR/Alien-SNMP-MIBDEV-2.020000-0/blib/arch
/tmp/loop_over_bdir-2787454-LT3RhR/Alien-SNMP-MIBDEV-2.020000-0/blib/lib
/tmp/loop_over_bdir-2787454-LT3RhR/LiquidWeb-Storm-CLI-1.03-0/blib/arch
/tmp/loop_over_bdir-2787454-LT3RhR/LiquidWeb-Storm-CLI-1.03-0/blib/lib
/tmp/loop_over_bdir-2787454-LT3RhR/Module-ScanDeps-Static-1.7.2-0/blib/arch
/tmp/loop_over_bdir-2787454-LT3RhR/Module-ScanDeps-Static-1.7.2-0/blib/lib
/tmp/loop_over_bdir-2787454-LT3RhR/HTML-Menu-TreeView-1.22-0/blib/arch
/tmp/loop_over_bdir-2787454-LT3RhR/HTML-Menu-TreeView-1.22-0/blib/lib
/home/sand/src/perl/repoperls/installed-perls/host/k93focal/perl-5.38.4-RC1/b254/lib/site_perl/5.38.4/x86_64-linux
/home/sand/src/perl/repoperls/installed-perls/host/k93focal/perl-5.38.4-RC1/b254/lib/site_perl/5.38.4
/home/sand/src/perl/repoperls/installed-perls/host/k93focal/perl-5.38.4-RC1/b254/lib/5.38.4/x86_64-linux
/home/sand/src/perl/repoperls/installed-perls/host/k93focal/perl-5.38.4-RC1/b254/lib/5.38.4
.