Back
From: metabase:user:314402c4-2aae-11df-837a-5e0a49663a4f
Subject: PASS Plack-Middleware-ReverseProxyPath-0.03 v5.15.8 FreeBSD
Date: 2012-03-19T09:48:26Z
This distribution has been tested as part of the CPAN Testers
project, supporting the Perl programming language. See
http://wiki.cpantesters.org/ for more information or email
questions to cpan-testers-discuss@perl.org
--
Dear Brad Bowman,
This is a computer-generated report for Plack-Middleware-ReverseProxyPath-0.03
on perl 5.15.8, created by CPAN-Reporter-1.2005.
Thank you for uploading your work to CPAN. Congratulations!
All tests were successful.
Sections of this report:
* Tester comments
* Program output
* Prerequisites
* Environment and other context
------------------------------
TESTER COMMENTS
------------------------------
Additional comments from tester:
none provided
------------------------------
PROGRAM OUTPUT
------------------------------
Output from '/usr/bin/make test':
PERL_DL_NONLAZY=1 /usr/perl5.15.8/bin/perl5.15.8 "-MExtUtils::Command::MM" "-e" "test_harness(0, 'blib/lib', 'blib/arch')" t/*.t
# Testing Plack::Middleware::ReverseProxyPath 0.03
t/00.load.t ............... ok
t/author-critic.t ......... skipped: these tests are for testing by the author
t/author-synopsis.t ....... skipped: these tests are for testing by the author
t/basics.t ................ ok
t/exceptions.t ............ ok
t/release-pod-coverage.t .. skipped: these tests are for release candidate testing
t/release-pod-syntax.t .... skipped: these tests are for release candidate testing
All tests successful.
Files=7, Tests=184, 1 wallclock secs ( 0.09 usr 0.03 sys + 0.58 cusr 0.14 csys = 0.84 CPU)
Result: PASS
------------------------------
PREREQUISITES
------------------------------
Prerequisite modules loaded:
requires:
Module Need Have
------------------- ------- -------
Plack::Middleware 0 0
build_requires:
Module Need Have
------------------- ------- -------
Test::More 0.87_01 0.98
configure_requires:
Module Need Have
------------------- ------- -------
ExtUtils::MakeMaker 6.31 6.63_02
------------------------------
ENVIRONMENT AND OTHER CONTEXT
------------------------------
Environment variables:
DBIC_NO_WARN_BAD_PERL = 1
PATH = /usr/local/bin:/usr/X11R6/bin:/usr/X11/bin:/usr/perl5.8.0/bin:/usr/bin:/bin:/usr/local/sbin:/usr/sbin:/sbin:/usr/local/pilot/bin:/home/cpansand/bin/freebsd8.0:/home/cpansand/bin/sh:/home/cpansand/bin:/usr/X386/bin:/usr/games:/home/cpansand/devel:/usr/home/e/eserte/work/srezic-misc/scripts
PERL5LIB = /usr/local/src/CPAN/build/Data-Overlay-0.54-OYMmX3/blib/arch:/usr/local/src/CPAN/build/Data-Overlay-0.54-OYMmX3/blib/lib:/usr/local/src/CPAN/build/LastFM-Export-0.01-4394Wg/blib/arch:/usr/local/src/CPAN/build/LastFM-Export-0.01-4394Wg/blib/lib:/usr/local/src/CPAN/build/Net-LastFM-0.34-pHI7bC/blib/arch:/usr/local/src/CPAN/build/Net-LastFM-0.34-pHI7bC/blib/lib:/usr/local/src/CPAN/build/JSON-XS-VersionOneAndTwo-0.31-l9VxRi/blib/arch:/usr/local/src/CPAN/build/JSON-XS-VersionOneAndTwo-0.31-l9VxRi/blib/lib:/usr/local/src/CPAN/build/Devel-Trace-0.12-fvS0TV/blib/arch:/usr/local/src/CPAN/build/Devel-Trace-0.12-fvS0TV/blib/lib
PERL5OPT =
PERL5_CPANPLUS_IS_RUNNING = 83622
PERL5_CPAN_IS_RUNNING = 83622
PERL5_CPAN_IS_RUNNING_IN_RECURSION = 83387,83622
PERL_BATCH = yes
PERL_CPAN_REPORTER_CONFIG = /var/tmp/cpansmoker-1023/3fsVt_rby__config.ini
PERL_EXTUTILS_AUTOINSTALL = --defaultdeps
PERL_HTML_DISPLAY_CLASS = HTML::Display::Mozilla
SHELL = /usr/local/bin/zsh
TERM = screen
TMPDIR = /var/tmp/cpansmoker-1023
Perl special variables (and OS-specific diagnostics, for MSWin32):
$^X = /usr/perl5.15.8/bin/perl5.15.8
$UID/$EUID = 1023 / 1023
$GID = 1023 1023
$EGID = 1023 1023
Perl module toolchain versions installed:
Module Have
------------------- --------
CPAN 1.9800
CPAN::Meta 2.120351
Cwd 3.39_02
ExtUtils::CBuilder 0.280205
ExtUtils::Command 1.17
ExtUtils::Install 1.58
ExtUtils::MakeMaker 6.63_02
ExtUtils::Manifest 1.61
ExtUtils::ParseXS 3.16
File::Spec 3.39_02
JSON 2.53
JSON::PP 2.27200
Module::Build 0.40
Module::Signature 0.68
Parse::CPAN::Meta 1.4402
Test::Harness 3.23
Test::More 0.98
YAML 0.80
YAML::Syck 1.20
version 0.96
--
Summary of my perl5 (revision 5 version 15 subversion 8) configuration:
Platform:
osname=freebsd, osvers=8.0-release-p4, archname=i386-freebsd
uname='freebsd biokovo.herceg.de 8.0-release-p4 freebsd 8.0-release-p4 #0: mon jul 12 20:22:27 utc 2010 root@i386-builder.daemonology.net:usrobjusrsrcsysgeneric i386 '
config_args='-Dprefix=/usr/perl5.15.8 -Dusemymalloc=n -D cc=ccache cc -D usedevel=define -Dgccansipedantic -Duse64bit -de -D hintfile=myfreebsd'
hint=recommended, useposix=true, d_sigaction=define
useithreads=undef, usemultiplicity=undef
useperlio=define, d_sfio=undef, uselargefiles=define, usesocks=undef
use64bitint=undef, use64bitall=undef, uselongdouble=undef
usemymalloc=n, bincompat5005=undef
Compiler:
cc='ccache cc', ccflags ='-DHAS_FPSETMASK -DHAS_FLOATINGPOINT_H -fno-strict-aliasing -pipe -fstack-protector -I/usr/local/include',
optimize='-O2 -mtune=athlon64 -pipe',
cppflags='-DHAS_FPSETMASK -DHAS_FLOATINGPOINT_H -fno-strict-aliasing -pipe -fstack-protector -I/usr/local/include'
ccversion='', gccversion='4.2.1 20070719 [FreeBSD]', gccosandvers=''
intsize=4, longsize=4, ptrsize=4, doublesize=8, byteorder=1234
d_longlong=define, longlongsize=8, d_longdbl=define, longdblsize=12
ivtype='long', ivsize=4, nvtype='double', nvsize=8, Off_t='off_t', lseeksize=8
alignbytes=4, prototype=define
Linker and Libraries:
ld='ccache cc', ldflags ='-Wl,-E -fstack-protector -L/usr/local/lib'
libpth=/usr/lib /usr/local/lib
libs=-lgdbm -lm -lcrypt -lutil -lc
perllibs=-lm -lcrypt -lutil -lc
libc=, so=so, useshrplib=false, libperl=libperl.a
gnulibc_version=''
Dynamic Linking:
dlsrc=dl_dlopen.xs, dlext=so, d_dlsymun=undef, ccdlflags=' '
cccdlflags='-DPIC -fPIC', lddlflags='-shared -L/usr/local/lib -fstack-protector'
Characteristics of this binary (from libperl):
Compile-time options: HAS_TIMES PERLIO_LAYERS PERL_DONT_CREATE_GVSV
PERL_MALLOC_WRAP PERL_PRESERVE_IVUV PERL_USE_DEVEL
USE_LARGE_FILES USE_LOCALE USE_LOCALE_COLLATE
USE_LOCALE_CTYPE USE_LOCALE_NUMERIC USE_PERLIO
USE_PERL_ATOF
Built under freebsd
Compiled at Mar 1 2012 21:49:36
%ENV:
PERL5LIB="/usr/local/src/CPAN/build/Data-Overlay-0.54-OYMmX3/blib/arch:/usr/local/src/CPAN/build/Data-Overlay-0.54-OYMmX3/blib/lib:/usr/local/src/CPAN/build/LastFM-Export-0.01-4394Wg/blib/arch:/usr/local/src/CPAN/build/LastFM-Export-0.01-4394Wg/blib/lib:/usr/local/src/CPAN/build/Net-LastFM-0.34-pHI7bC/blib/arch:/usr/local/src/CPAN/build/Net-LastFM-0.34-pHI7bC/blib/lib:/usr/local/src/CPAN/build/JSON-XS-VersionOneAndTwo-0.31-l9VxRi/blib/arch:/usr/local/src/CPAN/build/JSON-XS-VersionOneAndTwo-0.31-l9VxRi/blib/lib:/usr/local/src/CPAN/build/Devel-Trace-0.12-fvS0TV/blib/arch:/usr/local/src/CPAN/build/Devel-Trace-0.12-fvS0TV/blib/lib"
PERL5OPT=""
PERL5_CPANPLUS_IS_RUNNING="83622"
PERL5_CPAN_IS_RUNNING="83622"
PERL5_CPAN_IS_RUNNING_IN_RECURSION="83387,83622"
PERL_BATCH="yes"
PERL_CPAN_REPORTER_CONFIG="/var/tmp/cpansmoker-1023/3fsVt_rby__config.ini"
PERL_EXTUTILS_AUTOINSTALL="--defaultdeps"
PERL_HTML_DISPLAY_CLASS="HTML::Display::Mozilla"
@INC:
/usr/local/src/CPAN/build/Data-Overlay-0.54-OYMmX3/blib/arch
/usr/local/src/CPAN/build/Data-Overlay-0.54-OYMmX3/blib/lib
/usr/local/src/CPAN/build/LastFM-Export-0.01-4394Wg/blib/arch
/usr/local/src/CPAN/build/LastFM-Export-0.01-4394Wg/blib/lib
/usr/local/src/CPAN/build/Net-LastFM-0.34-pHI7bC/blib/arch
/usr/local/src/CPAN/build/Net-LastFM-0.34-pHI7bC/blib/lib
/usr/local/src/CPAN/build/JSON-XS-VersionOneAndTwo-0.31-l9VxRi/blib/arch
/usr/local/src/CPAN/build/JSON-XS-VersionOneAndTwo-0.31-l9VxRi/blib/lib
/usr/local/src/CPAN/build/Devel-Trace-0.12-fvS0TV/blib/arch
/usr/local/src/CPAN/build/Devel-Trace-0.12-fvS0TV/blib/lib
/usr/perl5.15.8/lib/site_perl/5.15.8/i386-freebsd
/usr/perl5.15.8/lib/site_perl/5.15.8
/usr/perl5.15.8/lib/5.15.8/i386-freebsd
/usr/perl5.15.8/lib/5.15.8
.