CPP-panda-lib v1.2.10 Perl 5 v5.31.5 x86_64-linux
- Status
- Pass
- From
- Slaven Rezić (SREZIC)
- Dist
-
CPP-panda-lib v1.2.10
- Platform
- Perl 5 v5.31.5 x86_64-linux
- Date
- 2019-11-19 05:23:10
- ID
- acf5a1fc-0a8c-11ea-a9e1-311e1f24ea8f
This distribution has been tested as part of the CPAN Testers
project, supporting the Perl programming language. See
http://wiki.cpantesters.org/ for more information or email
questions to cpan-testers-discuss@perl.org
--
Dear Oleg Pronin,
This is a computer-generated report for CPP-panda-lib-1.2.10
on perl 5.31.5, created by CPAN-Reporter-1.2018.
Thank you for uploading your work to CPAN. Congratulations!
All tests were successful.
Sections of this report:
* Tester comments
* Program output
* Prerequisites
* Environment and other context
------------------------------
TESTER COMMENTS
------------------------------
Additional comments from tester:
none provided
------------------------------
PROGRAM OUTPUT
------------------------------
Output from '/usr/bin/make test':
"/opt/perl-5.31.5/bin/perl5.31.5" -MExtUtils::Command::MM -e 'cp_nonempty' -- lib.bs blib/arch/auto/CPP/panda/lib/lib.bs 644
c++ -c -Isrc -I/home/cpansand/.cpan/build/2019103118/XS-Install-1.2.11-0/blib/lib/XS/Install.x/i -I/home/cpansand/.cpan/build/2019103118/CPP-catch-1.0.8-0/blib/lib/CPP/catch.x/i -fwrapv -fno-strict-aliasing -pipe -fstack-protector-strong -I/usr/local/include -D_LARGEFILE_SOURCE -D_FILE_OFFSET_BITS=64 -D_FORTIFY_SOURCE=2 -Wall -Wextra -std=c++14 -o t/bench.o -O0 -DVERSION=\"0.0.0\" -DXS_VERSION=\"0.0.0\" -fPIC "-I/opt/perl-5.31.5/lib/5.31.5/x86_64-linux/CORE" t/bench.cc
In file included from /usr/include/c++/8/x86_64-redhat-linux/bits/os_defines.h:39,
from /usr/include/c++/8/x86_64-redhat-linux/bits/c++config.h:2452,
from /usr/include/c++/8/cstring:41,
from t/test.h:2,
from t/bench.cc:1:
/usr/include/features.h:381:4: warning: #warning _FORTIFY_SOURCE requires compiling with optimization (-O) [-Wcpp]
# warning _FORTIFY_SOURCE requires compiling with optimization (-O)
^~~~~~~
c++ -c -Isrc -I/home/cpansand/.cpan/build/2019103118/XS-Install-1.2.11-0/blib/lib/XS/Install.x/i -I/home/cpansand/.cpan/build/2019103118/CPP-catch-1.0.8-0/blib/lib/CPP/catch.x/i -fwrapv -fno-strict-aliasing -pipe -fstack-protector-strong -I/usr/local/include -D_LARGEFILE_SOURCE -D_FILE_OFFSET_BITS=64 -D_FORTIFY_SOURCE=2 -Wall -Wextra -std=c++14 -o t/dispatcher.o -O0 -DVERSION=\"0.0.0\" -DXS_VERSION=\"0.0.0\" -fPIC "-I/opt/perl-5.31.5/lib/5.31.5/x86_64-linux/CORE" t/dispatcher.cc
In file included from /usr/include/c++/8/x86_64-redhat-linux/bits/os_defines.h:39,
from /usr/include/c++/8/x86_64-redhat-linux/bits/c++config.h:2452,
from /usr/include/c++/8/cstring:41,
from t/test.h:2,
from t/dispatcher.cc:1:
/usr/include/features.h:381:4: warning: #warning _FORTIFY_SOURCE requires compiling with optimization (-O) [-Wcpp]
# warning _FORTIFY_SOURCE requires compiling with optimization (-O)
^~~~~~~
c++ -c -Isrc -I/home/cpansand/.cpan/build/2019103118/XS-Install-1.2.11-0/blib/lib/XS/Install.x/i -I/home/cpansand/.cpan/build/2019103118/CPP-catch-1.0.8-0/blib/lib/CPP/catch.x/i -fwrapv -fno-strict-aliasing -pipe -fstack-protector-strong -I/usr/local/include -D_LARGEFILE_SOURCE -D_FILE_OFFSET_BITS=64 -D_FORTIFY_SOURCE=2 -Wall -Wextra -std=c++14 -o t/endian.o -O0 -DVERSION=\"0.0.0\" -DXS_VERSION=\"0.0.0\" -fPIC "-I/opt/perl-5.31.5/lib/5.31.5/x86_64-linux/CORE" t/endian.cc
In file included from /usr/include/c++/8/x86_64-redhat-linux/bits/os_defines.h:39,
from /usr/include/c++/8/x86_64-redhat-linux/bits/c++config.h:2452,
from /usr/include/c++/8/cstring:41,
from t/test.h:2,
from t/endian.cc:1:
/usr/include/features.h:381:4: warning: #warning _FORTIFY_SOURCE requires compiling with optimization (-O) [-Wcpp]
# warning _FORTIFY_SOURCE requires compiling with optimization (-O)
^~~~~~~
c++ -c -Isrc -I/home/cpansand/.cpan/build/2019103118/XS-Install-1.2.11-0/blib/lib/XS/Install.x/i -I/home/cpansand/.cpan/build/2019103118/CPP-catch-1.0.8-0/blib/lib/CPP/catch.x/i -fwrapv -fno-strict-aliasing -pipe -fstack-protector-strong -I/usr/local/include -D_LARGEFILE_SOURCE -D_FILE_OFFSET_BITS=64 -D_FORTIFY_SOURCE=2 -Wall -Wextra -std=c++14 -o t/excepted.o -O0 -DVERSION=\"0.0.0\" -DXS_VERSION=\"0.0.0\" -fPIC "-I/opt/perl-5.31.5/lib/5.31.5/x86_64-linux/CORE" t/excepted.cc
In file included from /usr/include/c++/8/x86_64-redhat-linux/bits/os_defines.h:39,
from /usr/include/c++/8/x86_64-redhat-linux/bits/c++config.h:2452,
from /usr/include/c++/8/cstring:41,
from t/test.h:2,
from t/excepted.cc:1:
/usr/include/features.h:381:4: warning: #warning _FORTIFY_SOURCE requires compiling with optimization (-O) [-Wcpp]
# warning _FORTIFY_SOURCE requires compiling with optimization (-O)
^~~~~~~
c++ -c -Isrc -I/home/cpansand/.cpan/build/2019103118/XS-Install-1.2.11-0/blib/lib/XS/Install.x/i -I/home/cpansand/.cpan/build/2019103118/CPP-catch-1.0.8-0/blib/lib/CPP/catch.x/i -fwrapv -fno-strict-aliasing -pipe -fstack-protector-strong -I/usr/local/include -D_LARGEFILE_SOURCE -D_FILE_OFFSET_BITS=64 -D_FORTIFY_SOURCE=2 -Wall -Wextra -std=c++14 -o t/from_chars.o -O0 -DVERSION=\"0.0.0\" -DXS_VERSION=\"0.0.0\" -fPIC "-I/opt/perl-5.31.5/lib/5.31.5/x86_64-linux/CORE" t/from_chars.cc
In file included from /usr/include/c++/8/x86_64-redhat-linux/bits/os_defines.h:39,
from /usr/include/c++/8/x86_64-redhat-linux/bits/c++config.h:2452,
from /usr/include/c++/8/cstring:41,
from t/test.h:2,
from t/from_chars.cc:1:
/usr/include/features.h:381:4: warning: #warning _FORTIFY_SOURCE requires compiling with optimization (-O) [-Wcpp]
# warning _FORTIFY_SOURCE requires compiling with optimization (-O)
^~~~~~~
c++ -c -Isrc -I/home/cpansand/.cpan/build/2019103118/XS-Install-1.2.11-0/blib/lib/XS/Install.x/i -I/home/cpansand/.cpan/build/2019103118/CPP-catch-1.0.8-0/blib/lib/CPP/catch.x/i -fwrapv -fno-strict-aliasing -pipe -fstack-protector-strong -I/usr/local/include -D_LARGEFILE_SOURCE -D_FILE_OFFSET_BITS=64 -D_FORTIFY_SOURCE=2 -Wall -Wextra -std=c++14 -o t/function.o -O0 -DVERSION=\"0.0.0\" -DXS_VERSION=\"0.0.0\" -fPIC "-I/opt/perl-5.31.5/lib/5.31.5/x86_64-linux/CORE" t/function.cc
In file included from /usr/include/c++/8/x86_64-redhat-linux/bits/os_defines.h:39,
from /usr/include/c++/8/x86_64-redhat-linux/bits/c++config.h:2452,
from /usr/include/c++/8/cstring:41,
from t/test.h:2,
from t/function.cc:1:
/usr/include/features.h:381:4: warning: #warning _FORTIFY_SOURCE requires compiling with optimization (-O) [-Wcpp]
# warning _FORTIFY_SOURCE requires compiling with optimization (-O)
^~~~~~~
c++ -c -Isrc -I/home/cpansand/.cpan/build/2019103118/XS-Install-1.2.11-0/blib/lib/XS/Install.x/i -I/home/cpansand/.cpan/build/2019103118/CPP-catch-1.0.8-0/blib/lib/CPP/catch.x/i -fwrapv -fno-strict-aliasing -pipe -fstack-protector-strong -I/usr/local/include -D_LARGEFILE_SOURCE -D_FILE_OFFSET_BITS=64 -D_FORTIFY_SOURCE=2 -Wall -Wextra -std=c++14 -o t/intrusive_chain.o -O0 -DVERSION=\"0.0.0\" -DXS_VERSION=\"0.0.0\" -fPIC "-I/opt/perl-5.31.5/lib/5.31.5/x86_64-linux/CORE" t/intrusive_chain.cc
In file included from /usr/include/c++/8/x86_64-redhat-linux/bits/os_defines.h:39,
from /usr/include/c++/8/x86_64-redhat-linux/bits/c++config.h:2452,
from /usr/include/c++/8/cstring:41,
from t/test.h:2,
from t/intrusive_chain.cc:1:
/usr/include/features.h:381:4: warning: #warning _FORTIFY_SOURCE requires compiling with optimization (-O) [-Wcpp]
# warning _FORTIFY_SOURCE requires compiling with optimization (-O)
^~~~~~~
c++ -c -Isrc -I/home/cpansand/.cpan/build/2019103118/XS-Install-1.2.11-0/blib/lib/XS/Install.x/i -I/home/cpansand/.cpan/build/2019103118/CPP-catch-1.0.8-0/blib/lib/CPP/catch.x/i -fwrapv -fno-strict-aliasing -pipe -fstack-protector-strong -I/usr/local/include -D_LARGEFILE_SOURCE -D_FILE_OFFSET_BITS=64 -D_FORTIFY_SOURCE=2 -Wall -Wextra -std=c++14 -o t/iptr.o -O0 -DVERSION=\"0.0.0\" -DXS_VERSION=\"0.0.0\" -fPIC "-I/opt/perl-5.31.5/lib/5.31.5/x86_64-linux/CORE" t/iptr.cc
In file included from /usr/include/c++/8/x86_64-redhat-linux/bits/os_defines.h:39,
from /usr/include/c++/8/x86_64-redhat-linux/bits/c++config.h:2452,
from /usr/include/c++/8/cstring:41,
from t/test.h:2,
from t/iptr.cc:1:
/usr/include/features.h:381:4: warning: #warning _FORTIFY_SOURCE requires compiling with optimization (-O) [-Wcpp]
# warning _FORTIFY_SOURCE requires compiling with optimization (-O)
^~~~~~~
c++ -c -Isrc -I/home/cpansand/.cpan/build/2019103118/XS-Install-1.2.11-0/blib/lib/XS/Install.x/i -I/home/cpansand/.cpan/build/2019103118/CPP-catch-1.0.8-0/blib/lib/CPP/catch.x/i -fwrapv -fno-strict-aliasing -pipe -fstack-protector-strong -I/usr/local/include -D_LARGEFILE_SOURCE -D_FILE_OFFSET_BITS=64 -D_FORTIFY_SOURCE=2 -Wall -Wextra -std=c++14 -o t/owning_list.o -O0 -DVERSION=\"0.0.0\" -DXS_VERSION=\"0.0.0\" -fPIC "-I/opt/perl-5.31.5/lib/5.31.5/x86_64-linux/CORE" t/owning_list.cc
In file included from /usr/include/c++/8/x86_64-redhat-linux/bits/os_defines.h:39,
from /usr/include/c++/8/x86_64-redhat-linux/bits/c++config.h:2452,
from /usr/include/c++/8/cstring:41,
from t/test.h:2,
from t/owning_list.cc:1:
/usr/include/features.h:381:4: warning: #warning _FORTIFY_SOURCE requires compiling with optimization (-O) [-Wcpp]
# warning _FORTIFY_SOURCE requires compiling with optimization (-O)
^~~~~~~
c++ -c -Isrc -I/home/cpansand/.cpan/build/2019103118/XS-Install-1.2.11-0/blib/lib/XS/Install.x/i -I/home/cpansand/.cpan/build/2019103118/CPP-catch-1.0.8-0/blib/lib/CPP/catch.x/i -fwrapv -fno-strict-aliasing -pipe -fstack-protector-strong -I/usr/local/include -D_LARGEFILE_SOURCE -D_FILE_OFFSET_BITS=64 -D_FORTIFY_SOURCE=2 -Wall -Wextra -std=c++14 -o t/string_char.o -O0 -DVERSION=\"0.0.0\" -DXS_VERSION=\"0.0.0\" -fPIC "-I/opt/perl-5.31.5/lib/5.31.5/x86_64-linux/CORE" t/string_char.cc
In file included from /usr/include/c++/8/x86_64-redhat-linux/bits/os_defines.h:39,
from /usr/include/c++/8/x86_64-redhat-linux/bits/c++config.h:2452,
from /usr/include/c++/8/cstring:41,
from t/test.h:2,
from t/string_test.h:2,
from t/string_char.cc:1:
/usr/include/features.h:381:4: warning: #warning _FORTIFY_SOURCE requires compiling with optimization (-O) [-Wcpp]
# warning _FORTIFY_SOURCE requires compiling with optimization (-O)
^~~~~~~
c++ -c -Isrc -I/home/cpansand/.cpan/build/2019103118/XS-Install-1.2.11-0/blib/lib/XS/Install.x/i -I/home/cpansand/.cpan/build/2019103118/CPP-catch-1.0.8-0/blib/lib/CPP/catch.x/i -fwrapv -fno-strict-aliasing -pipe -fstack-protector-strong -I/usr/local/include -D_LARGEFILE_SOURCE -D_FILE_OFFSET_BITS=64 -D_FORTIFY_SOURCE=2 -Wall -Wextra -std=c++14 -o t/string_char16.o -O0 -DVERSION=\"0.0.0\" -DXS_VERSION=\"0.0.0\" -fPIC "-I/opt/perl-5.31.5/lib/5.31.5/x86_64-linux/CORE" t/string_char16.cc
In file included from /usr/include/c++/8/x86_64-redhat-linux/bits/os_defines.h:39,
from /usr/include/c++/8/x86_64-redhat-linux/bits/c++config.h:2452,
from /usr/include/c++/8/cstring:41,
from t/test.h:2,
from t/string_test.h:2,
from t/string_char16.cc:1:
/usr/include/features.h:381:4: warning: #warning _FORTIFY_SOURCE requires compiling with optimization (-O) [-Wcpp]
# warning _FORTIFY_SOURCE requires compiling with optimization (-O)
^~~~~~~
c++ -c -Isrc -I/home/cpansand/.cpan/build/2019103118/XS-Install-1.2.11-0/blib/lib/XS/Install.x/i -I/home/cpansand/.cpan/build/2019103118/CPP-catch-1.0.8-0/blib/lib/CPP/catch.x/i -fwrapv -fno-strict-aliasing -pipe -fstack-protector-strong -I/usr/local/include -D_LARGEFILE_SOURCE -D_FILE_OFFSET_BITS=64 -D_FORTIFY_SOURCE=2 -Wall -Wextra -std=c++14 -o t/string_char32.o -O0 -DVERSION=\"0.0.0\" -DXS_VERSION=\"0.0.0\" -fPIC "-I/opt/perl-5.31.5/lib/5.31.5/x86_64-linux/CORE" t/string_char32.cc
In file included from /usr/include/c++/8/x86_64-redhat-linux/bits/os_defines.h:39,
from /usr/include/c++/8/x86_64-redhat-linux/bits/c++config.h:2452,
from /usr/include/c++/8/cstring:41,
from t/test.h:2,
from t/string_test.h:2,
from t/string_char32.cc:1:
/usr/include/features.h:381:4: warning: #warning _FORTIFY_SOURCE requires compiling with optimization (-O) [-Wcpp]
# warning _FORTIFY_SOURCE requires compiling with optimization (-O)
^~~~~~~
c++ -c -Isrc -I/home/cpansand/.cpan/build/2019103118/XS-Install-1.2.11-0/blib/lib/XS/Install.x/i -I/home/cpansand/.cpan/build/2019103118/CPP-catch-1.0.8-0/blib/lib/CPP/catch.x/i -fwrapv -fno-strict-aliasing -pipe -fstack-protector-strong -I/usr/local/include -D_LARGEFILE_SOURCE -D_FILE_OFFSET_BITS=64 -D_FORTIFY_SOURCE=2 -Wall -Wextra -std=c++14 -o t/string_containers.o -O0 -DVERSION=\"0.0.0\" -DXS_VERSION=\"0.0.0\" -fPIC "-I/opt/perl-5.31.5/lib/5.31.5/x86_64-linux/CORE" t/string_containers.cc
In file included from /usr/include/c++/8/x86_64-redhat-linux/bits/os_defines.h:39,
from /usr/include/c++/8/x86_64-redhat-linux/bits/c++config.h:2452,
from /usr/include/c++/8/cstring:41,
from t/test.h:2,
from t/string_containers.cc:1:
/usr/include/features.h:381:4: warning: #warning _FORTIFY_SOURCE requires compiling with optimization (-O) [-Wcpp]
# warning _FORTIFY_SOURCE requires compiling with optimization (-O)
^~~~~~~
c++ -c -Isrc -I/home/cpansand/.cpan/build/2019103118/XS-Install-1.2.11-0/blib/lib/XS/Install.x/i -I/home/cpansand/.cpan/build/2019103118/CPP-catch-1.0.8-0/blib/lib/CPP/catch.x/i -fwrapv -fno-strict-aliasing -pipe -fstack-protector-strong -I/usr/local/include -D_LARGEFILE_SOURCE -D_FILE_OFFSET_BITS=64 -D_FORTIFY_SOURCE=2 -Wall -Wextra -std=c++14 -o t/string_wchar.o -O0 -DVERSION=\"0.0.0\" -DXS_VERSION=\"0.0.0\" -fPIC "-I/opt/perl-5.31.5/lib/5.31.5/x86_64-linux/CORE" t/string_wchar.cc
In file included from /usr/include/c++/8/x86_64-redhat-linux/bits/os_defines.h:39,
from /usr/include/c++/8/x86_64-redhat-linux/bits/c++config.h:2452,
from /usr/include/c++/8/cstring:41,
from t/test.h:2,
from t/string_test.h:2,
from t/string_wchar.cc:1:
/usr/include/features.h:381:4: warning: #warning _FORTIFY_SOURCE requires compiling with optimization (-O) [-Wcpp]
# warning _FORTIFY_SOURCE requires compiling with optimization (-O)
^~~~~~~
c++ -c -Isrc -I/home/cpansand/.cpan/build/2019103118/XS-Install-1.2.11-0/blib/lib/XS/Install.x/i -I/home/cpansand/.cpan/build/2019103118/CPP-catch-1.0.8-0/blib/lib/CPP/catch.x/i -fwrapv -fno-strict-aliasing -pipe -fstack-protector-strong -I/usr/local/include -D_LARGEFILE_SOURCE -D_FILE_OFFSET_BITS=64 -D_FORTIFY_SOURCE=2 -Wall -Wextra -std=c++14 -o t/test.o -O0 -DVERSION=\"0.0.0\" -DXS_VERSION=\"0.0.0\" -fPIC "-I/opt/perl-5.31.5/lib/5.31.5/x86_64-linux/CORE" t/test.cc
In file included from /usr/include/c++/8/x86_64-redhat-linux/bits/os_defines.h:39,
from /usr/include/c++/8/x86_64-redhat-linux/bits/c++config.h:2452,
from /usr/include/c++/8/cstring:41,
from t/test.h:2,
from t/test.cc:1:
/usr/include/features.h:381:4: warning: #warning _FORTIFY_SOURCE requires compiling with optimization (-O) [-Wcpp]
# warning _FORTIFY_SOURCE requires compiling with optimization (-O)
^~~~~~~
c++ -c -Isrc -I/home/cpansand/.cpan/build/2019103118/XS-Install-1.2.11-0/blib/lib/XS/Install.x/i -I/home/cpansand/.cpan/build/2019103118/CPP-catch-1.0.8-0/blib/lib/CPP/catch.x/i -fwrapv -fno-strict-aliasing -pipe -fstack-protector-strong -I/usr/local/include -D_LARGEFILE_SOURCE -D_FILE_OFFSET_BITS=64 -D_FORTIFY_SOURCE=2 -Wall -Wextra -std=c++14 -o t/to_chars.o -O0 -DVERSION=\"0.0.0\" -DXS_VERSION=\"0.0.0\" -fPIC "-I/opt/perl-5.31.5/lib/5.31.5/x86_64-linux/CORE" t/to_chars.cc
In file included from /usr/include/c++/8/x86_64-redhat-linux/bits/os_defines.h:39,
from /usr/include/c++/8/x86_64-redhat-linux/bits/c++config.h:2452,
from /usr/include/c++/8/cstring:41,
from t/test.h:2,
from t/to_chars.cc:1:
/usr/include/features.h:381:4: warning: #warning _FORTIFY_SOURCE requires compiling with optimization (-O) [-Wcpp]
# warning _FORTIFY_SOURCE requires compiling with optimization (-O)
^~~~~~~
c++ -c -Isrc -I/home/cpansand/.cpan/build/2019103118/XS-Install-1.2.11-0/blib/lib/XS/Install.x/i -I/home/cpansand/.cpan/build/2019103118/CPP-catch-1.0.8-0/blib/lib/CPP/catch.x/i -fwrapv -fno-strict-aliasing -pipe -fstack-protector-strong -I/usr/local/include -D_LARGEFILE_SOURCE -D_FILE_OFFSET_BITS=64 -D_FORTIFY_SOURCE=2 -Wall -Wextra -std=c++14 -o t/traits.o -O0 -DVERSION=\"0.0.0\" -DXS_VERSION=\"0.0.0\" -fPIC "-I/opt/perl-5.31.5/lib/5.31.5/x86_64-linux/CORE" t/traits.cc
In file included from /usr/include/c++/8/x86_64-redhat-linux/bits/os_defines.h:39,
from /usr/include/c++/8/x86_64-redhat-linux/bits/c++config.h:2452,
from /usr/include/c++/8/iosfwd:38,
from /home/cpansand/.cpan/build/2019103118/CPP-catch-1.0.8-0/blib/lib/CPP/catch.x/i/catch.hpp:313,
from t/traits.cc:1:
/usr/include/features.h:381:4: warning: #warning _FORTIFY_SOURCE requires compiling with optimization (-O) [-Wcpp]
# warning _FORTIFY_SOURCE requires compiling with optimization (-O)
^~~~~~~
Running Mkbootstrap for MyTest ()
chmod 644 "MyTest.bs"
"/opt/perl-5.31.5/bin/perl5.31.5" -MExtUtils::Command::MM -e 'cp_nonempty' -- MyTest.bs blib/arch/auto/MyTest/MyTest.bs 644
rm -f blib/arch/auto/MyTest/MyTest.so
c++ -shared -O2 -L/usr/local/lib -fstack-protector-strong t/bench.o t/dispatcher.o t/endian.o t/excepted.o t/from_chars.o t/function.o t/intrusive_chain.o t/iptr.o t/owning_list.o t/string_char.o t/string_char16.o t/string_char32.o t/string_containers.o t/string_wchar.o t/test.o t/to_chars.o t/traits.o blib/arch/auto/CPP/panda/lib/lib.so /home/cpansand/.cpan/build/2019103118/Test-Catch-1.0.8-0/blib/arch/auto/Test/Catch/Catch.so -o blib/arch/auto/MyTest/MyTest.so \
\
chmod 755 blib/arch/auto/MyTest/MyTest.so
Manifying 1 pod document
PERL_DL_NONLAZY=1 "/opt/perl-5.31.5/bin/perl5.31.5" "-MExtUtils::Command::MM" "-MTest::Harness" "-e" "undef *Test::Harness::Switches; test_harness(0, 'blib/lib', 'blib/arch')" t/*.t
t/dispatcher.t ......... ok
t/endian.t ............. ok
t/excepted.t ........... ok
t/from_chars.t ......... ok
t/function.t ........... ok
t/intrusive_chain.t .... ok
t/iptr.t ............... ok
t/owning_list.t ........ ok
t/string_char.t ........ ok
t/string_char16.t ...... ok
t/string_char32.t ...... ok
t/string_containers.t .. ok
t/string_wchar.t ....... ok
t/to_chars.t ........... ok
t/traits.t ............. ok
All tests successful.
Files=15, Tests=93, 3 wallclock secs ( 1.10 usr 0.04 sys + 2.07 cusr 0.35 csys = 3.56 CPU)
Result: PASS
------------------------------
PREREQUISITES
------------------------------
Prerequisite modules loaded:
requires:
Module Need Have
------------ -------- --------
perl 5.012000 5.031005
XS::Install v1.2.11 1.2.11
build_requires:
Module Need Have
------------ -------- --------
CPP::catch v1.0.8 1.0.8
Test::Catch v1.0.8 1.0.8
Test::Deep 0 1.128
Test::More 0 1.302168
Test::Simple 0.96 1.302168
configure_requires:
Module Need Have
------------ -------- --------
CPP::catch v1.0.8 1.0.8
Test::Catch v1.0.8 1.0.8
XS::Install v1.2.9 1.2.11
------------------------------
ENVIRONMENT AND OTHER CONTEXT
------------------------------
Environment variables:
LANG = en_US.UTF-8
PATH = /usr/local/bin:/usr/bin:/bin:/usr/local/sbin:/usr/sbin:/sbin:/home/cpansand/bin/linux-gnu:/home/cpansand/bin/sh:/home/cpansand/bin:/usr/games:/home/cpansand/devel:/home/eserte/src/srezic-misc/scripts
PERL5LIB = /home/cpansand/.cpan/build/2019103118/Test-Catch-1.0.8-0/blib/arch:/home/cpansand/.cpan/build/2019103118/Test-Catch-1.0.8-0/blib/lib:/home/cpansand/.cpan/build/2019103118/CPP-catch-1.0.8-0/blib/arch:/home/cpansand/.cpan/build/2019103118/CPP-catch-1.0.8-0/blib/lib:/home/cpansand/.cpan/build/2019103118/XS-Install-1.2.11-0/blib/arch:/home/cpansand/.cpan/build/2019103118/XS-Install-1.2.11-0/blib/lib:/home/cpansand/.cpan/build/2019103118/Digest-SHA1-2.13-0/blib/arch:/home/cpansand/.cpan/build/2019103118/Digest-SHA1-2.13-0/blib/lib:/home/cpansand/.cpan/build/2019103118/Alien-patch-0.14-0/blib/arch:/home/cpansand/.cpan/build/2019103118/Alien-patch-0.14-0/blib/lib:/home/cpansand/.cpan/build/2019103118/Alien-cmake3-0.04-0/blib/arch:/home/cpansand/.cpan/build/2019103118/Alien-cmake3-0.04-0/blib/lib:/home/cpansand/.cpan/build/2019103118/Alien-Build-1.89-0/blib/arch:/home/cpansand/.cpan/build/2019103118/Alien-Build-1.89-0/blib/lib:/home/cpansand/.cpan/build/2019103118/File-chdir-0.1010-0/blib/arch:/home/cpansand/.cpan/build/2019103118/File-chdir-0.1010-0/blib/lib:/home/cpansand/.cpan/build/2019103118/FFI-CheckLib-0.25-0/blib/arch:/home/cpansand/.cpan/build/2019103118/FFI-CheckLib-0.25-0/blib/lib:/home/cpansand/.cpan/build/2019103118/Test2-Suite-0.000127-0/blib/arch:/home/cpansand/.cpan/build/2019103118/Test2-Suite-0.000127-0/blib/lib:/home/cpansand/.cpan/build/2019103118/Term-Table-0.014-0/blib/arch:/home/cpansand/.cpan/build/2019103118/Term-Table-0.014-0/blib/lib:/home/cpansand/.cpan/build/2019103118/Sub-Info-0.002-0/blib/arch:/home/cpansand/.cpan/build/2019103118/Sub-Info-0.002-0/blib/lib:/home/cpansand/.cpan/build/2019103118/Scope-Guard-0.21-0/blib/arch:/home/cpansand/.cpan/build/2019103118/Scope-Guard-0.21-0/blib/lib:/home/cpansand/.cpan/build/2019103118/Module-Pluggable-5.2-0/blib/arch:/home/cpansand/.cpan/build/2019103118/Module-Pluggable-5.2-0/blib/lib:/home/cpansand/.cpan/build/2019103118/Importer-0.025-0/blib/arch:/home/cpansand/.cpan/build/2019103118/Importer-0.025-0/blib/lib
PERL5OPT =
PERL5_CPANPLUS_IS_RUNNING = 17338
PERL5_CPAN_IS_RUNNING = 17338
PERL5_CPAN_IS_RUNNING_IN_RECURSION = 17136,17338
PERLDOC = -MPod::Perldoc::ToTextOverstrike
PERL_BATCH = yes
PERL_CANARY_STABILITY_NOPROMPT = 1
PERL_CPAN_REPORTER_CONFIG = /var/tmp/cpansmoker-1023/2019103116/cpanreporter_000_config.ini
PERL_EXTUTILS_AUTOINSTALL = --defaultdeps
PERL_USE_UNSAFE_INC = 1
SHELL = /usr/bin/zsh
TERM = screen
TMPDIR = /var/tmp/cpansmoker-1023/2019103116
Perl special variables (and OS-specific diagnostics, for MSWin32):
$^X = /opt/perl-5.31.5/bin/perl5.31.5
$UID/$EUID = 1023 / 1023
$GID = 1023 1023
$EGID = 1023 1023
Perl module toolchain versions installed:
Module Have
------------------- --------
CPAN 2.27
CPAN::Meta 2.150010
Cwd 3.78
ExtUtils::CBuilder 0.280233
ExtUtils::Command 7.38
ExtUtils::Install 2.14
ExtUtils::MakeMaker 7.38
ExtUtils::Manifest 1.72
ExtUtils::ParseXS 3.40
File::Spec 3.78
JSON n/a
JSON::PP 4.04
Module::Build n/a
Module::Signature n/a
Parse::CPAN::Meta 2.150010
Test::Harness 3.42
Test::More 1.302168
YAML 1.29
YAML::Syck 1.31
version 0.9924
--
Summary of my perl5 (revision 5 version 31 subversion 5) configuration:
Platform:
osname=linux
osvers=5.0.16-100.fc28.x86_64
archname=x86_64-linux
uname='linux fedora-4gb-hel1-1 5.0.16-100.fc28.x86_64 #1 smp tue may 14 18:22:28 utc 2019 x86_64 x86_64 x86_64 gnulinux '
config_args='-ds -e -Dprefix=/opt/perl-5.31.5 -Dusedevel -Dusemallocwrap=no -Dcf_email=srezic@cpan.org'
hint=recommended
useposix=true
d_sigaction=define
useithreads=undef
usemultiplicity=undef
use64bitint=define
use64bitall=define
uselongdouble=undef
usemymalloc=n
default_inc_excludes_dot=define
bincompat5005=undef
Compiler:
cc='cc'
ccflags ='-fwrapv -fno-strict-aliasing -pipe -fstack-protector-strong -I/usr/local/include -D_LARGEFILE_SOURCE -D_FILE_OFFSET_BITS=64 -D_FORTIFY_SOURCE=2'
optimize='-O2'
cppflags='-fwrapv -fno-strict-aliasing -pipe -fstack-protector-strong -I/usr/local/include'
ccversion=''
gccversion='8.3.1 20190223 (Red Hat 8.3.1-2)'
gccosandvers=''
intsize=4
longsize=8
ptrsize=8
doublesize=8
byteorder=12345678
doublekind=3
d_longlong=define
longlongsize=8
d_longdbl=define
longdblsize=16
longdblkind=3
ivtype='long'
ivsize=8
nvtype='double'
nvsize=8
Off_t='off_t'
lseeksize=8
alignbytes=8
prototype=define
Linker and Libraries:
ld='cc'
ldflags =' -fstack-protector-strong -L/usr/local/lib'
libpth=/usr/local/lib /usr/lib /lib/../lib64 /usr/lib/../lib64 /lib /lib64 /usr/lib64 /usr/local/lib64
libs=-lpthread -ldb -ldl -lm -lcrypt -lutil -lc
perllibs=-lpthread -ldl -lm -lcrypt -lutil -lc
libc=libc-2.27.so
so=so
useshrplib=false
libperl=libperl.a
gnulibc_version='2.27'
Dynamic Linking:
dlsrc=dl_dlopen.xs
dlext=so
d_dlsymun=undef
ccdlflags='-Wl,-E'
cccdlflags='-fPIC'
lddlflags='-shared -O2 -L/usr/local/lib -fstack-protector-strong'
Characteristics of this binary (from libperl):
Compile-time options:
HAS_TIMES
PERLIO_LAYERS
PERL_COPY_ON_WRITE
PERL_DONT_CREATE_GVSV
PERL_OP_PARENT
PERL_PRESERVE_IVUV
PERL_USE_DEVEL
USE_64_BIT_ALL
USE_64_BIT_INT
USE_LARGE_FILES
USE_LOCALE
USE_LOCALE_COLLATE
USE_LOCALE_CTYPE
USE_LOCALE_NUMERIC
USE_LOCALE_TIME
USE_PERLIO
USE_PERL_ATOF
Built under linux
Compiled at Oct 20 2019 17:15:00
%ENV:
PERL5LIB="/home/cpansand/.cpan/build/2019103118/Test-Catch-1.0.8-0/blib/arch:/home/cpansand/.cpan/build/2019103118/Test-Catch-1.0.8-0/blib/lib:/home/cpansand/.cpan/build/2019103118/CPP-catch-1.0.8-0/blib/arch:/home/cpansand/.cpan/build/2019103118/CPP-catch-1.0.8-0/blib/lib:/home/cpansand/.cpan/build/2019103118/XS-Install-1.2.11-0/blib/arch:/home/cpansand/.cpan/build/2019103118/XS-Install-1.2.11-0/blib/lib:/home/cpansand/.cpan/build/2019103118/Digest-SHA1-2.13-0/blib/arch:/home/cpansand/.cpan/build/2019103118/Digest-SHA1-2.13-0/blib/lib:/home/cpansand/.cpan/build/2019103118/Alien-patch-0.14-0/blib/arch:/home/cpansand/.cpan/build/2019103118/Alien-patch-0.14-0/blib/lib:/home/cpansand/.cpan/build/2019103118/Alien-cmake3-0.04-0/blib/arch:/home/cpansand/.cpan/build/2019103118/Alien-cmake3-0.04-0/blib/lib:/home/cpansand/.cpan/build/2019103118/Alien-Build-1.89-0/blib/arch:/home/cpansand/.cpan/build/2019103118/Alien-Build-1.89-0/blib/lib:/home/cpansand/.cpan/build/2019103118/File-chdir-0.1010-0/blib/arch:/home/cpansand/.cpan/build/2019103118/File-chdir-0.1010-0/blib/lib:/home/cpansand/.cpan/build/2019103118/FFI-CheckLib-0.25-0/blib/arch:/home/cpansand/.cpan/build/2019103118/FFI-CheckLib-0.25-0/blib/lib:/home/cpansand/.cpan/build/2019103118/Test2-Suite-0.000127-0/blib/arch:/home/cpansand/.cpan/build/2019103118/Test2-Suite-0.000127-0/blib/lib:/home/cpansand/.cpan/build/2019103118/Term-Table-0.014-0/blib/arch:/home/cpansand/.cpan/build/2019103118/Term-Table-0.014-0/blib/lib:/home/cpansand/.cpan/build/2019103118/Sub-Info-0.002-0/blib/arch:/home/cpansand/.cpan/build/2019103118/Sub-Info-0.002-0/blib/lib:/home/cpansand/.cpan/build/2019103118/Scope-Guard-0.21-0/blib/arch:/home/cpansand/.cpan/build/2019103118/Scope-Guard-0.21-0/blib/lib:/home/cpansand/.cpan/build/2019103118/Module-Pluggable-5.2-0/blib/arch:/home/cpansand/.cpan/build/2019103118/Module-Pluggable-5.2-0/blib/lib:/home/cpansand/.cpan/build/2019103118/Importer-0.025-0/blib/arch:/home/cpansand/.cpan/build/2019103118/Importer-0.025-0/blib/lib"
PERL5OPT=""
PERL5_CPANPLUS_IS_RUNNING="17338"
PERL5_CPAN_IS_RUNNING="17338"
PERL5_CPAN_IS_RUNNING_IN_RECURSION="17136,17338"
PERLDOC="-MPod::Perldoc::ToTextOverstrike"
PERL_BATCH="yes"
PERL_CANARY_STABILITY_NOPROMPT="1"
PERL_CPAN_REPORTER_CONFIG="/var/tmp/cpansmoker-1023/2019103116/cpanreporter_000_config.ini"
PERL_EXTUTILS_AUTOINSTALL="--defaultdeps"
PERL_USE_UNSAFE_INC="1"
@INC:
/home/cpansand/.cpan/build/2019103118/Test-Catch-1.0.8-0/blib/arch
/home/cpansand/.cpan/build/2019103118/Test-Catch-1.0.8-0/blib/lib
/home/cpansand/.cpan/build/2019103118/CPP-catch-1.0.8-0/blib/arch
/home/cpansand/.cpan/build/2019103118/CPP-catch-1.0.8-0/blib/lib
/home/cpansand/.cpan/build/2019103118/XS-Install-1.2.11-0/blib/arch
/home/cpansand/.cpan/build/2019103118/XS-Install-1.2.11-0/blib/lib
/home/cpansand/.cpan/build/2019103118/Digest-SHA1-2.13-0/blib/arch
/home/cpansand/.cpan/build/2019103118/Digest-SHA1-2.13-0/blib/lib
/home/cpansand/.cpan/build/2019103118/Alien-patch-0.14-0/blib/arch
/home/cpansand/.cpan/build/2019103118/Alien-patch-0.14-0/blib/lib
/home/cpansand/.cpan/build/2019103118/Alien-cmake3-0.04-0/blib/arch
/home/cpansand/.cpan/build/2019103118/Alien-cmake3-0.04-0/blib/lib
/home/cpansand/.cpan/build/2019103118/Alien-Build-1.89-0/blib/arch
/home/cpansand/.cpan/build/2019103118/Alien-Build-1.89-0/blib/lib
/home/cpansand/.cpan/build/2019103118/File-chdir-0.1010-0/blib/arch
/home/cpansand/.cpan/build/2019103118/File-chdir-0.1010-0/blib/lib
/home/cpansand/.cpan/build/2019103118/FFI-CheckLib-0.25-0/blib/arch
/home/cpansand/.cpan/build/2019103118/FFI-CheckLib-0.25-0/blib/lib
/home/cpansand/.cpan/build/2019103118/Test2-Suite-0.000127-0/blib/arch
/home/cpansand/.cpan/build/2019103118/Test2-Suite-0.000127-0/blib/lib
/home/cpansand/.cpan/build/2019103118/Term-Table-0.014-0/blib/arch
/home/cpansand/.cpan/build/2019103118/Term-Table-0.014-0/blib/lib
/home/cpansand/.cpan/build/2019103118/Sub-Info-0.002-0/blib/arch
/home/cpansand/.cpan/build/2019103118/Sub-Info-0.002-0/blib/lib
/home/cpansand/.cpan/build/2019103118/Scope-Guard-0.21-0/blib/arch
/home/cpansand/.cpan/build/2019103118/Scope-Guard-0.21-0/blib/lib
/home/cpansand/.cpan/build/2019103118/Module-Pluggable-5.2-0/blib/arch
/home/cpansand/.cpan/build/2019103118/Module-Pluggable-5.2-0/blib/lib
/home/cpansand/.cpan/build/2019103118/Importer-0.025-0/blib/arch
/home/cpansand/.cpan/build/2019103118/Importer-0.025-0/blib/lib
/opt/perl-5.31.5/lib/site_perl/5.31.5/x86_64-linux
/opt/perl-5.31.5/lib/site_perl/5.31.5
/opt/perl-5.31.5/lib/5.31.5/x86_64-linux
/opt/perl-5.31.5/lib/5.31.5
.