Back
From: metabase:user:320bfe00-2aae-11df-837a-5e0a49663a4f
Subject: PASS Moo-Getopt-0.2 v5.15.2 GNU/Linux
Date: 2011-11-28T09:23:47Z
This distribution has been tested as part of the CPAN Testers
project, supporting the Perl programming language. See
http://wiki.cpantesters.org/ for more information or email
questions to cpan-testers-discuss@perl.org
--
Dear Celogeek,
This is a computer-generated report for Moo-Getopt-0.2
on perl 5.15.2, created by CPAN-Reporter-1.1902.
Thank you for uploading your work to CPAN. Congratulations!
All tests were successful.
Sections of this report:
* Tester comments
* Program output
* Prerequisites
* Environment and other context
------------------------------
TESTER COMMENTS
------------------------------
Additional comments from tester:
this report is from an automated smoke testing program
and was not reviewed by a human for accuracy
------------------------------
PROGRAM OUTPUT
------------------------------
Output from './Build test':
t/00-compile.t .................. ok
# Testing with Perl 5.015002, /home/sand/src/perl/repoperls/installed-perls/perl/v5.15.2/2a56/bin/perl
# Carp version is 1.21
# English version is 1.04
# File::Find version is 1.20
# File::Temp version is 0.22
# Getopt::Long::Descriptive version is 0.090
# Modern::Perl version is 1.03
# Module::Build version is 0.3901
# Moo version is 0.009012
# Moo::Role version is undefined
# Scalar::Util version is 1.23
# Test::More version is 0.98
# strict version is 1.04
# warnings version is 1.12
t/000-report-versions.t ......... ok
t/author-critic.t ............... skipped: these tests are for testing by the author
t/base.t ........................ ok
t/release-check-changes.t ....... skipped: these tests are for release candidate testing
t/release-consistent-version.t .. skipped: these tests are for release candidate testing
t/release-minimum-version.t ..... skipped: these tests are for release candidate testing
t/release-pod-coverage.t ........ skipped: these tests are for release candidate testing
t/release-pod-syntax.t .......... skipped: these tests are for release candidate testing
t/release-unused-vars.t ......... skipped: these tests are for release candidate testing
All tests successful.
Files=10, Tests=21, 1 wallclock secs ( 0.04 usr 0.02 sys + 0.40 cusr 0.10 csys = 0.56 CPU)
Result: PASS
------------------------------
PREREQUISITES
------------------------------
Prerequisite modules loaded:
requires:
Module Need Have
------------------------- ------ --------
Getopt::Long::Descriptive 0 0.090
Modern::Perl 0 1.03
Moo::Role 0 0
perl 5.010 5.015002
strict 0 1.04
warnings 0 1.12
build_requires:
Module Need Have
------------------------- ------ --------
Carp 0 1.21
English 0 1.04
File::Find 0 1.20
File::Temp 0 0.22
Module::Build 0.3601 0.39_01
Moo 0 0.009012
perl 5.004 5.015002
Scalar::Util 0 1.23
Test::More 0.94 0.98
configure_requires:
Module Need Have
------------------------- ------ --------
Module::Build 0.3601 0.39_01
------------------------------
ENVIRONMENT AND OTHER CONTEXT
------------------------------
Environment variables:
AUTOMATED_TESTING = 1
LANG = en_US.UTF-8
LANGUAGE = en_US:en
PATH = /home/sand/bin:/usr/local/bin:/usr/bin:/bin:/usr/bin/X11:/usr/games:/usr/local/perl/bin:/usr/X11/bin:/sbin:/usr/sbin
PERL5LIB =
PERL5OPT =
PERL5_CPANPLUS_IS_RUNNING = 23821
PERL5_CPAN_IS_RUNNING = 23821
PERL_MM_USE_DEFAULT = 1
SHELL = /usr/bin/zsh
TERM = screen
Perl special variables (and OS-specific diagnostics, for MSWin32):
$^X = /home/sand/src/perl/repoperls/installed-perls/perl/v5.15.2/2a56/bin/perl
$UID/$EUID = 1005 / 1005
$GID = 1005 1005
$EGID = 1005 1005
Perl module toolchain versions installed:
Module Have
------------------- --------
CPAN 1.9800
Cwd 3.37
ExtUtils::CBuilder 0.280204
ExtUtils::Command 1.17
ExtUtils::Install 1.57
ExtUtils::MakeMaker 6.63_02
ExtUtils::Manifest 1.60
ExtUtils::ParseXS 3.05
File::Spec 3.34
Module::Build 0.39_01
Module::Signature 0.68
Test::Harness 3.23
Test::More 0.98
YAML 0.77
YAML::Syck 1.19
version 0.95
--
Summary of my perl5 (revision 5 version 15 subversion 2) configuration:
Commit id: 7035badac73e57009f52bc6cecc556bb06f29fda
Platform:
osname=linux, osvers=2.6.38-2-amd64, archname=x86_64-linux-thread-multi-ld
uname='linux k81 2.6.38-2-amd64 #1 smp sun may 8 13:51:57 utc 2011 x86_64 gnulinux '
config_args='-Dprefix=/home/src/perl/repoperls/installed-perls/perl/v5.15.2/2a56 -Dinstallusrbinperl=n -Uversiononly -Dusedevel -des -Ui_db -Duseithreads -Duselongdouble -DDEBUGGING=-g'
hint=recommended, useposix=true, d_sigaction=define
useithreads=define, usemultiplicity=define
useperlio=define, d_sfio=undef, uselargefiles=define, usesocks=undef
use64bitint=define, use64bitall=define, uselongdouble=define
usemymalloc=n, bincompat5005=undef
Compiler:
cc='cc', ccflags ='-D_REENTRANT -D_GNU_SOURCE -fno-strict-aliasing -pipe -fstack-protector -I/usr/local/include -D_LARGEFILE_SOURCE -D_FILE_OFFSET_BITS=64',
optimize='-O2 -g',
cppflags='-D_REENTRANT -D_GNU_SOURCE -fno-strict-aliasing -pipe -fstack-protector -I/usr/local/include'
ccversion='', gccversion='4.6.1', gccosandvers=''
intsize=4, longsize=8, ptrsize=8, doublesize=8, byteorder=12345678
d_longlong=define, longlongsize=8, d_longdbl=define, longdblsize=16
ivtype='long', ivsize=8, nvtype='long double', nvsize=16, Off_t='off_t', lseeksize=8
alignbytes=16, prototype=define
Linker and Libraries:
ld='cc', ldflags =' -fstack-protector -L/usr/local/lib'
libpth=/usr/local/lib /lib/x86_64-linux-gnu /usr/lib/x86_64-linux-gnu /lib /usr/lib /lib64 /usr/lib64
libs=-lnsl -ldb -ldl -lm -lcrypt -lutil -lpthread -lc
perllibs=-lnsl -ldl -lm -lcrypt -lutil -lpthread -lc
libc=, so=so, useshrplib=false, libperl=libperl.a
gnulibc_version='2.13'
Dynamic Linking:
dlsrc=dl_dlopen.xs, dlext=so, d_dlsymun=undef, ccdlflags='-Wl,-E'
cccdlflags='-fPIC', lddlflags='-shared -O2 -g -L/usr/local/lib -fstack-protector'
Characteristics of this binary (from libperl):
Compile-time options: HAS_TIMES MULTIPLICITY PERLIO_LAYERS
PERL_DONT_CREATE_GVSV PERL_IMPLICIT_CONTEXT
PERL_MALLOC_WRAP PERL_PRESERVE_IVUV PERL_USE_DEVEL
USE_64_BIT_ALL USE_64_BIT_INT USE_ITHREADS
USE_LARGE_FILES USE_LOCALE USE_LOCALE_COLLATE
USE_LOCALE_CTYPE USE_LOCALE_NUMERIC USE_LONG_DOUBLE
USE_PERLIO USE_PERL_ATOF USE_REENTRANT_API
Built under linux
Compiled at Sep 21 2011 06:33:23
%ENV:
PERL5LIB=""
PERL5OPT=""
PERL5_CPANPLUS_IS_RUNNING="23821"
PERL5_CPAN_IS_RUNNING="23821"
PERL_MM_USE_DEFAULT="1"
@INC:
/home/src/perl/repoperls/installed-perls/perl/v5.15.2/2a56/lib/site_perl/5.15.2/x86_64-linux-thread-multi-ld
/home/src/perl/repoperls/installed-perls/perl/v5.15.2/2a56/lib/site_perl/5.15.2
/home/src/perl/repoperls/installed-perls/perl/v5.15.2/2a56/lib/5.15.2/x86_64-linux-thread-multi-ld
/home/src/perl/repoperls/installed-perls/perl/v5.15.2/2a56/lib/5.15.2
.