Report for Syntax-Keyword-Junction-0.003003

Back
From: metabase:user:1eed3a18-483e-11e2-a87b-a3931c712682
Subject: PASS Syntax-Keyword-Junction-0.003003 v5.16.3 Mac OS X
Date: 2013-04-13T13:54:35Z

This distribution has been tested as part of the CPAN Testers
project, supporting the Perl programming language.  See
http://wiki.cpantesters.org/ for more information or email
questions to cpan-testers-discuss@perl.org


--
Syntax-Keyword-Junction-0.003003 ... PASS

Perl           : v5.16.3
System         : darwin
Local Versions :
    Data::Record                     : 0.02
    MooseX::Emulate::Class::Accessor::Fast : 0.00903
    Params::Check                    : 0.36
    IO::Compress::Base               : 2.060
    Data::Dump                       : 1.21
    CPAN::Meta                       : 2.130880
    File::Path                       : 2.09
    Catalyst                         : 5.90030
    Module::Build                    : 0.4004
    List::MoreUtils                  : 0.33
    Test::Vars                       : 0.002
    warnings                         : 1.13
    ExtUtils::MakeMaker              : 6.64
    Data::OptList                    : 0.107
    Catalyst::Plugin::Session        : 0.37
    open                             : 1.10
    Text::ParseWords                 : 3.29
    ExtUtils::Config                 : 0.007
    IPC::Open2                       : 1.04
    File::stat                       : 1.05
    Tree::Simple                     : 1.18
    XSLoader                         : 0.16
    Test::Fatal                      : 0.010
    MooseX::Getopt                   : 0.56
    HTML::Entities                   : 3.69
    File::Spec::Functions            : 3.40
    Task::Weaken                     : 1.04
    Moose                            : 2.0801
    Test::Harness                    : 3.26
    Parse::CPAN::Meta                : 1.4404
    Module::Pluggable                : 4.7
    namespace::autoclean             : 0.13
    Locale::Maketext::Simple         : 0.21
    ExtUtils::InstallPaths           : 0.009
    Carp                             : 1.26
    Params::Validate                 : 1.07
    LWP::UserAgent                   : 6.05
    Module::Pluggable::Object        : 4.6
    Archive::Zip                     : 1.30
    Test::UseAllModules              : 0.14
    Eval::LineNumbers                : 0.31
    YAML::XS                         : 0.41
    File::ChangeNotify               : 0.23
    List::Util                       : 1.27
    File::Flock                      : 2013.07
    autodie                          : 2.16
    Archive::Tar                     : 1.90
    syntax                           : 0.004
    Plack::Test::ExternalServer      : 0.01
    File::Copy                       : 2.23
    Try::Tiny                        : 0.12
    parent                           : 0.225
    HTML::HeadParser                 : 3.69
    Data::Dumper                     : 2.145
    IPC::Cmd                         : 0.80
    Module::Install                  : 1.06
    HTTP::Request::Common            : 6.04
    Test::More                       : 0.98
    Test::DZil                       : 4.300033
    HTTP::Response                   : 6.04
    File::Copy::Recursive            : 0.38
    Scalar::Util                     : 1.27
    FindBin                          : 1.51
    Fcntl                            : 1.11
    Moo::Role                        : 
    String::RewritePrefix            : 0.006
    XML::Simple                      : 2.20
    autodie::exception               : 2.16
    Tree::Simple::Visitor::FindByPath : 0.03
    MRO::Compat                      : 0.12
    HTTP::Request::AsCGI             : 1.2
    Class::C3::Adopt::NEXT           : 0.13
    Event                            : 1.21
    Class::Load                      : 0.20
    YAML::Syck                       : 1.25
    JSON::PP                         : 2.27202
    namespace::clean                 : 0.24
    Dist::Zilla::Role::FileMunger    : 4.300033
    JSON                             : 2.57
    blib                             : 1.06
    Cwd                              : 3.40
    Test::LeakTrace                  : 0.14
    Module::Signature                : 0.70
    YAML                             : 0.84
    Test::Trap                       : 0.2.2
    Sub::Exporter                    : 0.985
    JSON::XS                         : 2.33
    Devel::Hide                      : 0.0009
    ExtUtils::Install                : 1.58
    Starman                          : 0.3008
    MooX::Types::MooseLike::Base     : 0.23
    HTTP::Headers                    : 6.05
    Config::General                  : 2.51
    HTTP::Tiny                       : 0.028
    Test::Deep                       : 0.110
    IO::File                         : 1.16
    Net::FTP                         : 2.77
    IO::Zlib                         : 1.10
    Devel::StackTrace                : 1.30
    File::pushd                      : 1.005
    Test::FailWarnings               : 0.003
    File::HomeDir                    : 1.00
    ExtUtils::ParseXS                : 3.18
    Pod::Man                         : 2.27
    HTTP::Body                       : 1.17
    Net::Ping                        : 2.41
    Role::Tiny::With                 : 
    strict                           : 1.07
    Sub::Exporter::Progressive       : 0.001010
    Path::Class                      : 0.32
    HTTP::Request                    : 6.00
    Compress::Zlib                   : 2.060
    Class::MOP                       : 2.0801
    File::Which                      : 1.09
    Sub::Quote                       : 
    File::Find                       : 1.20
    Text::Wrap                       : 2012.0818
    Test::Output                     : 1.01
    ExtUtils::CBuilder               : 0.280206
    URI                              : 1.60
    Plack                            : 1.0023
    Catalyst::Plugin::Static::Simple : 0.30
    Text::SimpleTable                : 2.03
    constant                         : 1.27
    Exporter                         : 5.68
    Catalyst::Action::RenderView     : 0.16
    MIME::Base64                     : 3.13
    File::Basename                   : 2.84
    Catalyst::DispatchType::Regex    : 
    Catalyst::Plugin::ConfigLoader   : 0.32
    Test::CheckDeps                  : 0.002
    File::Spec::Unix                 : 3.40
    MooseX::Role::WithOverloading    : 0.13
    Module::Load                     : 0.24
    Digest::SHA                      : 5.84
    Module::Load::Conditional        : 0.54
    Text::Glob                       : 0.09
    MooseX::Daemonize                : 0.15
    Term::ReadKey                    : 2.30
    CPAN::Meta::Prereqs              : 2.130880
    Getopt::Long                     : 2.39
    Test::Exception                  : 0.31
    AnyEvent                         : 7.04
    overload                         : 1.18
    Devel::PPPort                    : 3.20
    Moose::Autobox                   : 0.13
    Import::Into                     : 1.001001
    Test::DistManifest               : 1.012
    HTML::Parser                     : 3.70
    File::Temp                       : 0.2301
    CGI::Simple::Cookie              : 1.113
    Class::Inspector                 : 1.28
    Module::Metadata                 : 1.000011
    File::Spec                       : 3.40
    Safe::Isa                        : 1.000003
    Regexp::Common                   : 2013031301
    Data::Serializer                 : 0.59
    File::ShareDir                   : 1.03
    Text::Balanced                   : 2.02
    Digest::MD5                      : 2.52
    Class::Data::Inheritable         : 0.08
    Getopt::Long::Descriptive        : 0.093
    File::Slurp                      : 9999.19
    Dist::Zilla::Plugin::InlineFiles : 4.300033
    MooseX::MethodAttributes::Inheritable : 0.28
    ExtUtils::Helpers                : 0.016
    Moo                              : 1.001000
    Test::Synopsis                   : 0.06
    Plack::Middleware::ReverseProxy  : 0.15
    Time::HiRes                      : 1.9725
    Template                         : 2.24
    TAP::Harness                     : 3.26
    URI::Find                        : 20111103
    Test::Portability::Files         : 0.06
    Dist::Zilla                      : 4.300033
    Catalyst::Runtime                : 5.90030

Test Output    :

PERL_DL_NONLAZY=1 /Users/stas/perl5/perlbrew/perls/perl-5.16.2/bin/perl "-MExtUtils::Command::MM" "-e" "test_harness(0, 'blib/lib', 'blib/arch')" t/*.t
t/01_use.t .............. ok
t/all.t ................. ok
t/any.t ................. ok
t/import_tags.t ......... ok
t/join.t ................ ok
t/no_import.t ........... ok
t/none.t ................ ok
t/one.t ................. ok
t/release-pod-syntax.t .. skipped: these tests are for release candidate testing
t/smartmatch.t .......... ok
t/syntax.t .............. ok
All tests successful.
Files=11, Tests=396,  1 wallclock secs ( 0.14 usr  0.04 sys +  0.74 cusr  0.12 csys =  1.04 CPU)
Result: PASS


--

Summary of my perl5 (revision 5 version 16 subversion 3) configuration:
   
  Platform:
    osname=darwin, osvers=12.2.0, archname=darwin-2level
    uname='darwin stanislaws-macbook-pro.local 12.2.0 darwin kernel version 12.2.0: sat aug 25 00:48:52 pdt 2012; root:xnu-2050.18.24~1release_x86_64 x86_64 '
    config_args='-de -Dprefix=/Users/stas/perl5/perlbrew/perls/perl-5.16.2 -Aeval:scriptdir=/Users/stas/perl5/perlbrew/perls/perl-5.16.2/bin'
    hint=recommended, useposix=true, d_sigaction=define
    useithreads=undef, usemultiplicity=undef
    useperlio=define, d_sfio=undef, uselargefiles=define, usesocks=undef
    use64bitint=define, use64bitall=define, uselongdouble=undef
    usemymalloc=n, bincompat5005=undef
  Compiler:
    cc='cc', ccflags ='-fno-common -DPERL_DARWIN -fno-strict-aliasing -pipe -fstack-protector -I/opt/local/include',
    optimize='-O3',
    cppflags='-fno-common -DPERL_DARWIN -fno-strict-aliasing -pipe -fstack-protector -I/opt/local/include'
    ccversion='', gccversion='4.2.1 Compatible Apple Clang 4.0 ((tags/Apple/clang-421.0.60))', gccosandvers=''
    intsize=4, longsize=8, ptrsize=8, doublesize=8, byteorder=12345678
    d_longlong=define, longlongsize=8, d_longdbl=define, longdblsize=16
    ivtype='long', ivsize=8, nvtype='double', nvsize=8, Off_t='off_t', lseeksize=8
    alignbytes=8, prototype=define
  Linker and Libraries:
    ld='env MACOSX_DEPLOYMENT_TARGET=10.3 cc', ldflags =' -fstack-protector -L/opt/local/lib'
    libpth=/opt/local/lib /usr/lib
    libs=-lgdbm -ldbm -ldl -lm -lutil -lc
    perllibs=-ldl -lm -lutil -lc
    libc=, so=dylib, useshrplib=false, libperl=libperl.a
    gnulibc_version=''
  Dynamic Linking:
    dlsrc=dl_dlopen.xs, dlext=bundle, d_dlsymun=undef, ccdlflags=' '
    cccdlflags=' ', lddlflags=' -bundle -undefined dynamic_lookup -L/opt/local/lib -fstack-protector'


Characteristics of this binary (from libperl): 
  Compile-time options: HAS_TIMES PERLIO_LAYERS PERL_DONT_CREATE_GVSV
                        PERL_MALLOC_WRAP PERL_PRESERVE_IVUV USE_64_BIT_ALL
                        USE_64_BIT_INT USE_LARGE_FILES USE_LOCALE
                        USE_LOCALE_COLLATE USE_LOCALE_CTYPE
                        USE_LOCALE_NUMERIC USE_PERLIO USE_PERL_ATOF
  Built under darwin
  Compiled at Mar 12 2013 10:31:08
  %ENV:
    PERLBREW_BASHRC_VERSION="0.62"
    PERLBREW_HOME="/Users/stas/.perlbrew"
    PERLBREW_MANPATH="/Users/stas/perl5/perlbrew/perls/perl-5.16.2/man"
    PERLBREW_PATH="/Users/stas/perl5/perlbrew/bin:/Users/stas/perl5/perlbrew/perls/perl-5.16.2/bin"
    PERLBREW_PERL="perl-5.16.2"
    PERLBREW_ROOT="/Users/stas/perl5/perlbrew"
    PERLBREW_VERSION="0.62"
    PERL_MM_USE_DEFAULT="1"
  @INC:
    /Users/stas/perl5/perlbrew/perls/perl-5.16.2/lib/site_perl/5.16.3/darwin-2level
    /Users/stas/perl5/perlbrew/perls/perl-5.16.2/lib/site_perl/5.16.3
    /Users/stas/perl5/perlbrew/perls/perl-5.16.2/lib/5.16.3/darwin-2level
    /Users/stas/perl5/perlbrew/perls/perl-5.16.2/lib/5.16.3
    /Users/stas/perl5/perlbrew/perls/perl-5.16.2/lib/site_perl/5.16.2/darwin-2level
    /Users/stas/perl5/perlbrew/perls/perl-5.16.2/lib/site_perl/5.16.2
    /Users/stas/perl5/perlbrew/perls/perl-5.16.2/lib/site_perl
    .