Back
From: metabase:user:30f4dfbe-2aae-11df-837a-5e0a49663a4f
Subject: PASS Text-VimColor-0.28 v5.8.8 GNU/Linux
Date: 2017-08-07T03:51:21Z
This distribution has been tested as part of the CPAN Testers
project, supporting the Perl programming language. See
http://wiki.cpantesters.org/ for more information or email
questions to cpan-testers-discuss@perl.org
--
Dear Randy Stauner,
This is a computer-generated report for Text-VimColor-0.28
on perl 5.8.8, created by CPAN-Reporter-1.2018.
Thank you for uploading your work to CPAN. Congratulations!
All tests were successful.
Sections of this report:
* Tester comments
* Program output
* Prerequisites
* Environment and other context
------------------------------
TESTER COMMENTS
------------------------------
Additional comments from tester:
this report is from an automated smoke testing program
and was not reviewed by a human for accuracy
------------------------------
PROGRAM OUTPUT
------------------------------
Output from '/usr/bin/make test':
Skip blib/lib/auto/share/dist/Text-VimColor/define_all.vim (unchanged)
Skip blib/lib/auto/share/dist/Text-VimColor/light.css (unchanged)
Skip blib/lib/auto/share/dist/Text-VimColor/light.xsl (unchanged)
Skip blib/lib/auto/share/dist/Text-VimColor/mark.vim (unchanged)
PERL_DL_NONLAZY=1 "/home/njh/perl5/perlbrew/perls/perl-5.8.8/bin/perl" "-MExtUtils::Command::MM" "-MTest::Harness" "-e" "undef *Test::Harness::Switches; test_harness(0, 'blib/lib', 'blib/arch')" t/*.t
t/00-compile.t ......... ok
# vim --version
#
# VIM - Vi IMproved 8.0 (2016 Sep 12, compiled Jul 22 2017 07:10:23)
# Included patches: 1-197, 322, 377-378, 550, 703, 706-707
# Modified by pkg-vim-maintainers@lists.alioth.debian.org
# Compiled by pkg-vim-maintainers@lists.alioth.debian.org
# Huge version with GTK2 GUI. Features included (+) or not (-):
# +acl +file_in_path +mouse_sgr +tag_old_static
# +arabic +find_in_path -mouse_sysmouse -tag_any_white
# +autocmd +float +mouse_urxvt +tcl
# +balloon_eval +folding +mouse_xterm +termguicolors
# +browse -footer +multi_byte +terminfo
# ++builtin_terms +fork() +multi_lang +termresponse
# +byte_offset +gettext -mzscheme +textobjects
# +channel -hangul_input +netbeans_intg +timers
# +cindent +iconv +num64 +title
# +clientserver +insert_expand +packages +toolbar
# +clipboard +job +path_extra +user_commands
# +cmdline_compl +jumplist +perl +vertsplit
# +cmdline_hist +keymap +persistent_undo +virtualedit
# +cmdline_info +lambda +postscript +visual
# +comments +langmap +printer +visualextra
# +conceal +libcall +profile +viminfo
# +cryptv +linebreak -python +vreplace
# +cscope +lispindent +python3 +wildignore
# +cursorbind +listcmds +quickfix +wildmenu
# +cursorshape +localmap +reltime +windows
# +dialog_con_gui +lua +rightleft +writebackup
# +diff +menu +ruby +X11
# +digraphs +mksession +scrollbind -xfontset
# +dnd +modify_fname +signs +xim
# -ebcdic +mouse +smartindent +xpm
# +emacs_tags +mouseshape +startuptime +xsmp_interact
# +eval +mouse_dec +statusline +xterm_clipboard
# +ex_extra +mouse_gpm -sun_workshop -xterm_save
# +extra_search -mouse_jsbterm +syntax
# +farsi +mouse_netterm +tag_binary
# system vimrc file: "$VIM/vimrc"
# user vimrc file: "$HOME/.vimrc"
# 2nd user vimrc file: "~/.vim/vimrc"
# user exrc file: "$HOME/.exrc"
# system gvimrc file: "$VIM/gvimrc"
# user gvimrc file: "$HOME/.gvimrc"
# 2nd user gvimrc file: "~/.vim/gvimrc"
# defaults file: "$VIMRUNTIME/defaults.vim"
# system menu file: "$VIMRUNTIME/menu.vim"
# fall-back for $VIM: "/usr/share/vim"
# Compilation: gcc -c -I. -Iproto -DHAVE_CONFIG_H -DFEAT_GUI_GTK -pthread -I/usr/include/gtk-2.0 -I/usr/lib/x86_64-linux-gnu/gtk-2.0/include -I/usr/include/gio-unix-2.0/ -I/usr/include/cairo -I/usr/include/pango-1.0 -I/usr/include/atk-1.0 -I/usr/include/cairo -I/usr/include/pixman-1 -I/usr/include/libpng16 -I/usr/include/gdk-pixbuf-2.0 -I/usr/include/libpng16 -I/usr/include/pango-1.0 -I/usr/include/harfbuzz -I/usr/include/pango-1.0 -I/usr/include/glib-2.0 -I/usr/lib/x86_64-linux-gnu/glib-2.0/include -I/usr/include/freetype2 -Wdate-time -g -O2 -fdebug-prefix-map=/build/vim-wLNUZZ/vim-8.0.0197=. -fstack-protector-strong -Wformat -Werror=format-security -U_FORTIFY_SOURCE -D_FORTIFY_SOURCE=1
# Linking: gcc -L. -Wl,-z,relro -Wl,-z,now -fstack-protector -rdynamic -Wl,-export-dynamic -Wl,-E -Wl,-z,relro -Wl,-z,now -Wl,--as-needed -o vim -lgtk-x11-2.0 -lgdk-x11-2.0 -lpangocairo-1.0 -latk-1.0 -lcairo -lgdk_pixbuf-2.0 -lgio-2.0 -lpangoft2-1.0 -lpango-1.0 -lgobject-2.0 -lglib-2.0 -lfontconfig -lfreetype -lSM -lICE -lXpm -lXt -lX11 -lXdmcp -lSM -lICE -lm -ltinfo -lnsl -lselinux -lacl -lattr -lgpm -ldl -L/usr/lib -llua5.2 -Wl,-E -fstack-protector-strong -L/usr/local/lib -L/usr/lib/x86_64-linux-gnu/perl/5.26/CORE -lperl -ldl -lm -lpthread -lcrypt -L/usr/lib/python3.5/config-3.5m-x86_64-linux-gnu -lpython3.5m -lpthread -ldl -lutil -lm -L/usr/lib/x86_64-linux-gnu -ltcl8.6 -ldl -lz -lpthread -lieee -lm -lruby-2.3 -lpthread -lgmp -ldl -lcrypt -lm
#
t/000-vim-version.t .... ok
#
# Versions for all modules listed in MYMETA.json (including optional ones):
#
# === Configure Requires ===
#
# Module Want Have
# ----------------------- ---- ------
# ExtUtils::MakeMaker any 7.24
# File::ShareDir::Install 0.06 0.08
# File::Temp any 0.2304
# IO::File any 1.14
# IPC::Open3 any 1.02
# strict any 1.03
# warnings any 1.05
#
# === Build Requires ===
#
# Module Want Have
# ------------------- ---- ----
# ExtUtils::MakeMaker any 7.24
#
# === Test Requires ===
#
# Module Want Have
# -------------------------- ---- --------
# Exporter any 5.58
# ExtUtils::MakeMaker any 7.24
# File::Spec any 3.40
# File::Temp any 0.2304
# IO::Handle any 1.28
# IPC::Open3 any 1.02
# Path::Class 0.04 0.33
# Test::File::ShareDir::Dist any 1.001002
# Test::More 0.88 1.302086
# blib 1.01 1.03
# lib any 0.5565
#
# === Test Recommends ===
#
# Module Want Have
# ---------- -------- --------
# CPAN::Meta 2.120900 2.150005
#
# === Runtime Requires ===
#
# Module Want Have
# --------------- ---- ------
# Carp any 1.26
# File::Copy any 2.09
# File::ShareDir any 1.03
# File::Temp any 0.2304
# Getopt::Long any 2.5
# IO::File any 1.14
# IPC::Open3 any 1.02
# Path::Class 0.04 0.33
# Symbol any 1.06
# Term::ANSIColor 1.03 1.10
# constant any 1.05
# strict any 1.03
# warnings any 1.05
#
# === Runtime Recommends ===
#
# Module Want Have
# --------------- ---- ----
# Term::ANSIColor 3 1.10
#
t/00-report-prereqs.t .. ok
t/all-syntax-groups.t .. ok
t/ansi.t ............... ok
Wide character in print at /home/njh/perl5/perlbrew/perls/perl-5.8.8/lib/5.8.8/Test2/Formatter/TAP.pm line 113.
t/bin.t ................ ok
t/compare-formats.t .... ok
t/new.t ................ ok
t/encoding.t ........... ok
t/share-dir.t .......... ok
t/input_filename.t ..... ok
t/tvctestsyn.t ......... ok
t/untie-std-handles.t .. skipped: Tie::StdHandle required for this test
t/vim_options.t ........ ok
t/override-options.t ... ok
t/html.t ............... ok
t/xml.t ................ ok
t/vim_let.t ............ ok
All tests successful.
Files=18, Tests=142, 2 wallclock secs ( 0.07 usr 0.02 sys + 3.34 cusr 0.58 csys = 4.01 CPU)
Result: PASS
------------------------------
PREREQUISITES
------------------------------
Prerequisite modules loaded:
requires:
Module Need Have
-------------------------- ----- --------
Carp 0 1.26
constant 0 1.05
File::Copy 0 2.09
File::ShareDir 0 1.03
File::Temp 0 0.2304
Getopt::Long 0 2.5
IO::File 0 1.14
IPC::Open3 0 1.02
Path::Class 0.04 0.33
perl 5.006 5.008008
strict 0 1.03
Symbol 0 1.06
Term::ANSIColor 1.03 1.10
warnings 0 1.05
build_requires:
Module Need Have
-------------------------- ----- --------
blib 1.01 1.03
Exporter 0 5.58
ExtUtils::MakeMaker 0 7.24
File::Spec 0 3.40
File::Temp 0 0.2304
IO::Handle 0 1.28
IPC::Open3 0 1.02
lib 0 0.5565
Path::Class 0.04 0.33
Test::File::ShareDir::Dist 0 1.001002
Test::More 0.88 1.302086
configure_requires:
Module Need Have
-------------------------- ----- --------
ExtUtils::MakeMaker 0 7.24
File::ShareDir::Install 0.06 0.08
File::Temp 0 0.2304
IO::File 0 1.14
IPC::Open3 0 1.02
perl 5.006 5.008008
strict 0 1.03
warnings 0 1.05
------------------------------
ENVIRONMENT AND OTHER CONTEXT
------------------------------
Environment variables:
AUTOMATED_TESTING = 1
HARNESS_OPTIONS = j4
LANG = en_GB.UTF-8
LANGUAGE = en_GB:en
PATH = /home/njh/perl5/perlbrew/bin:/home/njh/perl5/perlbrew/perls/perl-5.8.8/bin:/home/njh/perl5/perlbrew/bin:/usr/bin:/bin
PERL5LIB = /home/njh/.cpan/build/Test-File-ShareDir-1.001002-6/blib/arch:/home/njh/.cpan/build/Test-File-ShareDir-1.001002-6/blib/lib:/home/njh/.cpan/build/Scope-Guard-0.21-6/blib/arch:/home/njh/.cpan/build/Scope-Guard-0.21-6/blib/lib
PERL5OPT =
PERL5_CPANPLUS_IS_RUNNING = 13826
PERL5_CPAN_IS_RUNNING = 13826
PERLBREW_BASHRC_VERSION = 0.73
PERLBREW_HOME = /home/njh/.perlbrew
PERLBREW_LIB =
PERLBREW_MANPATH = /home/njh/perl5/perlbrew/perls/perl-5.8.8/man
PERLBREW_PATH = /home/njh/perl5/perlbrew/bin:/home/njh/perl5/perlbrew/perls/perl-5.8.8/bin
PERLBREW_PERL = perl-5.8.8
PERLBREW_ROOT = /home/njh/perl5/perlbrew
PERLBREW_VERSION = 0.73
PERL_LOCAL_LIB_ROOT =
SHELL = /bin/sh
Perl special variables (and OS-specific diagnostics, for MSWin32):
$^X = /home/njh/perl5/perlbrew/perls/perl-5.8.8/bin/perl
$UID/$EUID = 1000 / 1000
$GID = 1000 1000 112 108 46 44 30 29 25 24 4
$EGID = 1000 1000 112 108 46 44 30 29 25 24 4
Perl module toolchain versions installed:
Module Have
------------------- --------
CPAN 2.16
CPAN::Meta 2.150005
Cwd 3.40
ExtUtils::CBuilder 0.280220
ExtUtils::Command 7.24
ExtUtils::Install 1.54
ExtUtils::MakeMaker 7.24
ExtUtils::Manifest 1.70
ExtUtils::ParseXS 3.30
File::Spec 3.40
JSON 2.93
JSON::PP 2.27400
Module::Build 0.4214
Module::Signature 0.70
Parse::CPAN::Meta 1.4422
Test::Harness 3.36
Test::More 1.302086
YAML 1.23
YAML::Syck 1.30
version 0.88
--
Summary of my perl5 (revision 5 version 8 subversion 8) configuration:
Platform:
osname=linux, osvers=3.2.0-4-amd64, archname=x86_64-linux-thread-multi
uname='linux nigelhorne.force9.co.uk 3.2.0-4-amd64 #1 smp debian 3.2.32-1 x86_64 gnulinux '
config_args='-de -Dprefix=/home/njh/perl5/perlbrew/perls/perl-5.8.8 -Duseithreads -Dusemultiplicity -Accflags=-O2 -W -Wformat=2 -Wswitch -Wshadow -Wwrite-strings -Wuninitialized -Wall -pipe -mtune=native -march=native -fomit-frame-pointer -mfpmath=sse -pedantic -D_FORTIFY_SOURCE=2 -Wpointer-arith -Wstrict-prototypes -fstack-protector -Wstack-protector -Wextra -Wbad-function-cast -Wcast-align -Wcast-qual -Wdisabled-optimization -Wendif-labels -Wfloat-equal -Wformat-nonliteral -Winline -Wmissing-declarations -Wmissing-prototypes -Wnested-externs -Wpointer-arith -Wundef -Wformat-security -Aeval:scriptdir=/home/njh/perl5/perlbrew/perls/perl-5.8.8/bin'
hint=recommended, useposix=true, d_sigaction=define
usethreads=define use5005threads=undef useithreads=define usemultiplicity=define
useperlio=define d_sfio=undef uselargefiles=define usesocks=undef
use64bitint=define use64bitall=define uselongdouble=undef
usemymalloc=n, bincompat5005=undef
Compiler:
cc='cc', ccflags ='-D_REENTRANT -D_GNU_SOURCE -O2 -W -Wformat=2 -Wswitch -Wshadow -Wwrite-strings -Wuninitialized -Wall -pipe -mtune=native -march=native -fomit-frame-pointer -mfpmath=sse -pedantic -D_FORTIFY_SOURCE=2 -Wpointer-arith -Wstrict-prototypes -fstack-protector -Wstack-protector -Wextra -Wbad-function-cast -Wcast-align -Wcast-qual -Wdisabled-optimization -Wendif-labels -Wfloat-equal -Wformat-nonliteral -Winline -Wmissing-declarations -Wmissing-prototypes -Wnested-externs -Wpointer-arith -Wundef -Wformat-security -fno-strict-aliasing -Wdeclaration-after-statement -I/usr/local/include -D_LARGEFILE_SOURCE -D_FILE_OFFSET_BITS=64',
optimize='-O2',
cppflags='-D_REENTRANT -D_GNU_SOURCE -O2 -W -Wformat=2 -Wswitch -Wshadow -Wwrite-strings -Wuninitialized -Wall -pipe -mtune=native -march=native -fomit-frame-pointer -mfpmath=sse -pedantic -D_FORTIFY_SOURCE=2 -Wpointer-arith -Wstrict-prototypes -fstack-protector -Wstack-protector -Wextra -Wbad-function-cast -Wcast-align -Wcast-qual -Wdisabled-optimization -Wendif-labels -Wfloat-equal -Wformat-nonliteral -Winline -Wmissing-declarations -Wmissing-prototypes -Wnested-externs -Wpointer-arith -Wundef -Wformat-security -fno-strict-aliasing -Wdeclaration-after-statement -I/usr/local/include'
ccversion='', gccversion='4.7.2', gccosandvers=''
intsize=4, longsize=8, ptrsize=8, doublesize=8, byteorder=12345678
d_longlong=define, longlongsize=8, d_longdbl=define, longdblsize=16
ivtype='long', ivsize=8, nvtype='double', nvsize=8, Off_t='off_t', lseeksize=8
alignbytes=8, prototype=define
Linker and Libraries:
ld='cc', ldflags =' -L/usr/local/lib'
libpth=/usr/local/lib /lib/x86_64-linux-gnu /lib/../lib /usr/lib/x86_64-linux-gnu /usr/lib/../lib /lib /usr/lib
libs=-lnsl -lgdbm -ldb -ldl -lm -lcrypt -lutil -lpthread -lc -lgdbm_compat
perllibs=-lnsl -ldl -lm -lcrypt -lutil -lpthread -lc -lgdbm_compat
libc=, so=so, useshrplib=false, libperl=libperl.a
gnulibc_version='2.13'
Dynamic Linking:
dlsrc=dl_dlopen.xs, dlext=so, d_dlsymun=undef, ccdlflags='-Wl,-E'
cccdlflags='-fpic', lddlflags='-shared -L/usr/local/lib'
Characteristics of this binary (from libperl):
Compile-time options: MULTIPLICITY PERL_IMPLICIT_CONTEXT
PERL_MALLOC_WRAP USE_64_BIT_ALL USE_64_BIT_INT
USE_ITHREADS USE_LARGE_FILES USE_PERLIO
USE_REENTRANT_API
Built under linux
Compiled at Mar 5 2013 01:22:32
%ENV:
PERL5LIB="/home/njh/.cpan/build/Test-File-ShareDir-1.001002-6/blib/arch:/home/njh/.cpan/build/Test-File-ShareDir-1.001002-6/blib/lib:/home/njh/.cpan/build/Scope-Guard-0.21-6/blib/arch:/home/njh/.cpan/build/Scope-Guard-0.21-6/blib/lib"
PERL5OPT=""
PERL5_CPANPLUS_IS_RUNNING="13826"
PERL5_CPAN_IS_RUNNING="13826"
PERLBREW_BASHRC_VERSION="0.73"
PERLBREW_HOME="/home/njh/.perlbrew"
PERLBREW_LIB=""
PERLBREW_MANPATH="/home/njh/perl5/perlbrew/perls/perl-5.8.8/man"
PERLBREW_PATH="/home/njh/perl5/perlbrew/bin:/home/njh/perl5/perlbrew/perls/perl-5.8.8/bin"
PERLBREW_PERL="perl-5.8.8"
PERLBREW_ROOT="/home/njh/perl5/perlbrew"
PERLBREW_VERSION="0.73"
PERL_LOCAL_LIB_ROOT=""
@INC:
/home/njh/.cpan/build/Test-File-ShareDir-1.001002-6/blib/arch
/home/njh/.cpan/build/Test-File-ShareDir-1.001002-6/blib/lib
/home/njh/.cpan/build/Scope-Guard-0.21-6/blib/arch
/home/njh/.cpan/build/Scope-Guard-0.21-6/blib/lib
/home/njh/perl5/perlbrew/perls/perl-5.8.8/lib/5.8.8/x86_64-linux-thread-multi
/home/njh/perl5/perlbrew/perls/perl-5.8.8/lib/5.8.8
/home/njh/perl5/perlbrew/perls/perl-5.8.8/lib/site_perl/5.8.8/x86_64-linux-thread-multi
/home/njh/perl5/perlbrew/perls/perl-5.8.8/lib/site_perl/5.8.8
/home/njh/perl5/perlbrew/perls/perl-5.8.8/lib/site_perl
.