Geo-TCX v1.06-TRIAL Perl 5 v5.8.9 i86pc-solaris-64

Status
Pass
From
Chris Williams (BINGOS)
Dist
Geo-TCX v1.06-TRIAL
Platform
Perl 5 v5.8.9 i86pc-solaris-64
Date
2022-12-15 21:58:58
ID
ad2d5b90-7cc3-11ed-aba6-9a79f339625c
This distribution has been tested as part of the CPAN Testers
project, supporting the Perl programming language.  See
http://wiki.cpantesters.org/ for more information or email
questions to cpan-testers-discuss@perl.org


--

Dear PATJOL,

This is a computer-generated error report created automatically by
CPANPLUS, version 0.9914. Testers personal comments may appear
at the end of this report.


Thank you for uploading your work to CPAN.  Congratulations!
All tests were successful.

TEST RESULTS:

Below is the error stack from stage 'make test':

# 
# Versions for all modules listed in MYMETA.json (including optional ones):
# 
# === Configure Requires ===
# 
#     Module              Want   Have
#     ------------------- ---- ------
#     ExtUtils::MakeMaker  any   7.64
#     Module::Build       0.28 0.4231
# 
# === Build Requires ===
# 
#     Module        Want   Have
#     ------------- ---- ------
#     Module::Build 0.28 0.4231
# 
# === Test Requires ===
# 
#     Module              Want     Have
#     ------------------- ---- --------
#     ExtUtils::MakeMaker  any     7.64
#     File::Spec           any     3.75
#     Test::More           any 1.302191
# 
# === Test Recommends ===
# 
#     Module         Want     Have
#     ---------- -------- --------
#     CPAN::Meta 2.120900 2.150010
# 
# === Runtime Requires ===
# 
#     Module                    Want     Have
#     ------------------------- ---- --------
#     DateTime                  1.44     1.59
#     DateTime::Format::ISO8601  any     0.16
#     Geo::Gpx                  1.08     1.09
#     IPC::System::Simple       1.30     1.30
#     Test::More                 any 1.302191
# 
t/00-report-prereqs.t .. ok
# Testing Geo::TCX 1.06
t/00_load.t ............ ok
t/01_main.t ............ ok
t/02_lap.t ............. ok
t/02_track.t ........... ok
t/02_trackpoint.t ...... ok
t/03_courses.t ......... ok
t/fit.t ................ skipped: Geo::FIT not available
t/set.t ................ ok
All tests successful.
Files=9, Tests=235, 14 wallclock secs ( 0.12 usr  0.06 sys + 12.32 cusr  1.21 csys = 13.71 CPU)
Result: PASS


PREREQUISITES:

Here is a list of prerequisites you specified and versions we
managed to load:

	  Module Name                        Have     Want
	  DateTime                           1.59     1.44
	  DateTime::Format::ISO8601          0.16        0
	  ExtUtils::MakeMaker                7.64        0
	  File::Spec                         3.75        0
	  Geo::Gpx                           1.09     1.08
	  IPC::System::Simple                1.30     1.30
	  Module::Build                    0.4231     0.28
	  Test::More                     1.302191        0

Perl module toolchain versions installed:
	Module Name                        Have
	CPANPLUS                         0.9914
	CPANPLUS::Dist::Build              0.90
	Cwd                                3.75
	ExtUtils::CBuilder             0.280236
	ExtUtils::Command                  7.64
	ExtUtils::Install                  2.20
	ExtUtils::MakeMaker                7.64
	ExtUtils::Manifest                 1.73
	ExtUtils::ParseXS                  3.44
	File::Spec                         3.75
	Module::Build                    0.4231
	Pod::Parser                        1.35
	Pod::Simple                        3.40
	Test2                          1.302191
	Test::Harness                      3.44
	Test::More                     1.302191
	version                          0.9929

******************************** NOTE ********************************
The comments above are created mechanically, possibly without manual
checking by the sender.  As there are many people performing automatic
tests on each upload to CPAN, it is likely that you will receive
identical messages about the same problem.

If you believe that the message is mistaken, please reply to the first
one with correction and/or additional informations, and do not take
it personally.  We appreciate your patience. :)
**********************************************************************

Additional comments:


This report was machine-generated by CPANPLUS::Dist::YACSmoke 1.08.
Powered by minismokebox version 0.68

CPANPLUS is prefering Build.PL

------------------------------
ENVIRONMENT AND OTHER CONTEXT
------------------------------

Environment variables:

    AUTOMATED_TESTING = 1
    LANG = en_GB.UTF-8
    NONINTERACTIVE_TESTING = 1
    PATH = /home/cpan/pit/bare/conf/perl-5.8.9/.cpanplus/5.8.9/build/n0MOS1uQLq/Geo-TCX-1.06/blib/script:/usr/bin:/usr/sbin:/sbin:/opt/ooce/bin:/usr/gnu/bin
    PERL5LIB = /home/cpan/pit/jail/IgNwJInSSZ/lib/perl5:/home/cpan/pit/bare/conf/perl-5.8.9/.cpanplus/5.8.9/build/BjOu7iF90b/XML-Descent-1.04/blib/lib:/home/cpan/pit/bare/conf/perl-5.8.9/.cpanplus/5.8.9/build/BjOu7iF90b/XML-Descent-1.04/blib/arch:/home/cpan/pit/bare/conf/perl-5.8.9/.cpanplus/5.8.9/build/8CnU5Ajj8a/Geo-Gpx-1.09/blib/lib:/home/cpan/pit/bare/conf/perl-5.8.9/.cpanplus/5.8.9/build/8CnU5Ajj8a/Geo-Gpx-1.09/blib/arch:/home/cpan/pit/bare/conf/perl-5.8.9/.cpanplus/5.8.9/build/n0MOS1uQLq/Geo-TCX-1.06/blib/lib:/home/cpan/pit/bare/conf/perl-5.8.9/.cpanplus/5.8.9/build/n0MOS1uQLq/Geo-TCX-1.06/blib/arch
    PERL5_CPANPLUS_IS_RUNNING = 27428
    PERL5_CPANPLUS_IS_VERSION = 0.9914
    PERL5_MINISMOKEBOX = 0.68
    PERL5_YACSMOKE_BASE = /home/cpan/pit/bare/conf/perl-5.8.9
    PERL_EXTUTILS_AUTOINSTALL = --defaultdeps
    PERL_LOCAL_LIB_ROOT = /home/cpan/pit/jail/IgNwJInSSZ
    PERL_MB_OPT = --install_base "/home/cpan/pit/jail/IgNwJInSSZ"
    PERL_MM_OPT = INSTALL_BASE=/home/cpan/pit/jail/IgNwJInSSZ
    PERL_MM_USE_DEFAULT = 1
    SHELL = /bin/bash
    TERM = screen.xterm-256color

Perl special variables (and OS-specific diagnostics, for MSWin32):

    Perl: $^X = /home/cpan/pit/bare/perl-5.8.9/bin/perl
    UID:  $<  = 101
    EUID: $>  = 101
    GID:  $(  = 101 101
    EGID: $)  = 101 101


-------------------------------


--

Summary of my perl5 (revision 5 version 8 subversion 9) configuration:
  Platform:
    osname=solaris, osvers=2.11, archname=i86pc-solaris-64
    uname='sunos ouzel 5.11 omnios-r151034-0d278a0cc5 i86pc i386 i86pc '
    config_args='-des -Dprefix=/home/cpan/pit/bare/perl-5.8.9 -Duse64bitall -Dcc=gcc'
    hint=recommended, useposix=true, d_sigaction=define
    usethreads=undef use5005threads=undef useithreads=undef usemultiplicity=undef
    useperlio=define d_sfio=undef uselargefiles=define usesocks=undef
    use64bitint=define use64bitall=define uselongdouble=undef
    usemymalloc=n, bincompat5005=undef
  Compiler:
    cc='gcc', ccflags ='-m64 -fwrapv -fno-strict-aliasing -pipe -D_LARGEFILE_SOURCE -D_FILE_OFFSET_BITS=64 -DPERL_USE_SAFE_PUTENV',
    optimize='-O',
    cppflags='-m64 -fwrapv -fno-strict-aliasing -pipe'
    ccversion='', gccversion='9.3.0', gccosandvers=''
    intsize=4, longsize=8, ptrsize=8, doublesize=8, byteorder=12345678
    d_longlong=define, longlongsize=8, d_longdbl=define, longdblsize=16
    ivtype='long', ivsize=8, nvtype='double', nvsize=8, Off_t='off_t', lseeksize=8
    alignbytes=8, prototype=define
  Linker and Libraries:
    ld='gcc', ldflags =' -m64 -L/usr/gnu/lib '
    libpth=/usr/gnu/lib /usr/lib /usr/ccs/lib
    libs=-lsocket -lnsl -ldl -lm -lc
    perllibs=-lsocket -lnsl -ldl -lm -lc
    libc=/lib/libc.so, so=so, useshrplib=true, libperl=libperl.so
    gnulibc_version=''
  Dynamic Linking:
    dlsrc=dl_dlopen.xs, dlext=so, d_dlsymun=undef, ccdlflags='  -R /home/cpan/pit/bare/perl-5.8.9/lib/5.8.9/i86pc-solaris-64/CORE'
    cccdlflags='-fPIC', lddlflags=' -shared -m64 -L/usr/gnu/lib'


Characteristics of this binary (from libperl): 
  Compile-time options: PERL_MALLOC_WRAP PERL_USE_SAFE_PUTENV USE_64_BIT_ALL
                        USE_64_BIT_INT USE_FAST_STDIO USE_LARGE_FILES
                        USE_PERLIO
  Locally applied patches:
	Devel::PatchPerl 2.00
  Built under solaris
  Compiled at Aug 19 2020 01:07:46
  %ENV:
    PERL5LIB="/home/cpan/pit/jail/IgNwJInSSZ/lib/perl5:/home/cpan/pit/bare/conf/perl-5.8.9/.cpanplus/5.8.9/build/BjOu7iF90b/XML-Descent-1.04/blib/lib:/home/cpan/pit/bare/conf/perl-5.8.9/.cpanplus/5.8.9/build/BjOu7iF90b/XML-Descent-1.04/blib/arch:/home/cpan/pit/bare/conf/perl-5.8.9/.cpanplus/5.8.9/build/8CnU5Ajj8a/Geo-Gpx-1.09/blib/lib:/home/cpan/pit/bare/conf/perl-5.8.9/.cpanplus/5.8.9/build/8CnU5Ajj8a/Geo-Gpx-1.09/blib/arch:/home/cpan/pit/bare/conf/perl-5.8.9/.cpanplus/5.8.9/build/n0MOS1uQLq/Geo-TCX-1.06/blib/lib:/home/cpan/pit/bare/conf/perl-5.8.9/.cpanplus/5.8.9/build/n0MOS1uQLq/Geo-TCX-1.06/blib/arch"
    PERL5_CPANPLUS_IS_RUNNING="27428"
    PERL5_CPANPLUS_IS_VERSION="0.9914"
    PERL5_MINISMOKEBOX="0.68"
    PERL5_YACSMOKE_BASE="/home/cpan/pit/bare/conf/perl-5.8.9"
    PERL_EXTUTILS_AUTOINSTALL="--defaultdeps"
    PERL_LOCAL_LIB_ROOT="/home/cpan/pit/jail/IgNwJInSSZ"
    PERL_MB_OPT="--install_base "/home/cpan/pit/jail/IgNwJInSSZ""
    PERL_MM_OPT="INSTALL_BASE=/home/cpan/pit/jail/IgNwJInSSZ"
    PERL_MM_USE_DEFAULT="1"
  @INC:
    /home/cpan/pit/jail/IgNwJInSSZ/lib/perl5/5.8.9/i86pc-solaris-64
    /home/cpan/pit/jail/IgNwJInSSZ/lib/perl5/5.8.9
    /home/cpan/pit/jail/IgNwJInSSZ/lib/perl5/i86pc-solaris-64
    /home/cpan/pit/jail/IgNwJInSSZ/lib/perl5
    /home/cpan/pit/bare/conf/perl-5.8.9/.cpanplus/5.8.9/build/BjOu7iF90b/XML-Descent-1.04/blib/lib
    /home/cpan/pit/bare/conf/perl-5.8.9/.cpanplus/5.8.9/build/BjOu7iF90b/XML-Descent-1.04/blib/arch
    /home/cpan/pit/bare/conf/perl-5.8.9/.cpanplus/5.8.9/build/8CnU5Ajj8a/Geo-Gpx-1.09/blib/lib
    /home/cpan/pit/bare/conf/perl-5.8.9/.cpanplus/5.8.9/build/8CnU5Ajj8a/Geo-Gpx-1.09/blib/arch
    /home/cpan/pit/bare/conf/perl-5.8.9/.cpanplus/5.8.9/build/n0MOS1uQLq/Geo-TCX-1.06/blib/lib
    /home/cpan/pit/bare/conf/perl-5.8.9/.cpanplus/5.8.9/build/n0MOS1uQLq/Geo-TCX-1.06/blib/arch
    /home/cpan/pit/bare/perl-5.8.9/lib/5.8.9/i86pc-solaris-64
    /home/cpan/pit/bare/perl-5.8.9/lib/5.8.9
    /home/cpan/pit/bare/perl-5.8.9/lib/site_perl/5.8.9/i86pc-solaris-64
    /home/cpan/pit/bare/perl-5.8.9/lib/site_perl/5.8.9
    .