Dist-Zilla-Plugin-Test-EOL v0.19 Perl 5 v5.18.4 x86_64-linux

Status
Pass
From
NONAME
Dist
Dist-Zilla-Plugin-Test-EOL v0.19
Platform
Perl 5 v5.18.4 x86_64-linux
Date
2017-10-07 18:38:13
ID
ad358e7a-ab8e-11e7-80d1-9a79d4f5a49f
This distribution has been tested as part of the CPAN Testers
project, supporting the Perl programming language.  See
http://wiki.cpantesters.org/ for more information or email
questions to cpan-testers-discuss@perl.org


--
Dear ETHER,

This is a computer-generated report for Dist-Zilla-Plugin-Test-EOL-0.19
on perl 5.18.4, created by App::cpanminus::reporter 0.17 (1.7043).

Thank you for uploading your work to CPAN.  Congratulations!
All tests were successful.

Sections of this report:

    * Tester comments
    * Program output
    * Prerequisites
    * Environment and other context

------------------------------
TESTER COMMENTS
------------------------------

Additional comments from tester:

none provided

------------------------------
PROGRAM OUTPUT
------------------------------

Output from '':

Building and testing Dist-Zilla-Plugin-Test-EOL-0.19
cp lib/Dist/Zilla/Plugin/Test/EOL.pm blib/lib/Dist/Zilla/Plugin/Test/EOL.pm
cp lib/Dist/Zilla/Plugin/EOLTests.pm blib/lib/Dist/Zilla/Plugin/EOLTests.pm
# 
# Versions for all modules listed in MYMETA.json (including optional ones):
# 
# === Configure Requires ===
# 
#     Module               Want  Have
#     ------------------- ----- -----
#     Module::Build::Tiny 0.034 0.039
# 
# === Test Requires ===
# 
#     Module            Want     Have
#     ---------------- ----- --------
#     File::Spec         any     3.40
#     File::pushd        any    1.014
#     FindBin            any     1.51
#     Module::Metadata   any 1.000033
#     Test::DZil         any    6.010
#     Test::Deep         any    1.127
#     Test::EOL          any     2.00
#     Test::More        0.88 1.302098
#     Test::Warnings   0.009    0.026
#     if                 any   0.0602
# 
# === Test Recommends ===
# 
#     Module         Want     Have
#     ---------- -------- --------
#     CPAN::Meta 2.120900 2.150010
# 
# === Runtime Requires ===
# 
#     Module                             Want     Have
#     --------------------------------- ----- --------
#     Data::Section                     0.004 0.200006
#     Dist::Zilla::File::InMemory         any    6.010
#     Dist::Zilla::Role::FileFinderUser   any    6.010
#     Dist::Zilla::Role::FileGatherer     any    6.010
#     Dist::Zilla::Role::FileMunger       any    6.010
#     Dist::Zilla::Role::PrereqSource     any    6.010
#     Dist::Zilla::Role::TextTemplate     any    6.010
#     Moose                               any   2.2005
#     Moose::Util::TypeConstraints        any   2.2005
#     Path::Tiny                          any    0.104
#     Sub::Exporter::ForMethods           any 0.100052
#     namespace::autoclean                any     0.28
#     strict                              any     1.07
#     warnings                            any     1.18
# 
# === Other Modules ===
# 
#     Module                    Have
#     --------------------- --------
#     CPAN::Meta::Validator 2.150010
#     Pod::Coverage             0.23
# 
t/00-report-prereqs.t .. ok
t/01-basic.t ........... ok
t/02-eoltests.t ........ ok
t/03-finder.t .......... ok
t/04-filename.t ........ ok
t/eol.t ................ ok
t/prereqs.t ............ ok
t/zzz-check-breaks.t ... ok
All tests successful.
Files=8, Tests=66,  3 wallclock secs ( 0.03 usr  0.01 sys +  3.40 cusr  0.15 csys =  3.59 CPU)
Result: PASS

------------------------------
PREREQUISITES
------------------------------

Prerequisite modules loaded:

    No requirements found

------------------------------
ENVIRONMENT AND OTHER CONTEXT
------------------------------

Environment variables:

    LANG = en_US.UTF-8
    LANGUAGE = en_US
    LC_ADDRESS = de_DE.UTF-8
    LC_IDENTIFICATION = de_DE.UTF-8
    LC_MEASUREMENT = de_DE.UTF-8
    LC_MONETARY = de_DE.UTF-8
    LC_NAME = de_DE.UTF-8
    LC_NUMERIC = de_DE.UTF-8
    LC_PAPER = de_DE.UTF-8
    LC_TELEPHONE = de_DE.UTF-8
    LC_TIME = de_DE.UTF-8
    PATH = /home/simbabque/perl5/perlbrew/bin:/home/simbabque/perl5/perlbrew/perls/perl-5.18.4/bin:/home/simbabque/bin:/home/simbabque/.local/bin:/usr/local/sbin:/usr/local/bin:/usr/sbin:/usr/bin:/sbin:/bin:/usr/games:/usr/local/games:/snap/bin
    PERLBREW_BASHRC_VERSION = 0.78
    PERLBREW_HOME = /home/simbabque/.perlbrew
    PERLBREW_MANPATH = /home/simbabque/perl5/perlbrew/perls/perl-5.18.4/man
    PERLBREW_PATH = /home/simbabque/perl5/perlbrew/bin:/home/simbabque/perl5/perlbrew/perls/perl-5.18.4/bin
    PERLBREW_PERL = perl-5.18.4
    PERLBREW_ROOT = /home/simbabque/perl5/perlbrew
    PERLBREW_VERSION = 0.78
    SHELL = /bin/bash
    TERM = xterm

Perl special variables (and OS-specific diagnostics, for MSWin32):

    EGID = 1000 4 24 27 30 46 113 128 1000
    EUID = 1000
    EXECUTABLE_NAME = /home/simbabque/perl5/perlbrew/perls/perl-5.18.4/bin/perl
    GID = 1000 4 24 27 30 46 113 128 1000
    UID = 1000

Perl module toolchain versions installed:

    Module              Have    
    ------------------- --------
    CPAN                2.00    
    CPAN::Meta          2.150010
    Cwd                 3.40    
    ExtUtils::CBuilder  0.280210
    ExtUtils::Command   7.30    
    ExtUtils::Install   2.06    
    ExtUtils::MakeMaker 7.30    
    ExtUtils::Manifest  1.70    
    ExtUtils::ParseXS   3.18    
    File::Spec          3.40    
    JSON                2.93    
    JSON::PP            2.93    
    Module::Build       0.4222  
    Module::Signature   n/a     
    Parse::CPAN::Meta   2.150010
    Test::Harness       3.39    
    Test::More          1.302098
    YAML                1.23    
    YAML::Syck          1.30    
    version             0.9918  


--

Summary of my perl5 (revision 5 version 18 subversion 4) configuration:
   
  Platform:
    osname=linux, osvers=4.8.0-36-generic, archname=x86_64-linux
    uname='linux box 4.8.0-36-generic #36~16.04.1-ubuntu smp sun feb 5 09:39:57 utc 2017 x86_64 x86_64 x86_64 gnulinux '
    config_args='-de -Dprefix=/home/simbabque/perl5/perlbrew/perls/perl-5.18.4 -Aeval:scriptdir=/home/simbabque/perl5/perlbrew/perls/perl-5.18.4/bin'
    hint=recommended, useposix=true, d_sigaction=define
    useithreads=undef, usemultiplicity=undef
    useperlio=define, d_sfio=undef, uselargefiles=define, usesocks=undef
    use64bitint=define, use64bitall=define, uselongdouble=undef
    usemymalloc=n, bincompat5005=undef
  Compiler:
    cc='cc', ccflags ='-fno-strict-aliasing -pipe -fstack-protector -I/usr/local/include -D_LARGEFILE_SOURCE -D_FILE_OFFSET_BITS=64',
    optimize='-O2',
    cppflags='-fno-strict-aliasing -pipe -fstack-protector -I/usr/local/include'
    ccversion='', gccversion='5.4.0 20160609', gccosandvers=''
    intsize=4, longsize=8, ptrsize=8, doublesize=8, byteorder=12345678
    d_longlong=define, longlongsize=8, d_longdbl=define, longdblsize=16
    ivtype='long', ivsize=8, nvtype='double', nvsize=8, Off_t='off_t', lseeksize=8
    alignbytes=8, prototype=define
  Linker and Libraries:
    ld='cc', ldflags =' -fstack-protector -L/usr/local/lib'
    libpth=/usr/local/lib /lib/x86_64-linux-gnu /lib/../lib /usr/lib/x86_64-linux-gnu /usr/lib/../lib /lib /usr/lib
    libs=-lnsl -ldl -lm -lcrypt -lutil -lc
    perllibs=-lnsl -ldl -lm -lcrypt -lutil -lc
    libc=libc-2.23.so, so=so, useshrplib=false, libperl=libperl.a
    gnulibc_version='2.23'
  Dynamic Linking:
    dlsrc=dl_dlopen.xs, dlext=so, d_dlsymun=undef, ccdlflags='-Wl,-E'
    cccdlflags='-fPIC', lddlflags='-shared -O2 -L/usr/local/lib -fstack-protector'


Characteristics of this binary (from libperl): 
  Compile-time options: HAS_TIMES PERLIO_LAYERS PERL_DONT_CREATE_GVSV
                        PERL_HASH_FUNC_ONE_AT_A_TIME_HARD PERL_MALLOC_WRAP
                        PERL_PRESERVE_IVUV PERL_SAWAMPERSAND USE_64_BIT_ALL
                        USE_64_BIT_INT USE_LARGE_FILES USE_LOCALE
                        USE_LOCALE_COLLATE USE_LOCALE_CTYPE
                        USE_LOCALE_NUMERIC USE_PERLIO USE_PERL_ATOF
  Locally applied patches:
	Devel::PatchPerl 1.48
  Built under linux
  Compiled at May 28 2017 11:52:15
  %ENV:
    PERLBREW_BASHRC_VERSION="0.78"
    PERLBREW_HOME="/home/simbabque/.perlbrew"
    PERLBREW_MANPATH="/home/simbabque/perl5/perlbrew/perls/perl-5.18.4/man"
    PERLBREW_PATH="/home/simbabque/perl5/perlbrew/bin:/home/simbabque/perl5/perlbrew/perls/perl-5.18.4/bin"
    PERLBREW_PERL="perl-5.18.4"
    PERLBREW_ROOT="/home/simbabque/perl5/perlbrew"
    PERLBREW_VERSION="0.78"
  @INC:
    /home/simbabque/perl5/perlbrew/perls/perl-5.18.4/lib/site_perl/5.18.4/x86_64-linux
    /home/simbabque/perl5/perlbrew/perls/perl-5.18.4/lib/site_perl/5.18.4
    /home/simbabque/perl5/perlbrew/perls/perl-5.18.4/lib/5.18.4/x86_64-linux
    /home/simbabque/perl5/perlbrew/perls/perl-5.18.4/lib/5.18.4
    .