SDL v2.548 Perl 5 v5.28.1 x86_64-linux-thread-multi

Status
Pass
From
Nick Alcock
Dist
SDL v2.548
Platform
Perl 5 v5.28.1 x86_64-linux-thread-multi
Date
2019-01-19 21:53:38
ID
ad4e7f6c-1c34-11e9-a3a2-b4f482983823
This distribution has been tested as part of the CPAN Testers
project, supporting the Perl programming language.  See
http://wiki.cpantesters.org/ for more information or email
questions to cpan-testers-discuss@perl.org


--
Dear Tobias Leich,

This is a computer-generated report for SDL-2.548
on perl 5.28.1, created by CPAN-Reporter-1.2018.

Thank you for uploading your work to CPAN.  Congratulations!
All tests were successful.

Sections of this report:

    * Tester comments
    * Program output
    * Prerequisites
    * Environment and other context

------------------------------
TESTER COMMENTS
------------------------------

Additional comments from tester:

none provided

------------------------------
PROGRAM OUTPUT
------------------------------

Output from './Build test':

[Alien::SDL] Build option used:
	Already installed SDL ver=1.2.15 path=/usr
    SDL(v1.2.15) SDL_image(v1.2.13) SDL_mixer(v1.2.13) SDL_ttf(v2.0.11) SDL_gfx(v2.0.26) SDL_Pango(v1.3) 
Building SDL
t/00-load.t ..................... ok
t/colorpm.t ..................... ok
t/config.t ...................... ok
t/core.t ........................ ok
t/core_audio.t .................. ok
t/core_audiospec.t .............. skipped: author tests not required for installation
t/core_cd.t ..................... ok
t/core_error.t .................. ok
t/core_events.t ................. ok
t/core_joystick.t ............... ok
t/core_mouse.t .................. ok
t/core_multi.t .................. ok
t/core_overlay.t ................ ok
t/core_palette.t ................ ok
t/core_rect.t ................... ok
t/core_rwops.t .................. ok
t/core_surface.t ................ ok
t/core_timer.t .................. ok
t/core_version.t ................ ok
t/core_video.t .................. ok
t/core_video_convert_surface.t .. ok
t/core_video_gamma.t ............ ok
t/extendingrect.t ............... ok
t/gfx.t ......................... ok
t/gfx_fpsmanager.t .............. ok
t/gfx_framerate.t ............... ok
t/gfx_imagefilter.t ............. ok
t/gfx_primitives.t .............. ok
t/gfx_primitives2.t ............. ok
t/gfx_rotozoom.t ................ ok
t/image.t ....................... ok
t/image_xpm_array.t ............. ok
t/mixer.t ....................... ok
t/mixer_channels.t .............. ok
t/mixer_effects.t ............... ok
t/mixer_groups.t ................ ok
t/mixer_mixchunk.t .............. ok
t/mixer_mixmusic.t .............. ok
t/mixer_music.t ................. ok
t/mixer_samples.t ............... ok
t/pango.t ....................... ok
t/sdlgamerect.t ................. ok
t/sdlx_app.t .................... ok
t/sdlx_controller.t ............. ok
t/sdlx_controller_interface.t ... ok
t/sdlx_fps.t .................... ok
t/sdlx_layermanager.t ........... ok
t/sdlx_music.t .................. ok
t/sdlx_rect.t ................... ok
t/sdlx_sfont.t .................. ok
t/sdlx_sound.t .................. ok
t/sdlx_sprite.t ................. ok
t/sdlx_sprite_animated.t ........ ok
t/sdlx_surface.t ................ ok
t/sdlx_text.t ................... ok
t/sdlx_validate.t ............... ok
t/smpeg.t ....................... skipped: smpeg support not compiled
t/ttf.t ......................... ok
t/ttf_font.t .................... ok
All tests successful.

Test Summary Report
-------------------
t/core.t                      (Wstat: 0 Tests: 28 Failed: 0)
  TODO passed:   21-22, 27
t/core_multi.t                (Wstat: 0 Tests: 4 Failed: 0)
  TODO passed:   3
t/core_timer.t                (Wstat: 0 Tests: 6 Failed: 0)
  TODO passed:   6
t/core_video.t                (Wstat: 0 Tests: 110 Failed: 0)
  TODO passed:   57, 59
t/gfx_imagefilter.t           (Wstat: 0 Tests: 8 Failed: 0)
  TODO passed:   7
Files=59, Tests=3827, 160 wallclock secs ( 0.40 usr  0.11 sys + 75.41 cusr  5.29 csys = 81.21 CPU)
Result: PASS

------------------------------
PREREQUISITES
------------------------------

Prerequisite modules loaded:

requires:

    Module             Need     Have    
    ------------------ -------- --------
    CPAN               1.92     2.22    
    File::ShareDir     1.0      1.116   
    perl               5.008000 5.028001
    Scalar::Util       0        1.50    
    Tie::Simple        0        1.04    

build_requires:

    Module             Need     Have    
    ------------------ -------- --------
    Alien::SDL         1.446    1.446   
    Capture::Tiny      0        0.48    
    ExtUtils::CBuilder 0        0.280230
    File::Find         0        1.34    
    File::ShareDir     1.0      1.116   
    Scalar::Util       0        1.50    
    Test::Most         0.21     0.35    
    Test::Simple       0.88     1.302160
    Tie::Simple        0        1.04    

configure_requires:

    Module             Need     Have    
    ------------------ -------- --------
    Alien::SDL         1.446    1.446   
    Capture::Tiny      0        0.48    
    ExtUtils::CBuilder 0.260301 0.280230
    File::Find         0        1.34    
    File::ShareDir     1.0      1.116   
    Module::Build      0.40     0.4224  
    Tie::Simple        0        1.04    


------------------------------
ENVIRONMENT AND OTHER CONTEXT
------------------------------

Environment variables:

    LANG = en_GB.UTF-8
    LC_COLLATE = C
    PATH = /usr/bin:/bin:/usr/sbin:/sbin:/usr/games
    PERL5LIB = 
    PERL5OPT = 
    PERL5_CPANPLUS_IS_RUNNING = 108259
    PERL5_CPAN_IS_RUNNING = 108259
    PERL_USE_UNSAFE_INC = 1
    SHELL = /bin/bash
    TERM = xterm-256color

Perl special variables (and OS-specific diagnostics, for MSWin32):

    $^X = /pkg/perl/5.28.1-26/bin/perl
    $UID/$EUID = 0 / 0
    $GID = 0 0 1 2 3 4 6 10 11 16 25 72 73 80 89
    $EGID = 0 0 1 2 3 4 6 10 11 16 25 72 73 80 89

Perl module toolchain versions installed:

    Module              Have    
    ------------------- --------
    CPAN                2.22    
    CPAN::Meta          2.150010
    Cwd                 3.75    
    ExtUtils::CBuilder  0.280230
    ExtUtils::Command   7.34    
    ExtUtils::Install   2.14    
    ExtUtils::MakeMaker 7.34    
    ExtUtils::Manifest  1.71    
    ExtUtils::ParseXS   3.39    
    File::Spec          3.75    
    JSON                n/a     
    JSON::PP            2.97001 
    Module::Build       0.4224  
    Module::Signature   0.83    
    Parse::CPAN::Meta   2.150010
    Test::Harness       3.42    
    Test::More          1.302160
    YAML                1.27    
    YAML::Syck          n/a     
    version             0.9923  


--

Summary of my perl5 (revision 5 version 28 subversion 1) configuration:
   
  Platform:
    osname=linux
    osvers=4.19.7-00006-gecc368f4a234-dirty
    archname=x86_64-linux-thread-multi
    uname='linux mutilate 4.19.7-00006-gecc368f4a234-dirty #3 smp preempt fri dec 7 17:50:41 gmt 2018 x86_64 gnulinux '
    config_args='-d -e -Duseithreads -D privlib=/usr/lib/perl5/5.28 -D sitelib=/usr/lib/perl5/site_perl/5.28 -D optimize=-Wstrict-overflow=1 -gdwarf-4 -feliminate-unused-debug-types -fvar-tracking-assignments -O2 -pipe '
    hint=recommended
    useposix=true
    d_sigaction=define
    useithreads=define
    usemultiplicity=define
    use64bitint=define
    use64bitall=define
    uselongdouble=undef
    usemymalloc=n
    default_inc_excludes_dot=define
    bincompat5005=undef
  Compiler:
    cc='gcc'
    ccflags ='-D_REENTRANT -D_GNU_SOURCE -D_REENTRANT -D_GNU_SOURCE -g -fno-strict-aliasing -D_LARGEFILE_SOURCE -D_FILE_OFFSET_BITS=64 -pipe -fstack-protector-strong -fwrapv -D_LARGEFILE_SOURCE -D_FILE_OFFSET_BITS=64 -D_FORTIFY_SOURCE=2'
    optimize='-Wstrict-overflow=1 -gdwarf-4 -feliminate-unused-debug-types -fvar-tracking-assignments -O2 -pipe '
    cppflags='-D_REENTRANT -D_GNU_SOURCE -D_REENTRANT -D_GNU_SOURCE -g -fno-strict-aliasing -D_LARGEFILE_SOURCE -D_FILE_OFFSET_BITS=64 -pipe -fstack-protector-strong -fwrapv'
    ccversion=''
    gccversion='7.3.1 20180611'
    gccosandvers=''
    intsize=4
    longsize=8
    ptrsize=8
    doublesize=8
    byteorder=12345678
    doublekind=3
    d_longlong=define
    longlongsize=8
    d_longdbl=define
    longdblsize=16
    longdblkind=3
    ivtype='long'
    ivsize=8
    nvtype='double'
    nvsize=8
    Off_t='off_t'
    lseeksize=8
    alignbytes=8
    prototype=define
  Linker and Libraries:
    ld='gcc'
    ldflags ='-Wl,--enable-new-dtags -fstack-protector-strong'
    libpth=/usr/lib /lib /pkg/gcc/7.3.0-463/lib/gcc/x86_64-pc-linux-gnu/7.3.1/include-fixed /usr/lib /lib/64 /usr/lib/64 /lib64 /usr/lib64
    libs=-lpthread -lgdbm -ldb -ldl -lm -lcrypt -lutil -lc -lgdbm_compat
    perllibs=-lpthread -ldl -lm -lcrypt -lutil -lc
    libc=libc-2.27.so
    so=so
    useshrplib=true
    libperl=libperl.so
    gnulibc_version='2.27'
  Dynamic Linking:
    dlsrc=dl_dlopen.xs
    dlext=so
    d_dlsymun=undef
    ccdlflags='-Wl,-E -Wl,-rpath,/usr/lib/perl5/5.28/x86_64-linux-thread-multi/CORE'
    cccdlflags='-fPIC'
    lddlflags='-shared -Wstrict-overflow=1 -gdwarf-4 -feliminate-unused-debug-types -fvar-tracking-assignments -O2 -pipe  -fstack-protector-strong'


Characteristics of this binary (from libperl): 
  Compile-time options:
    HAS_TIMES
    MULTIPLICITY
    PERLIO_LAYERS
    PERL_COPY_ON_WRITE
    PERL_DONT_CREATE_GVSV
    PERL_IMPLICIT_CONTEXT
    PERL_MALLOC_WRAP
    PERL_OP_PARENT
    PERL_PRESERVE_IVUV
    USE_64_BIT_ALL
    USE_64_BIT_INT
    USE_ITHREADS
    USE_LARGE_FILES
    USE_LOCALE
    USE_LOCALE_COLLATE
    USE_LOCALE_CTYPE
    USE_LOCALE_NUMERIC
    USE_LOCALE_TIME
    USE_PERLIO
    USE_PERL_ATOF
    USE_REENTRANT_API
  Built under linux
  Compiled at Jan 19 2019 19:36:27
  %ENV:
    PERL5LIB=""
    PERL5OPT=""
    PERL5_CPANPLUS_IS_RUNNING="108259"
    PERL5_CPAN_IS_RUNNING="108259"
    PERL_USE_UNSAFE_INC="1"
  @INC:
    /usr/lib/perl5/site_perl/5.28/x86_64-linux-thread-multi
    /usr/lib/perl5/site_perl/5.28
    /usr/lib/perl5/5.28/x86_64-linux-thread-multi
    /usr/lib/perl5/5.28
    .