Time-Zone-Olson v0.46 Perl 5 v5.41.7 x86_64-linux-ld
- Status
- Pass
- From
- Andreas J. König (ANDK)
- Dist
-
Time-Zone-Olson v0.46
- Platform
- Perl 5 v5.41.7 x86_64-linux-ld
- Date
- 2025-01-03 12:17:19
- ID
- ad69c1c2-c9cc-11ef-8adc-c86a0308d436
This distribution has been tested as part of the CPAN Testers
project, supporting the Perl programming language. See
http://wiki.cpantesters.org/ for more information or email
questions to cpan-testers-discuss@perl.org
--
Dear David Dick,
This is a computer-generated report for Time-Zone-Olson-0.46
on perl 5.41.7, created by CPAN-Reporter-1.2020.
Thank you for uploading your work to CPAN. Congratulations!
All tests were successful.
Sections of this report:
* Tester comments
* Program output
* Prerequisites
* Environment and other context
------------------------------
TESTER COMMENTS
------------------------------
Additional comments from tester:
this report is from an automated smoke testing program
and was not reviewed by a human for accuracy
------------------------------
PROGRAM OUTPUT
------------------------------
Output from '/usr/bin/make test':
PERL_DL_NONLAZY=1 "/tmp/basesmoker-reloperl-7VnE/bin/perl" "-MExtUtils::Command::MM" "-MTest::Harness" "-e" "undef *Test::Harness::Switches; test_harness(0, 'blib/lib', 'blib/arch')" t/*.t
# Testing Time::Zone::Olson 0.46, Perl 5.041007, /tmp/basesmoker-reloperl-7VnE/bin/perl
t/00-load.t ........... ok
t/boilerplate.t ....... ok
t/manifest.t .......... skipped: Author tests not required for installation
t/pod-coverage.t ...... ok
t/pod.t ............... ok
# Checking https://raw.githubusercontent.com/unicode-org/cldr/master/common/supplemental/windowsZones.xml
t/windows_zones.t ..... ok
# Olson tz directory is /usr/share/zoneinfo for linux
# Local timezone has been determined to be Etc/UTC
# Local timezone was determined using /etc/localtime
# lrwxrwxrwx 1 root root 27 Jul 13 02:29 /etc/localtime -> /usr/share/zoneinfo/Etc/UTC
# Comment for 'Australia/Melbourne' is 'Victoria'
# /usr/share/zoneinfo/Etc/UTC -9223372036854775808 = NULL
# /usr/share/zoneinfo/Etc/UTC -9223372036854689408 = NULL
# /usr/share/zoneinfo/Etc/UTC 9223372036854689407 = NULL
# /usr/share/zoneinfo/Etc/UTC 9223372036854775807 = NULL
# gnu test of early date:1901/03/01 09:59:59 AEST
t/zoneinfo_all.t ...... ok
# Determined timezone is Etc/UTC
# TZDIR has not been set
# Output of gnu date command:2015/02/28 11:00:00
# Results of unpack:
# Local timezone has been determined to be Etc/UTC
t/zoneinfo_current.t .. ok
t/zoneinfo_taint.t .... ok
t/zoneinfo_tz_env.t ... ok
All tests successful.
Files=10, Tests=1594, 77 wallclock secs ( 0.17 usr 0.02 sys + 75.47 cusr 1.34 csys = 77.00 CPU)
Result: PASS
------------------------------
PREREQUISITES
------------------------------
Prerequisite modules loaded:
requires:
Module Need Have
-------------------- ----- --------
Carp 0 1.54
Config 0 5.041007
Digest::SHA 0 6.04
DirHandle 0 1.05
Encode 0 3.21
English 0 1.11
File::Find 0 1.44
File::Spec 0 3.93
FileHandle 0 2.05
perl 5.006 5.041007
POSIX 0 2.23
strict 0 1.13
warnings 0 1.72
build_requires:
Module Need Have
-------------------- ----- --------
ExtUtils::MakeMaker 0 7.70
Fcntl 0 1.19
File::Temp 0 0.2311
HTTP::Request 0 7.00
LWP::Protocol::https 6.06 6.14
LWP::UserAgent 0 6.77
Test::More 0 1.302206
Time::Local 0 1.35
XML::LibXML 0 2.0210
configure_requires:
Module Need Have
-------------------- ----- --------
ExtUtils::MakeMaker 0 7.70
------------------------------
ENVIRONMENT AND OTHER CONTEXT
------------------------------
Environment variables:
AUTOMATED_TESTING = 1
LANG = en_US.UTF-8
LC_ADDRESS = de_DE.UTF-8
LC_IDENTIFICATION = de_DE.UTF-8
LC_MEASUREMENT = de_DE.UTF-8
LC_MONETARY = de_DE.UTF-8
LC_NAME = de_DE.UTF-8
LC_NUMERIC = de_DE.UTF-8
LC_PAPER = de_DE.UTF-8
LC_TELEPHONE = de_DE.UTF-8
LC_TIME = de_DE.UTF-8
PATH = /home/sand/bin:/usr/local/bin:/usr/local/sbin:/usr/sbin:/usr/bin:/sbin:/bin:/usr/games:/usr/local/games:/snap/bin:/usr/local/perl/bin:/usr/X11/bin
PERL = /tmp/basesmoker-reloperl-7VnE/bin/perl
PERL5LIB = /tmp/loop_over_bdir-2405-JfF7Eq/Business-Shipping-DataFiles-1.02-0/blib/arch:/tmp/loop_over_bdir-2405-JfF7Eq/Business-Shipping-DataFiles-1.02-0/blib/lib:/tmp/loop_over_bdir-2405-JfF7Eq/ProjectBuilder-0.14.1-0/blib/arch:/tmp/loop_over_bdir-2405-JfF7Eq/ProjectBuilder-0.14.1-0/blib/lib:/tmp/loop_over_bdir-2405-JfF7Eq/DBIx-Migration-Directories-0.12-0/blib/arch:/tmp/loop_over_bdir-2405-JfF7Eq/DBIx-Migration-Directories-0.12-0/blib/lib
PERL5OPT =
PERL5_CPANPLUS_IS_RUNNING = 2413
PERL5_CPAN_IS_RUNNING = 2413
PERL_CANARY_STABILITY_NOPROMPT = 1
PERL_MM_USE_DEFAULT = 1
PERL_USE_UNSAFE_INC = 1
SHELL = /usr/bin/zsh
TERM = screen
Perl special variables (and OS-specific diagnostics, for MSWin32):
$^X = /tmp/basesmoker-reloperl-7VnE/bin/perl
$UID/$EUID = 1005 / 1005
$GID = 1005 1005
$EGID = 1005 1005
Perl module toolchain versions installed:
Module Have
------------------- --------
CPAN 2.38
CPAN::Meta 2.150010
Cwd 3.92
ExtUtils::CBuilder 0.280240
ExtUtils::Command 7.70
ExtUtils::Install 2.22
ExtUtils::MakeMaker 7.70
ExtUtils::Manifest 1.75
ExtUtils::ParseXS 3.56
File::Spec 3.93
JSON 4.10
JSON::PP 4.16
Module::Build 0.4234
Module::Signature 0.89
Parse::CPAN::Meta 2.150010
Test2 1.302206
Test::Harness 3.50
Test::More 1.302206
YAML 1.31
YAML::Syck 1.34
version 0.9933
--
Summary of my perl5 (revision 5 version 41 subversion 7) configuration:
Commit id: 3a3761b09845d0d6d68f91eb45c52ae70de89489
Platform:
osname=linux
osvers=6.8.0-48-generic
archname=x86_64-linux-ld
uname='linux k93jammy 6.8.0-48-generic #48~22.04.1-ubuntu smp preempt_dynamic mon oct 7 11:24:13 utc 2 x86_64 x86_64 x86_64 gnulinux '
config_args='-Dprefix=/home/sand/src/perl/repoperls/installed-perls/host/k93jammy/v5.41.7/5674 -Dmyhostname=k93jammy -Dinstallusrbinperl=n -Uversiononly -Dusedevel -des -Ui_db -Dlibswanted=cl pthread socket inet nsl gdbm dbm malloc dl ld sun m crypt sec util c cposix posix ucb BSD gdbm_compat -Uuseithreads -Duselongdouble -DEBUGGING=-g'
hint=recommended
useposix=true
d_sigaction=define
useithreads=undef
usemultiplicity=undef
use64bitint=define
use64bitall=define
uselongdouble=define
usemymalloc=n
default_inc_excludes_dot=define
Compiler:
cc='cc'
ccflags ='-fwrapv -fno-strict-aliasing -pipe -fstack-protector-strong -I/usr/local/include -D_LARGEFILE_SOURCE -D_FILE_OFFSET_BITS=64'
optimize='-O2 -g'
cppflags='-fwrapv -fno-strict-aliasing -pipe -fstack-protector-strong -I/usr/local/include'
ccversion=''
gccversion='11.4.0'
gccosandvers=''
intsize=4
longsize=8
ptrsize=8
doublesize=8
byteorder=12345678
doublekind=3
d_longlong=define
longlongsize=8
d_longdbl=define
longdblsize=16
longdblkind=3
ivtype='long'
ivsize=8
nvtype='long double'
nvsize=16
Off_t='off_t'
lseeksize=8
alignbytes=16
prototype=define
Linker and Libraries:
ld='cc'
ldflags =' -fstack-protector-strong -L/usr/local/lib'
libpth=/usr/local/lib /usr/lib/x86_64-linux-gnu /usr/lib /usr/lib64
libs=-lpthread -lnsl -ldl -lm -lcrypt -lutil -lc
perllibs=-lpthread -lnsl -ldl -lm -lcrypt -lutil -lc
libc=/lib/x86_64-linux-gnu/libc.so.6
so=so
useshrplib=false
libperl=libperl.a
gnulibc_version='2.35'
Dynamic Linking:
dlsrc=dl_dlopen.xs
dlext=so
d_dlsymun=undef
ccdlflags='-Wl,-E'
cccdlflags='-fPIC'
lddlflags='-shared -O2 -g -L/usr/local/lib -fstack-protector-strong'
Characteristics of this binary (from libperl):
Compile-time options:
HAS_LONG_DOUBLE
HAS_STRTOLD
HAS_TIMES
PERLIO_LAYERS
PERL_COPY_ON_WRITE
PERL_DONT_CREATE_GVSV
PERL_HASH_FUNC_SIPHASH13
PERL_HASH_USE_SBOX32
PERL_MALLOC_WRAP
PERL_OP_PARENT
PERL_PRESERVE_IVUV
PERL_USE_DEVEL
PERL_USE_SAFE_PUTENV
USE_64_BIT_ALL
USE_64_BIT_INT
USE_LARGE_FILES
USE_LOCALE
USE_LOCALE_COLLATE
USE_LOCALE_CTYPE
USE_LOCALE_NUMERIC
USE_LOCALE_TIME
USE_LONG_DOUBLE
USE_PERLIO
USE_PERL_ATOF
Built under linux
Compiled at Dec 20 2024 16:55:51
%ENV:
PERL="/tmp/basesmoker-reloperl-7VnE/bin/perl"
PERL5LIB="/tmp/loop_over_bdir-2405-JfF7Eq/Business-Shipping-DataFiles-1.02-0/blib/arch:/tmp/loop_over_bdir-2405-JfF7Eq/Business-Shipping-DataFiles-1.02-0/blib/lib:/tmp/loop_over_bdir-2405-JfF7Eq/ProjectBuilder-0.14.1-0/blib/arch:/tmp/loop_over_bdir-2405-JfF7Eq/ProjectBuilder-0.14.1-0/blib/lib:/tmp/loop_over_bdir-2405-JfF7Eq/DBIx-Migration-Directories-0.12-0/blib/arch:/tmp/loop_over_bdir-2405-JfF7Eq/DBIx-Migration-Directories-0.12-0/blib/lib"
PERL5OPT=""
PERL5_CPANPLUS_IS_RUNNING="2413"
PERL5_CPAN_IS_RUNNING="2413"
PERL_CANARY_STABILITY_NOPROMPT="1"
PERL_MM_USE_DEFAULT="1"
PERL_USE_UNSAFE_INC="1"
@INC:
/tmp/loop_over_bdir-2405-JfF7Eq/Business-Shipping-DataFiles-1.02-0/blib/arch
/tmp/loop_over_bdir-2405-JfF7Eq/Business-Shipping-DataFiles-1.02-0/blib/lib
/tmp/loop_over_bdir-2405-JfF7Eq/ProjectBuilder-0.14.1-0/blib/arch
/tmp/loop_over_bdir-2405-JfF7Eq/ProjectBuilder-0.14.1-0/blib/lib
/tmp/loop_over_bdir-2405-JfF7Eq/DBIx-Migration-Directories-0.12-0/blib/arch
/tmp/loop_over_bdir-2405-JfF7Eq/DBIx-Migration-Directories-0.12-0/blib/lib
/home/sand/src/perl/repoperls/installed-perls/host/k93jammy/v5.41.7/5674/lib/site_perl/5.41.7/x86_64-linux-ld
/home/sand/src/perl/repoperls/installed-perls/host/k93jammy/v5.41.7/5674/lib/site_perl/5.41.7
/home/sand/src/perl/repoperls/installed-perls/host/k93jammy/v5.41.7/5674/lib/5.41.7/x86_64-linux-ld
/home/sand/src/perl/repoperls/installed-perls/host/k93jammy/v5.41.7/5674/lib/5.41.7
.