Report for Catalyst-View-Email-0.35

Back
From: metabase:user:68a9c4ac-1ec7-11e0-bf29-9c4bfeb2ac3f
Subject: PASS Catalyst-View-Email-0.35 v5.16.3 GNU/Linux
Date: 2015-03-18T19:55:07Z

This distribution has been tested as part of the CPAN Testers
project, supporting the Perl programming language.  See
http://wiki.cpantesters.org/ for more information or email
questions to cpan-testers-discuss@perl.org


--
Dear Devin Austin,

This is a computer-generated report for Catalyst-View-Email-0.35
on perl 5.16.3, created by CPAN-Reporter-1.2011.

Thank you for uploading your work to CPAN.  Congratulations!
All tests were successful.

Sections of this report:

    * Tester comments
    * Program output
    * Prerequisites
    * Environment and other context

------------------------------
TESTER COMMENTS
------------------------------

Additional comments from tester:

none provided

------------------------------
PROGRAM OUTPUT
------------------------------

Output from '/usr/bin/make test':

PERL_DL_NONLAZY=1 "/home/rando/perl5/perlbrew/perls/16.3sf/bin/perl" "-MExtUtils::Command::MM" "-MTest::Harness" "-e" "undef *Test::Harness::Switches; test_harness(0, 'inc', 'blib/lib', 'blib/arch')" t/01use.t t/02pod.t t/04basic.t t/05template.t t/06config.t t/07mason.t
t/01use.t ....... ok
# Acme::Override::INET replaced IO::Socket::INET with IO::Socket::IP 0.29
require TestApp::View::Mason was successful but the package is not defined. at /home/rando/perl5/perlbrew/perls/16.3sf/lib/site_perl/5.16.3/Catalyst/Utils.pm line 313.
t/04basic.t ..... ok
# Acme::Override::INET replaced IO::Socket::INET with IO::Socket::IP 0.29
require TestApp::View::Mason was successful but the package is not defined. at /home/rando/perl5/perlbrew/perls/16.3sf/lib/site_perl/5.16.3/Catalyst/Utils.pm line 313.
t/05template.t .. ok
# Acme::Override::INET replaced IO::Socket::INET with IO::Socket::IP 0.29
require TestApp::View::Mason was successful but the package is not defined. at /home/rando/perl5/perlbrew/perls/16.3sf/lib/site_perl/5.16.3/Catalyst/Utils.pm line 313.
t/06config.t .... ok
t/07mason.t ..... skipped: Test requires module 'Catalyst::View::Mason' but it's not found
All tests successful.
Files=5, Tests=34,  4 wallclock secs ( 0.02 usr  0.00 sys +  3.17 cusr  0.13 csys =  3.32 CPU)
Result: PASS

------------------------------
PREREQUISITES
------------------------------

Prerequisite modules loaded:

requires:

    Module                Need     Have    
    --------------------- -------- --------
    Authen::SASL          2.13     2.16    
    Catalyst              5.7      5.90084 
    Email::MIME           1.859    1.926   
    Email::MIME::Creator  1.455    1.926   
    Email::Sender::Simple 0.100110 1.300011
    MIME::Base64          3.08     3.14    
    Module::Runtime       0.014    0.014   
    Moose                 0.93     2.1403  
    parent                0.223    0.228   
    Test::More            0.88     1.001009
    Test::Requires        0        0.07    

build_requires:

    Module                Need     Have    
    --------------------- -------- --------
    ExtUtils::MakeMaker   6.36     7.04    
    Test::More            0        1.001009
    Test::Requires        0        0.07    

configure_requires:

    Module                Need     Have    
    --------------------- -------- --------
    ExtUtils::MakeMaker   6.36     7.04    


------------------------------
ENVIRONMENT AND OTHER CONTEXT
------------------------------

Environment variables:

    HARNESS_SUBCLASS = TAP::Harness::Restricted
    LANG = en_US.UTF-8
    LANGUAGE = en_US.UTF-8
    LC_ALL = en_US.UTF-8
    LC_CTYPE = en_US.UTF-8
    PATH = /home/rando/perl5/perlbrew/bin:/home/rando/perl5/perlbrew/perls/16.3sf/bin:/home/rando/data/devel/linux:/home/rando/scala/sbt/bin:/home/rando/scala/local/bin:/home/rando/.rvm/gems/ruby-1.9.3-p286/bin:/home/rando/.rvm/gems/ruby-1.9.3-p286@global/bin:/home/rando/.rvm/rubies/ruby-1.9.3-p286/bin:/home/rando/.rvm/bin:/home/rando/python/venv/2.7.3/bin:/home/rando/node/global/bin:/home/rando/usr/iojs/bin:/home/rando/java/jdk1.7.0_11/bin:/home/rando/gopath/bin:/home/rando/go/bin:/home/rando/bin:/home/rando/usr/bin:/usr/lib/lightdm/lightdm:/usr/local/sbin:/usr/local/bin:/usr/sbin:/usr/bin:/sbin:/bin:/usr/games
    PERL5LIB = /home/rando/perl5-autolookout/lib/perl5
    PERL5OPT = 
    PERL5_CPANPLUS_IS_RUNNING = 5294
    PERL5_CPAN_IS_RUNNING = 5294
    PERLBREW_BASHRC_VERSION = 0.73
    PERLBREW_HOME = /home/rando/.perlbrew
    PERLBREW_MANPATH = /home/rando/perl5/perlbrew/perls/16.3sf/man
    PERLBREW_PATH = /home/rando/perl5/perlbrew/bin:/home/rando/perl5/perlbrew/perls/16.3sf/bin
    PERLBREW_PERL = 16.3sf
    PERLBREW_ROOT = /home/rando/perl5/perlbrew
    PERLBREW_VERSION = 0.73
    SHELL = /usr/bin/zsh
    TERM = screen-256color

Perl special variables (and OS-specific diagnostics, for MSWin32):

    $^X = /home/rando/perl5/perlbrew/perls/16.3sf/bin/perl
    $UID/$EUID = 1000 / 1000
    $GID = 1000 4 24 27 30 46 105 110 123 127 1000 1002
    $EGID = 1000 4 24 27 30 46 105 110 123 127 1000 1002

Perl module toolchain versions installed:

    Module              Have    
    ------------------- --------
    CPAN                2.10    
    CPAN::Meta          2.143240
    Cwd                 3.47    
    ExtUtils::CBuilder  0.280216
    ExtUtils::Command   1.18    
    ExtUtils::Install   1.67    
    ExtUtils::MakeMaker 7.04    
    ExtUtils::Manifest  1.69    
    ExtUtils::ParseXS   3.24    
    File::Spec          3.47    
    JSON                2.90    
    JSON::PP            2.27203 
    Module::Build       0.4205  
    Module::Signature   0.73    
    Parse::CPAN::Meta   1.4414  
    Test::Harness       3.35    
    Test::More          1.001009
    YAML                0.90    
    YAML::Syck          1.27    
    version             0.9909  


--

Summary of my perl5 (revision 5 version 16 subversion 3) configuration:
   
  Platform:
    osname=linux, osvers=3.2.0-58-generic, archname=x86_64-linux
    uname='linux raptor 3.2.0-58-generic #88-ubuntu smp tue dec 3 17:37:58 utc 2013 x86_64 x86_64 x86_64 gnulinux '
    config_args='-de -Dprefix=/home/rando/perl5/perlbrew/perls/16.3sf -Dman1dir=none -Dman3dir=none -Dcccdlflags=-fPIC -Duseshrplib -Aeval:scriptdir=/home/rando/perl5/perlbrew/perls/16.3sf/bin'
    hint=recommended, useposix=true, d_sigaction=define
    useithreads=undef, usemultiplicity=undef
    useperlio=define, d_sfio=undef, uselargefiles=define, usesocks=undef
    use64bitint=define, use64bitall=define, uselongdouble=undef
    usemymalloc=n, bincompat5005=undef
  Compiler:
    cc='cc', ccflags ='-fno-strict-aliasing -pipe -fstack-protector -I/usr/local/include -D_LARGEFILE_SOURCE -D_FILE_OFFSET_BITS=64',
    optimize='-O2',
    cppflags='-fno-strict-aliasing -pipe -fstack-protector -I/usr/local/include'
    ccversion='', gccversion='4.6.3', gccosandvers=''
    intsize=4, longsize=8, ptrsize=8, doublesize=8, byteorder=12345678
    d_longlong=define, longlongsize=8, d_longdbl=define, longdblsize=16
    ivtype='long', ivsize=8, nvtype='double', nvsize=8, Off_t='off_t', lseeksize=8
    alignbytes=8, prototype=define
  Linker and Libraries:
    ld='cc', ldflags =' -fstack-protector -L/usr/local/lib'
    libpth=/usr/local/lib /lib/x86_64-linux-gnu /lib/../lib /usr/lib/x86_64-linux-gnu /usr/lib/../lib /lib /usr/lib
    libs=-lnsl -ldl -lm -lcrypt -lutil -lc
    perllibs=-lnsl -ldl -lm -lcrypt -lutil -lc
    libc=, so=so, useshrplib=true, libperl=libperl.so
    gnulibc_version='2.15'
  Dynamic Linking:
    dlsrc=dl_dlopen.xs, dlext=so, d_dlsymun=undef, ccdlflags='-Wl,-E -Wl,-rpath,/home/rando/perl5/perlbrew/perls/16.3sf/lib/5.16.3/x86_64-linux/CORE'
    cccdlflags='-fPIC', lddlflags='-shared -O2 -L/usr/local/lib -fstack-protector'


Characteristics of this binary (from libperl): 
  Compile-time options: HAS_TIMES PERLIO_LAYERS PERL_DONT_CREATE_GVSV
                        PERL_MALLOC_WRAP PERL_PRESERVE_IVUV USE_64_BIT_ALL
                        USE_64_BIT_INT USE_LARGE_FILES USE_LOCALE
                        USE_LOCALE_COLLATE USE_LOCALE_CTYPE
                        USE_LOCALE_NUMERIC USE_PERLIO USE_PERL_ATOF
  Built under linux
  Compiled at Feb 13 2014 10:23:07
  %ENV:
    PERL5LIB="/home/rando/perl5-autolookout/lib/perl5"
    PERL5OPT=""
    PERL5_CPANPLUS_IS_RUNNING="5294"
    PERL5_CPAN_IS_RUNNING="5294"
    PERLBREW_BASHRC_VERSION="0.73"
    PERLBREW_HOME="/home/rando/.perlbrew"
    PERLBREW_MANPATH="/home/rando/perl5/perlbrew/perls/16.3sf/man"
    PERLBREW_PATH="/home/rando/perl5/perlbrew/bin:/home/rando/perl5/perlbrew/perls/16.3sf/bin"
    PERLBREW_PERL="16.3sf"
    PERLBREW_ROOT="/home/rando/perl5/perlbrew"
    PERLBREW_VERSION="0.73"
  @INC:
    /home/rando/perl5-autolookout/lib/perl5/x86_64-linux
    /home/rando/perl5-autolookout/lib/perl5
    /home/rando/perl5/perlbrew/perls/16.3sf/lib/site_perl/5.16.3/x86_64-linux
    /home/rando/perl5/perlbrew/perls/16.3sf/lib/site_perl/5.16.3
    /home/rando/perl5/perlbrew/perls/16.3sf/lib/5.16.3/x86_64-linux
    /home/rando/perl5/perlbrew/perls/16.3sf/lib/5.16.3
    .