Report for HTML-Template-Compiled-Plugin-I18N-1.04

Back
From: metabase:user:320bfe00-2aae-11df-837a-5e0a49663a4f
Subject: PASS HTML-Template-Compiled-Plugin-I18N-1.04 v5.12.4 GNU/Linux
Date: 2011-06-21T18:31:28Z

This distribution has been tested as part of the CPAN Testers
project, supporting the Perl programming language.  See
http://wiki.cpantesters.org/ for more information or email
questions to cpan-testers-discuss@perl.org


--
Dear Steffen Winkler,

This is a computer-generated report for HTML-Template-Compiled-Plugin-I18N-1.04
on perl 5.12.4, created by CPAN-Reporter-1.1902.

Thank you for uploading your work to CPAN.  Congratulations!
All tests were successful.

Sections of this report:

    * Tester comments
    * Program output
    * Prerequisites
    * Environment and other context

------------------------------
TESTER COMMENTS
------------------------------

Additional comments from tester:

none provided

------------------------------
PROGRAM OUTPUT
------------------------------

Output from './Build test':

t/01_basics.t ................... ok
t/02_maketext.t ................. ok
t/03_gettext.t .................. ok
t/04_escape.t ................... ok
t/05_formatter.t ................ ok
t/06_default_escape.t ........... ok
t/07_escape_plugin.t ............ ok
t/08_default_translator.t ....... ok
t/09_real_translator.t .......... ok
t/10_unescaped.t ................ ok
t/11_maketext_escape.t .......... ok
t/12_maketext_default_escape.t .. ok
t/21_gettext_escape.t ........... ok
t/22_gettext_default_escape.t ... ok
t/23_gettext_extended.t ......... ok
t/31_test_examples.t ............ skipped: Set $ENV{TEST_EXAMPLE} to run this test.
t/chars.t ....................... skipped: Author test. Set $ENV{TEST_AUTHOR} to a true value to run.
t/perl_critic.t ................. skipped: Author test. Set $ENV{TEST_AUTHOR} to a true value to run.
t/pod.t ......................... ok
t/pod_coverage.t ................ ok
t/prereq_build.t ................ skipped: Author test.  Set $ENV{TEST_RELEASE} to a true value to run.
All tests successful.
Files=21, Tests=109,  3 wallclock secs ( 0.08 usr  0.05 sys +  2.02 cusr  0.30 csys =  2.45 CPU)
Result: PASS

------------------------------
PREREQUISITES
------------------------------

Prerequisite modules loaded:

requires:

    Module                   Need  Have    
    ------------------------ ----- --------
    Carp                     0     1.17    
    Data::Dumper             0     2.131   
    English                  0     1.04    
    Hash::Util               0     0.07    
    HTML::Template::Compiled 0.93  0.95    
    perl                     5.006 5.012004

build_requires:

    Module                   Need  Have    
    ------------------------ ----- --------
    Class::Singleton         0     1.4     
    Cwd                      0     3.33    
    parent                   0     0.225   
    Test::Differences        0     0.61    
    Test::Exception          0     0.31    
    Test::More               0     0.98    
    Test::NoWarnings         0     1.02    

configure_requires:

    Module                   Need  Have    
    ------------------------ ----- --------
    Module::Build            0.36  0.3800  


------------------------------
ENVIRONMENT AND OTHER CONTEXT
------------------------------

Environment variables:

    LANG = en_US.UTF-8
    LANGUAGE = en_US:en
    PATH = /usr/lib/ccache:/home/sand/bin:/usr/local/bin:/usr/bin:/bin:/usr/bin/X11:/usr/games:/usr/local/perl/bin:/usr/X11/bin:/sbin:/usr/sbin
    PERL5LIB = /home/sand/.cpan/build/ProjectBuilder-0.11.3-dk_OGN/blib/arch:/home/sand/.cpan/build/ProjectBuilder-0.11.3-dk_OGN/blib/lib
    PERL5OPT = 
    PERL5_CPANPLUS_IS_RUNNING = 21677
    PERL5_CPAN_IS_RUNNING = 21677
    SHELL = /usr/bin/zsh
    TERM = screen

Perl special variables (and OS-specific diagnostics, for MSWin32):

    $^X = /home/sand/src/perl/repoperls/installed-perls/perl/v5.12.4/1df5/bin/perl
    $UID/$EUID = 1001 / 1001
    $GID = 1001 1001
    $EGID = 1001 1001

Perl module toolchain versions installed:

    Module              Have    
    ------------------- --------
    CPAN                1.9600  
    Cwd                 3.33    
    ExtUtils::CBuilder  0.280202
    ExtUtils::Command   1.17    
    ExtUtils::Install   1.55    
    ExtUtils::MakeMaker 6.56    
    ExtUtils::Manifest  1.58    
    ExtUtils::ParseXS   2.2206  
    File::Spec          3.33    
    Module::Build       0.3800  
    Module::Signature   0.68    
    Test::Harness       3.23    
    Test::More          0.98    
    YAML                0.73    
    YAML::Syck          1.17    
    version             0.91    


--

Summary of my perl5 (revision 5 version 12 subversion 4) configuration:
  Commit id: 0cfb50b2327c758fdfe77a5cda07b115e58aed0b
  Platform:
    osname=linux, osvers=2.6.38-2-amd64, archname=x86_64-linux
    uname='linux k81 2.6.38-2-amd64 #1 smp sun may 8 13:51:57 utc 2011 x86_64 gnulinux '
    config_args='-Dprefix=/home/src/perl/repoperls/installed-perls/perl/v5.12.4/1df5 -Dinstallusrbinperl=n -Uversiononly -Dusedevel -des -Ui_db -Uuseithreads -Uuselongdouble -DDEBUGGING=-g'
    hint=recommended, useposix=true, d_sigaction=define
    useithreads=undef, usemultiplicity=undef
    useperlio=define, d_sfio=undef, uselargefiles=define, usesocks=undef
    use64bitint=define, use64bitall=define, uselongdouble=undef
    usemymalloc=n, bincompat5005=undef
  Compiler:
    cc='cc', ccflags ='-fno-strict-aliasing -pipe -fstack-protector -I/usr/local/include -D_LARGEFILE_SOURCE -D_FILE_OFFSET_BITS=64',
    optimize='-O2 -g',
    cppflags='-fno-strict-aliasing -pipe -fstack-protector -I/usr/local/include'
    ccversion='', gccversion='4.6.1 20110526 (prerelease)', gccosandvers=''
    intsize=4, longsize=8, ptrsize=8, doublesize=8, byteorder=12345678
    d_longlong=define, longlongsize=8, d_longdbl=define, longdblsize=16
    ivtype='long', ivsize=8, nvtype='double', nvsize=8, Off_t='off_t', lseeksize=8
    alignbytes=8, prototype=define
  Linker and Libraries:
    ld='cc', ldflags =' -fstack-protector -L/usr/local/lib'
    libpth=/usr/local/lib /lib/../lib /usr/lib/../lib /lib /usr/lib /usr/lib/x86_64-linux-gnu /lib64 /usr/lib64
    libs=-lnsl -ldb -ldl -lm -lcrypt -lutil -lc
    perllibs=-lnsl -ldl -lm -lcrypt -lutil -lc
    libc=/lib/libc-2.13.so, so=so, useshrplib=false, libperl=libperl.a
    gnulibc_version='2.13'
  Dynamic Linking:
    dlsrc=dl_dlopen.xs, dlext=so, d_dlsymun=undef, ccdlflags='-Wl,-E'
    cccdlflags='-fPIC', lddlflags='-shared -O2 -g -L/usr/local/lib -fstack-protector'


Characteristics of this binary (from libperl): 
  Compile-time options: PERL_DONT_CREATE_GVSV PERL_MALLOC_WRAP PERL_USE_DEVEL
                        USE_64_BIT_ALL USE_64_BIT_INT USE_LARGE_FILES
                        USE_PERLIO USE_PERL_ATOF
  Built under linux
  Compiled at Jun 20 2011 21:40:17
  %ENV:
    PERL5LIB="/home/sand/.cpan/build/ProjectBuilder-0.11.3-dk_OGN/blib/arch:/home/sand/.cpan/build/ProjectBuilder-0.11.3-dk_OGN/blib/lib"
    PERL5OPT=""
    PERL5_CPANPLUS_IS_RUNNING="21677"
    PERL5_CPAN_IS_RUNNING="21677"
  @INC:
    /home/sand/.cpan/build/ProjectBuilder-0.11.3-dk_OGN/blib/arch
    /home/sand/.cpan/build/ProjectBuilder-0.11.3-dk_OGN/blib/lib
    /home/src/perl/repoperls/installed-perls/perl/v5.12.4/1df5/lib/site_perl/5.12.4/x86_64-linux
    /home/src/perl/repoperls/installed-perls/perl/v5.12.4/1df5/lib/site_perl/5.12.4
    /home/src/perl/repoperls/installed-perls/perl/v5.12.4/1df5/lib/5.12.4/x86_64-linux
    /home/src/perl/repoperls/installed-perls/perl/v5.12.4/1df5/lib/5.12.4
    .