Net-HTTP v6.18 Perl 5 v5.22.2 x86_64-linux

Status
Pass
From
Dist
Net-HTTP v6.18
Platform
Perl 5 v5.22.2 x86_64-linux
Date
2018-07-16 10:12:00
ID
ada40bb8-88e0-11e8-bfad-6ca6bd9fc62d
This distribution has been tested as part of the CPAN Testers
project, supporting the Perl programming language.  See
http://wiki.cpantesters.org/ for more information or email
questions to cpan-testers-discuss@perl.org


--
Dear OALDERS,

This is a computer-generated report for Net-HTTP-6.18
on perl 5.22.2, created by App::cpanminus::reporter 0.17 (1.7043).

Thank you for uploading your work to CPAN.  Congratulations!
All tests were successful.

Sections of this report:

    * Tester comments
    * Program output
    * Prerequisites
    * Environment and other context

------------------------------
TESTER COMMENTS
------------------------------

Additional comments from tester:

none provided

------------------------------
PROGRAM OUTPUT
------------------------------

Output from '':

Building and testing Net-HTTP-6.18
cp lib/Net/HTTPS.pm blib/lib/Net/HTTPS.pm
cp lib/Net/HTTP/NB.pm blib/lib/Net/HTTP/NB.pm
cp lib/Net/HTTP/Methods.pm blib/lib/Net/HTTP/Methods.pm
cp lib/Net/HTTP.pm blib/lib/Net/HTTP.pm
Manifying 4 pod documents
PERL_DL_NONLAZY=1 "/home/berov/perl5/perlbrew/perls/perl-5.22.2/bin/perl" "-MExtUtils::Command::MM" "-MTest::Harness" "-e" "undef *Test::Harness::Switches; test_harness(0, 'blib/lib', 'blib/arch')" t/*.t
# 
# Versions for all modules listed in MYMETA.json (including optional ones):
# 
# === Configure Requires ===
# 
#     Module              Want    Have
#     ------------------- ---- -------
#     ExtUtils::MakeMaker  any 7.04_01
# 
# === Configure Suggests ===
# 
#     Module      Want    Have
#     -------- ------- -------
#     JSON::PP 2.27300 2.27300
# 
# === Build Requires ===
# 
#     Module              Want    Have
#     ------------------- ---- -------
#     ExtUtils::MakeMaker  any 7.04_01
# 
# === Test Requires ===
# 
#     Module              Want     Have
#     ------------------- ---- --------
#     Data::Dumper         any    2.158
#     ExtUtils::MakeMaker  any  7.04_01
#     File::Spec           any  3.56_01
#     IO::Select           any     1.22
#     Socket               any    2.018
#     Test::More           any 1.302138
# 
# === Test Recommends ===
# 
#     Module         Want     Have
#     ---------- -------- --------
#     CPAN::Meta 2.120900 2.150001
# 
# === Runtime Requires ===
# 
#     Module                 Want  Have
#     ---------------------- ---- -----
#     Carp                    any  1.36
#     Compress::Raw::Zlib     any 2.068
#     IO::Socket::INET        any  1.35
#     IO::Uncompress::Gunzip  any 2.068
#     URI                     any  1.74
#     base                    any  2.22
#     strict                  any  1.09
#     vars                    any  1.03
#     warnings                any  1.34
# 
# === Runtime Suggests ===
# 
#     Module             Want    Have
#     ----------------- ----- -------
#     IO::Socket          any    1.38
#     IO::Socket::INET6   any missing
#     IO::Socket::IP      any    0.37
#     IO::Socket::SSL   2.012 missing
#     Symbol              any    1.07
# 
t/00-report-prereqs.t .. ok
t/http-nb.t ............ ok
t/http.t ............... ok
t/live-https.t ......... skipped: IO::Socket::SSL or Net::SSL not available
t/live.t ............... ok
All tests successful.
Files=5, Tests=58,  1 wallclock secs ( 0.03 usr  0.00 sys +  0.37 cusr  0.03 csys =  0.43 CPU)
Result: PASS

------------------------------
PREREQUISITES
------------------------------

Prerequisite modules loaded:

    No requirements found

------------------------------
ENVIRONMENT AND OTHER CONTEXT
------------------------------

Environment variables:

    LANG = bg_BG.UTF-8
    LANGUAGE = bg_BG:bg:en
    LC_ADDRESS = bg_BG.UTF-8
    LC_IDENTIFICATION = bg_BG.UTF-8
    LC_MEASUREMENT = bg_BG.UTF-8
    LC_MONETARY = bg_BG.UTF-8
    LC_NAME = bg_BG.UTF-8
    LC_NUMERIC = bg_BG.UTF-8
    LC_PAPER = bg_BG.UTF-8
    LC_TELEPHONE = bg_BG.UTF-8
    LC_TIME = bg_BG.UTF-8
    PATH = /home/berov/perl5/perlbrew/bin:/home/berov/perl5/perlbrew/perls/perl-5.22.2/bin:/home/berov/opt/git-2.13.0/bin:/home/berov/opt/rakudo-star-2018.04/share/perl6/site/bin:/home/berov/opt/rakudo-star-2018.04/bin:/home/berov/opt/jdk1.8.0_121/bin:/home/berov/opt/go1.8/bin:/home/berov/go/bin:/home/berov/bin:/home/berov/.local/bin:/home/berov/.nvm/versions/node/v8.10.0/bin:/home/berov/opt/git-2.13.0/bin:/home/berov/opt/rakudo-star-2018.04/share/perl6/site/bin:/home/berov/opt/rakudo-star-2018.04/bin:/home/berov/opt/jdk1.8.0_121/bin:/home/berov/opt/go1.8/bin:/home/berov/go/bin:/home/berov/bin:/home/berov/.local/bin:/usr/local/sbin:/usr/local/bin:/usr/sbin:/usr/bin:/sbin:/bin:/usr/games:/usr/local/games:/snap/bin:/srv/Cyclone3/.bin
    PERL5LIB = /home/berov/opt/dev/Mojolicious-Plugin-RoutesConfig/lib:/home/berov/opt/dev/mojo/lib:/home/berov/opt/dev/Mojolicious-Plugin-RoutesConfig/lib:/home/berov/opt/dev/Mojolicious-Command-generate-resources/lib
    PERLBREW_HOME = /home/berov/.perlbrew
    PERLBREW_MANPATH = /home/berov/perl5/perlbrew/perls/perl-5.22.2/man
    PERLBREW_PATH = /home/berov/perl5/perlbrew/bin:/home/berov/perl5/perlbrew/perls/perl-5.22.2/bin
    PERLBREW_PERL = perl-5.22.2
    PERLBREW_ROOT = /home/berov/perl5/perlbrew
    PERLBREW_SHELLRC_VERSION = 0.81
    PERLBREW_SKIP_INIT = 1
    PERLBREW_VERSION = 0.81
    SHELL = /bin/bash
    TERM = xterm

Perl special variables (and OS-specific diagnostics, for MSWin32):

    EGID = 1000 4 24 27 30 46 113 128 999 1000
    EUID = 1000
    EXECUTABLE_NAME = /home/berov/perl5/perlbrew/perls/perl-5.22.2/bin/perl
    GID = 1000 4 24 27 30 46 113 128 999 1000
    UID = 1000

Perl module toolchain versions installed:

    Module              Have    
    ------------------- --------
    CPAN                2.11    
    CPAN::Meta          2.150001
    Cwd                 3.56_01 
    ExtUtils::CBuilder  0.280221
    ExtUtils::Command   1.20    
    ExtUtils::Install   2.04    
    ExtUtils::MakeMaker 7.04_01 
    ExtUtils::Manifest  1.70    
    ExtUtils::ParseXS   3.28    
    File::Spec          3.56_01 
    JSON                n/a     
    JSON::PP            2.27300 
    Module::Build       0.4224  
    Module::Signature   n/a     
    Parse::CPAN::Meta   1.4414  
    Test::Harness       3.35    
    Test::More          1.302138
    YAML                n/a     
    YAML::Syck          n/a     
    version             0.9909  


--

Summary of my perl5 (revision 5 version 22 subversion 2) configuration:
   
  Platform:
    osname=linux, osvers=4.15.0-24-generic, archname=x86_64-linux
    uname='linux skylake 4.15.0-24-generic #26~16.04.1-ubuntu smp fri jun 15 14:35:08 utc 2018 x86_64 x86_64 x86_64 gnulinux '
    config_args='-de -Dprefix=/home/berov/perl5/perlbrew/perls/perl-5.22.2 -Aeval:scriptdir=/home/berov/perl5/perlbrew/perls/perl-5.22.2/bin'
    hint=recommended, useposix=true, d_sigaction=define
    useithreads=undef, usemultiplicity=undef
    use64bitint=define, use64bitall=define, uselongdouble=undef
    usemymalloc=n, bincompat5005=undef
  Compiler:
    cc='cc', ccflags ='-fwrapv -fno-strict-aliasing -pipe -fstack-protector-strong -I/usr/local/include -D_LARGEFILE_SOURCE -D_FILE_OFFSET_BITS=64',
    optimize='-O2',
    cppflags='-fwrapv -fno-strict-aliasing -pipe -fstack-protector-strong -I/usr/local/include'
    ccversion='', gccversion='5.4.0 20160609', gccosandvers=''
    intsize=4, longsize=8, ptrsize=8, doublesize=8, byteorder=12345678, doublekind=3
    d_longlong=define, longlongsize=8, d_longdbl=define, longdblsize=16, longdblkind=3
    ivtype='long', ivsize=8, nvtype='double', nvsize=8, Off_t='off_t', lseeksize=8
    alignbytes=8, prototype=define
  Linker and Libraries:
    ld='cc', ldflags =' -fstack-protector-strong -L/usr/local/lib'
    libpth=/usr/local/lib /usr/lib/gcc/x86_64-linux-gnu/5/include-fixed /usr/include/x86_64-linux-gnu /usr/lib /lib/x86_64-linux-gnu /lib/../lib /usr/lib/x86_64-linux-gnu /usr/lib/../lib /lib
    libs=-lpthread -lnsl -ldl -lm -lcrypt -lutil -lc
    perllibs=-lpthread -lnsl -ldl -lm -lcrypt -lutil -lc
    libc=libc-2.23.so, so=so, useshrplib=false, libperl=libperl.a
    gnulibc_version='2.23'
  Dynamic Linking:
    dlsrc=dl_dlopen.xs, dlext=so, d_dlsymun=undef, ccdlflags='-Wl,-E'
    cccdlflags='-fPIC', lddlflags='-shared -O2 -L/usr/local/lib -fstack-protector-strong'


Characteristics of this binary (from libperl): 
  Compile-time options: HAS_TIMES PERLIO_LAYERS PERL_DONT_CREATE_GVSV
                        PERL_HASH_FUNC_ONE_AT_A_TIME_HARD PERL_MALLOC_WRAP
                        PERL_NEW_COPY_ON_WRITE PERL_PRESERVE_IVUV
                        USE_64_BIT_ALL USE_64_BIT_INT USE_LARGE_FILES
                        USE_LOCALE USE_LOCALE_COLLATE USE_LOCALE_CTYPE
                        USE_LOCALE_NUMERIC USE_LOCALE_TIME USE_PERLIO
                        USE_PERL_ATOF
  Locally applied patches:
	Devel::PatchPerl 1.38
  Built under linux
  Compiled at Jul 16 2018 11:02:16
  %ENV:
    PERL5LIB="/home/berov/opt/dev/Mojolicious-Plugin-RoutesConfig/lib:/home/berov/opt/dev/mojo/lib:/home/berov/opt/dev/Mojolicious-Plugin-RoutesConfig/lib:/home/berov/opt/dev/Mojolicious-Command-generate-resources/lib"
    PERLBREW_HOME="/home/berov/.perlbrew"
    PERLBREW_MANPATH="/home/berov/perl5/perlbrew/perls/perl-5.22.2/man"
    PERLBREW_PATH="/home/berov/perl5/perlbrew/bin:/home/berov/perl5/perlbrew/perls/perl-5.22.2/bin"
    PERLBREW_PERL="perl-5.22.2"
    PERLBREW_ROOT="/home/berov/perl5/perlbrew"
    PERLBREW_SHELLRC_VERSION="0.81"
    PERLBREW_SKIP_INIT="1"
    PERLBREW_VERSION="0.81"
  @INC:
    /home/berov/opt/dev/Mojolicious-Plugin-RoutesConfig/lib
    /home/berov/opt/dev/mojo/lib
    /home/berov/opt/dev/Mojolicious-Plugin-RoutesConfig/lib
    /home/berov/opt/dev/Mojolicious-Command-generate-resources/lib
    /home/berov/perl5/perlbrew/perls/perl-5.22.2/lib/site_perl/5.22.2/x86_64-linux
    /home/berov/perl5/perlbrew/perls/perl-5.22.2/lib/site_perl/5.22.2
    /home/berov/perl5/perlbrew/perls/perl-5.22.2/lib/5.22.2/x86_64-linux
    /home/berov/perl5/perlbrew/perls/perl-5.22.2/lib/5.22.2
    .