Assert-Refute v0.14 Perl 5 v5.20.3 x86_64-linux

Status
Pass
From
Andreas J. König (ANDK)
Dist
Assert-Refute v0.14
Platform
Perl 5 v5.20.3 x86_64-linux
Date
2018-09-08 01:36:59
ID
ada61d08-b307-11e8-a1bc-877c6f3d0af3
This distribution has been tested as part of the CPAN Testers
project, supporting the Perl programming language.  See
http://wiki.cpantesters.org/ for more information or email
questions to cpan-testers-discuss@perl.org


--
Dear Konstantin S. Uvarin,

This is a computer-generated report for Assert-Refute-0.14
on perl 5.20.3, created by CPAN-Reporter-1.2018.

Thank you for uploading your work to CPAN.  Congratulations!
All tests were successful.

Sections of this report:

    * Tester comments
    * Program output
    * Prerequisites
    * Environment and other context

------------------------------
TESTER COMMENTS
------------------------------

Additional comments from tester:

this report is from an automated smoke testing program
and was not reviewed by a human for accuracy

------------------------------
PROGRAM OUTPUT
------------------------------

Output from '/usr/bin/make test':

PERL_DL_NONLAZY=1 "/home/sand/src/perl/repoperls/installed-perls/host/k93msid/v5.20.3/da1c/bin/perl" "-MExtUtils::Command::MM" "-MTest::Harness" "-e" "undef *Test::Harness::Switches; test_harness(0, 'blib/lib', 'blib/arch')" t/*.t
# Testing Assert::Refute 0.14, Perl 5.020003, /home/sand/src/perl/repoperls/installed-perls/host/k93msid/v5.20.3/da1c/bin/perl
t/000-load.t .............................. ok
t/002-try_refute.t ........................ ok
t/101-Report-refute.t ..................... ok
t/102-Contract-apply.t .................... ok
t/103-Report-signature.t .................. ok
t/105-Report-readonly.t ................... ok
t/106-Build-to_scalar.t ................... ok
t/107-Basic-deep_diff.t ................... ok
t/109-Report-do_run.t ..................... ok
t/110-Build-build_refute.t ................ ok
t/111-Contract-adjust.t ................... ok
t/112-Report-refute-multiline.t ........... ok
t/113-Report-plan-tests.t ................. ok
t/114-Report-get_result_details-vs-tap.t .. ok
t/115-T-Tester.t .......................... ok
t/116-Report-context.t .................... ok
t/117-Report-done_testing.t ............... ok
t/201-current_contract.t .................. ok
t/202-Build-build_refute.t ................ ok
t/203-T-Basic-smoke.t ..................... ok
t/204-T-Basic-all.t ....................... ok
t/205-inspect.t ........................... ok
t/206-signature.t ......................... ok
t/207-subcontract.t ....................... ok
t/208-T-Basic-contract-is.t ............... ok
t/210-T-Basic-cmp_ok.t .................... ok
t/211-Basic-use_ok.t ...................... ok
t/212-get_tap-exact.t ..................... ok
t/213-Report-get_result_details.t ......... ok
t/214-plan-tests.t ........................ ok
t/215-optimize-out.t ...................... ok
t/301-dies_like.t ......................... ok
t/302-warns_like.t ........................ ok
t/303-refute_these.t ...................... ok
t/304-carp_refute-config.t ................ ok
t/306-T-Array-array_of.t .................. ok
t/307-T-Array-is_sorted.t ................. ok
t/308-T-Hash-keys_are.t ................... ok
t/309-T-Hash-values_are.t ................. ok
t/310-numeric.t ........................... ok
t/311-T-Array-map-reduce.t ................ ok
t/312-T-Scalar-maybe_is.t ................. ok
t/401-minargs.t ........................... ok
t/402-Build-name-clash.t .................. ok
t/403-T-Hash-values_are-bad.t ............. ok
t/404-configure.t ......................... ok
t/502-refute_these-config-0.13.t .......... ok
t/503-refute_these-v.0.15.t ............... ok
t/504-Report-set_result-v.0.15.t .......... ok
t/505-contract-block-v.0.20.t ............. ok
t/603-Driver-More-popen.t ................. ok
t/604-Driver-More.t ....................... ok
All tests successful.
Files=52, Tests=289, 17 wallclock secs ( 0.19 usr  0.23 sys +  3.75 cusr  1.11 csys =  5.28 CPU)
Result: PASS

------------------------------
PREREQUISITES
------------------------------

Prerequisite modules loaded:

requires:

    Module              Need     Have    
    ------------------- -------- --------
    Data::Dumper        2        2.161   
    parent              0        0.236   
    perl                5.006002 5.020003
    Scalar::Util        1.14     1.50    

build_requires:

    Module              Need     Have    
    ------------------- -------- --------
    Test::More          0.98     1.302140

configure_requires:

    Module              Need     Have    
    ------------------- -------- --------
    ExtUtils::MakeMaker 0        7.34    


------------------------------
ENVIRONMENT AND OTHER CONTEXT
------------------------------

Environment variables:

    AUTOMATED_TESTING = 1
    LANG = en_US.UTF-8
    PATH = /home/sand/bin:/usr/local/bin:/usr/bin:/bin:/usr/games:/usr/local/perl/bin:/usr/X11/bin:/sbin:/usr/sbin
    PERL5LIB = 
    PERL5OPT = 
    PERL5_CPANPLUS_IS_RUNNING = 12036
    PERL5_CPAN_IS_RUNNING = 12036
    PERL_CANARY_STABILITY_NOPROMPT = 1
    PERL_MM_USE_DEFAULT = 1
    PERL_USE_UNSAFE_INC = 1
    SHELL = /usr/bin/zsh
    TERM = screen

Perl special variables (and OS-specific diagnostics, for MSWin32):

    $^X = /home/sand/src/perl/repoperls/installed-perls/host/k93msid/v5.20.3/da1c/bin/perl
    $UID/$EUID = 1005 / 1005
    $GID = 1005 1005
    $EGID = 1005 1005

Perl module toolchain versions installed:

    Module              Have     
    ------------------- ---------
    CPAN                2.20     
    CPAN::Meta          2.150010 
    Cwd                 3.75     
    ExtUtils::CBuilder  0.280230 
    ExtUtils::Command   7.34     
    ExtUtils::Install   2.06     
    ExtUtils::MakeMaker 7.34     
    ExtUtils::Manifest  1.70     
    ExtUtils::ParseXS   3.35     
    File::Spec          3.75     
    JSON                2.97001  
    JSON::PP            2.97001  
    Module::Build       0.4224   
    Module::Signature   0.83     
    Parse::CPAN::Meta   2.150010 
    Test::Harness       3.42     
    Test::More          1.302140 
    YAML                1.26     
    YAML::Syck          1.30     
    version             0.9923_02


--

Summary of my perl5 (revision 5 version 20 subversion 3) configuration:
  Derived from: b67331aafd6eff33e3fd904c45e811f69cbfb0b2
  Platform:
    osname=linux, osvers=4.14.0-3-amd64, archname=x86_64-linux
    uname='linux k93msid 4.14.0-3-amd64 #1 smp debian 4.14.12-2 (2018-01-06) x86_64 gnulinux '
    config_args='-Dprefix=/home/sand/src/perl/repoperls/installed-perls/host/k93msid/v5.20.3/da1c -Dmyhostname=k93msid -Dinstallusrbinperl=n -Uversiononly -Dusedevel -des -Ui_db -Dlibswanted=cl pthread socket inet nsl gdbm dbm malloc dl ld sun m crypt sec util c cposix posix ucb BSD gdbm_compat -Uuseithreads -Uuselongdouble -DEBUGGING=-g'
    hint=recommended, useposix=true, d_sigaction=define
    useithreads=undef, usemultiplicity=undef
    use64bitint=define, use64bitall=define, uselongdouble=undef
    usemymalloc=n, bincompat5005=undef
  Compiler:
    cc='cc', ccflags ='-fwrapv -fno-strict-aliasing -pipe -fstack-protector -I/usr/local/include -D_LARGEFILE_SOURCE -D_FILE_OFFSET_BITS=64',
    optimize='-O2 -g',
    cppflags='-fwrapv -fno-strict-aliasing -pipe -fstack-protector -I/usr/local/include'
    ccversion='', gccversion='7.2.0', gccosandvers=''
    intsize=4, longsize=8, ptrsize=8, doublesize=8, byteorder=12345678
    d_longlong=define, longlongsize=8, d_longdbl=define, longdblsize=16
    ivtype='long', ivsize=8, nvtype='double', nvsize=8, Off_t='off_t', lseeksize=8
    alignbytes=8, prototype=define
  Linker and Libraries:
    ld='cc', ldflags =' -fstack-protector -L/usr/local/lib'
    libpth=/usr/local/lib /usr/lib/gcc/x86_64-linux-gnu/7/include-fixed /usr/include/x86_64-linux-gnu /usr/lib /lib/x86_64-linux-gnu /lib/../lib /usr/lib/x86_64-linux-gnu /usr/lib/../lib /lib
    libs=-lpthread -lnsl -ldl -lm -lcrypt -lutil -lc
    perllibs=-lpthread -lnsl -ldl -lm -lcrypt -lutil -lc
    libc=libc-2.26.so, so=so, useshrplib=false, libperl=libperl.a
    gnulibc_version='2.26'
  Dynamic Linking:
    dlsrc=dl_dlopen.xs, dlext=so, d_dlsymun=undef, ccdlflags='-Wl,-E'
    cccdlflags='-fPIC', lddlflags='-shared -O2 -g -L/usr/local/lib -fstack-protector'


Characteristics of this binary (from libperl): 
  Compile-time options: HAS_TIMES PERLIO_LAYERS PERL_DONT_CREATE_GVSV
                        PERL_HASH_FUNC_ONE_AT_A_TIME_HARD PERL_MALLOC_WRAP
                        PERL_NEW_COPY_ON_WRITE PERL_PRESERVE_IVUV
                        PERL_USE_DEVEL USE_64_BIT_ALL USE_64_BIT_INT
                        USE_LARGE_FILES USE_LOCALE USE_LOCALE_COLLATE
                        USE_LOCALE_CTYPE USE_LOCALE_NUMERIC USE_PERLIO
                        USE_PERL_ATOF
  Locally applied patches:
	uncommitted-changes
  Built under linux
  Compiled at Mar  6 2018 21:43:55
  %ENV:
    PERL5LIB=""
    PERL5OPT=""
    PERL5_CPANPLUS_IS_RUNNING="12036"
    PERL5_CPAN_IS_RUNNING="12036"
    PERL_CANARY_STABILITY_NOPROMPT="1"
    PERL_MM_USE_DEFAULT="1"
    PERL_USE_UNSAFE_INC="1"
  @INC:
    /home/sand/src/perl/repoperls/installed-perls/host/k93msid/v5.20.3/da1c/lib/site_perl/5.20.3/x86_64-linux
    /home/sand/src/perl/repoperls/installed-perls/host/k93msid/v5.20.3/da1c/lib/site_perl/5.20.3
    /home/sand/src/perl/repoperls/installed-perls/host/k93msid/v5.20.3/da1c/lib/5.20.3/x86_64-linux
    /home/sand/src/perl/repoperls/installed-perls/host/k93msid/v5.20.3/da1c/lib/5.20.3
    .