Back
From: metabase:user:d2c9f356-b46f-11df-9a90-20a83c0b7757
Subject: PASS Catalyst-Controller-Combine-0.15 v5.15.9 SunOS/Solaris
Date: 2012-05-04T14:51:49Z
This distribution has been tested as part of the CPAN Testers
project, supporting the Perl programming language. See
http://wiki.cpantesters.org/ for more information or email
questions to cpan-testers-discuss@perl.org
--
Dear Wolfgang Kinkeldei,
This is a computer-generated report for Catalyst-Controller-Combine-0.15
on perl 5.15.9, created by CPAN-Reporter-1.2006.
Thank you for uploading your work to CPAN. Congratulations!
All tests were successful.
Sections of this report:
* Tester comments
* Program output
* Prerequisites
* Environment and other context
------------------------------
TESTER COMMENTS
------------------------------
Additional comments from tester:
this report is from an automated smoke testing program
and was not reviewed by a human for accuracy
------------------------------
PROGRAM OUTPUT
------------------------------
Output from '/usr/local/bin/make test':
PERL_DL_NONLAZY=1 /export/home/cpant4/perl5/perlbrew/perls/perl-5.15.9/bin/perl5.15.9 "-MExtUtils::Command::MM" "-e" "test_harness(0, 'blib/lib', 'blib/arch')" t/*.t
t/0-basic.t ............... ok
t/1-inherit.t ............. ok
t/2-uri.t ................. ok
t/3-replace.t ............. ok
t/4-auto_minify.t ......... ok
t/5-expire.t .............. ok
t/6-security.t ............ ok
t/7-include.t ............. ok
t/99-helper.t ............. ok
t/release-pod-coverage.t .. skipped: these tests are for release candidate testing
t/release-pod-syntax.t .... skipped: these tests are for release candidate testing
All tests successful.
Files=11, Tests=92, 7 wallclock secs ( 0.06 usr 0.02 sys + 7.07 cusr 0.52 csys = 7.67 CPU)
Result: PASS
------------------------------
PREREQUISITES
------------------------------
Prerequisite modules loaded:
requires:
Module Need Have
--------------------- ---- -------
Catalyst::Controller 0 0
Catalyst::Runtime 5.80 5.90011
DateTime 0.72 0.74
File::stat 1.00 1.05
FindBin 1.47 1.51
List::Util 1.21 1.25
Moose 1.0 2.0601
namespace::autoclean 0.09 0.13
Path::Class 0.23 0.25
strict 0 1.06
Test::Builder 0.86 0.98
Test::Builder::Tester 1.18 1.22
Test::Exception 0.27 0.31
Test::Harness 3.14 3.23
Test::More 0.86 0.98
Text::Glob 0.08 0.09
build_requires:
Module Need Have
--------------------- ---- -------
base 0 2.18
Catalyst 0 5.90011
Catalyst::Runtime 0 5.90011
Catalyst::Test 0 0
DateTime::Duration 0 0.74
Exporter 0 5.66
FindBin 0 1.51
namespace::autoclean 0 0.13
Path::Class::File 0 0.25
Test::Exception 0 0.31
Test::More 0 0.98
warnings 0 1.13
configure_requires:
Module Need Have
--------------------- ---- -------
ExtUtils::MakeMaker 6.30 6.63_02
------------------------------
ENVIRONMENT AND OTHER CONTEXT
------------------------------
Environment variables:
AUTOMATED_TESTING = 1
LANG = C
LD_LIBRARY_PATH = /usr/local/lib:
MANPATH_WITHOUT_PERLBREW =
PATH = /export/home/cpant4/perl5/perlbrew/bin:/export/home/cpant4/perl5/perlbrew/perls/perl-5.15.9/bin:/export/home/cpant4/perl5/bin:/usr/local/bin:/usr/bin
PATH_WITHOUT_PERLBREW = /export/home/cpant4/perl5/bin:/usr/local/bin:/usr/bin
PERL5LIB =
PERL5OPT =
PERL5_CPANPLUS_IS_RUNNING = 1177
PERL5_CPAN_IS_RUNNING = 1177
PERL5_CPAN_IS_RUNNING_IN_RECURSION = 13726,1177
PERLBREW_BASHRC_VERSION = 0.41
PERLBREW_HOME = /export/home/cpant4/.perlbrew
PERLBREW_MANPATH = /export/home/cpant4/perl5/perlbrew/perls/perl-5.15.9/man
PERLBREW_PATH = /export/home/cpant4/perl5/perlbrew/bin:/export/home/cpant4/perl5/perlbrew/perls/perl-5.15.9/bin
PERLBREW_PERL = perl-5.15.9
PERLBREW_ROOT = /export/home/cpant4/perl5/perlbrew
PERLBREW_VERSION = 0.41
PERL_CR_SMOKER_CURRENT = Catalyst-Controller-Combine-0.15
PERL_EXTUTILS_AUTOINSTALL = --defaultdeps
PERL_MM_USE_DEFAULT = 1
SHELL = /bin/bash
TERM = xterm
Perl special variables (and OS-specific diagnostics, for MSWin32):
$^X = /export/home/cpant4/perl5/perlbrew/perls/perl-5.15.9/bin/perl5.15.9
$UID/$EUID = 104 / 104
$GID = 1 1
$EGID = 1 1
Perl module toolchain versions installed:
Module Have
------------------- --------
CPAN 1.9800
CPAN::Meta 2.120921
Cwd 3.39_02
ExtUtils::CBuilder 0.280206
ExtUtils::Command 1.17
ExtUtils::Install 1.58
ExtUtils::MakeMaker 6.63_02
ExtUtils::Manifest 1.61
ExtUtils::ParseXS 3.16
File::Spec 3.39_02
JSON 2.53
JSON::PP 2.27200
Module::Build 0.40
Module::Signature n/a
Parse::CPAN::Meta 1.4404
Test::Harness 3.23
Test::More 0.98
YAML 0.81
YAML::Syck 1.20
version 0.99
--
Summary of my perl5 (revision 5 version 15 subversion 9) configuration:
Platform:
osname=solaris, osvers=2.10, archname=i86pc-solaris-64int
uname='sunos vmrz0046 5.10 generic_141445-09 i86pc i386 i86pc solaris '
config_args='-de -Dprefix=/export/home/cpant4/perl5/perlbrew/perls/perl-5.15.9 -Dcc=gcc -Duse64bitint -Dusedevel -Dusedevel'
hint=recommended, useposix=true, d_sigaction=define
useithreads=undef, usemultiplicity=undef
useperlio=define, d_sfio=undef, uselargefiles=define, usesocks=undef
use64bitint=define, use64bitall=undef, uselongdouble=undef
usemymalloc=n, bincompat5005=undef
Compiler:
cc='gcc', ccflags ='-DPTR_IS_LONG -fno-strict-aliasing -pipe -I/usr/local/include -D_LARGEFILE_SOURCE -D_FILE_OFFSET_BITS=64 -DPERL_USE_SAFE_PUTENV',
optimize='-O',
cppflags='-DPTR_IS_LONG -fno-strict-aliasing -pipe -I/usr/local/include'
ccversion='', gccversion='3.4.6', gccosandvers='solaris2.10'
intsize=4, longsize=4, ptrsize=4, doublesize=8, byteorder=12345678
d_longlong=define, longlongsize=8, d_longdbl=define, longdblsize=12
ivtype='long long', ivsize=8, nvtype='double', nvsize=8, Off_t='off_t', lseeksize=8
alignbytes=4, prototype=define
Linker and Libraries:
ld='gcc', ldflags =' -L/usr/local/lib '
libpth=/usr/local/lib /usr/lib /usr/ccs/lib
libs=-lsocket -lnsl -lgdbm -ldl -lm -lc
perllibs=-lsocket -lnsl -ldl -lm -lc
libc=/lib/libc.so, so=so, useshrplib=false, libperl=libperl.a
gnulibc_version=''
Dynamic Linking:
dlsrc=dl_dlopen.xs, dlext=so, d_dlsymun=undef, ccdlflags=' '
cccdlflags='-fPIC', lddlflags='-G -L/usr/local/lib'
Characteristics of this binary (from libperl):
Compile-time options: HAS_TIMES PERLIO_LAYERS PERL_DONT_CREATE_GVSV
PERL_MALLOC_WRAP PERL_PRESERVE_IVUV PERL_USE_DEVEL
PERL_USE_SAFE_PUTENV USE_64_BIT_INT USE_LARGE_FILES
USE_LOCALE USE_LOCALE_COLLATE USE_LOCALE_CTYPE
USE_LOCALE_NUMERIC USE_PERLIO USE_PERL_ATOF
Built under solaris
Compiled at Apr 11 2012 15:23:49
%ENV:
PERL5LIB=""
PERL5OPT=""
PERL5_CPANPLUS_IS_RUNNING="1177"
PERL5_CPAN_IS_RUNNING="1177"
PERL5_CPAN_IS_RUNNING_IN_RECURSION="13726,1177"
PERLBREW_BASHRC_VERSION="0.41"
PERLBREW_HOME="/export/home/cpant4/.perlbrew"
PERLBREW_MANPATH="/export/home/cpant4/perl5/perlbrew/perls/perl-5.15.9/man"
PERLBREW_PATH="/export/home/cpant4/perl5/perlbrew/bin:/export/home/cpant4/perl5/perlbrew/perls/perl-5.15.9/bin"
PERLBREW_PERL="perl-5.15.9"
PERLBREW_ROOT="/export/home/cpant4/perl5/perlbrew"
PERLBREW_VERSION="0.41"
PERL_CR_SMOKER_CURRENT="Catalyst-Controller-Combine-0.15"
PERL_EXTUTILS_AUTOINSTALL="--defaultdeps"
PERL_MM_USE_DEFAULT="1"
@INC:
/export/home/cpant4/perl5/perlbrew/perls/perl-5.15.9/lib/site_perl/5.15.9/i86pc-solaris-64int
/export/home/cpant4/perl5/perlbrew/perls/perl-5.15.9/lib/site_perl/5.15.9
/export/home/cpant4/perl5/perlbrew/perls/perl-5.15.9/lib/5.15.9/i86pc-solaris-64int
/export/home/cpant4/perl5/perlbrew/perls/perl-5.15.9/lib/5.15.9
.