Report for App-OS-Detect-MachineCores-0.038

Back
From: metabase:user:d2c9f356-b46f-11df-9a90-20a83c0b7757
Subject: PASS App-OS-Detect-MachineCores-0.038 v5.17.5 SunOS/Solaris
Date: 2012-12-13T04:00:48Z

This distribution has been tested as part of the CPAN Testers
project, supporting the Perl programming language.  See
http://wiki.cpantesters.org/ for more information or email
questions to cpan-testers-discuss@perl.org


--
Dear Daniel B,

This is a computer-generated report for App-OS-Detect-MachineCores-0.038
on perl 5.17.5, created by CPAN-Reporter-1.2007.

Thank you for uploading your work to CPAN.  Congratulations!
All tests were successful.

Sections of this report:

    * Tester comments
    * Program output
    * Prerequisites
    * Environment and other context

------------------------------
TESTER COMMENTS
------------------------------

Additional comments from tester:

this report is from an automated smoke testing program
and was not reviewed by a human for accuracy

------------------------------
PROGRAM OUTPUT
------------------------------

Output from './Build test':

t/00-check-deps.t ........ ok
t/00-load.t .............. ok
# Prerequisite Report:
#    Version Module                 
#   -------- -----------------------
#       1.27 Carp                   
#    6.63_02 ExtUtils::MakeMaker    
#    3.39_02 File::Spec::Functions  
#       1.51 FindBin                
#       1.25 List::Util             
#     0.4003 Module::Build          
#   1.000006 Moo                    
#       3.73 MooX::Options          
#    missing Pod::Coverage::TrustPod
#       1.25 Scalar::Util           
#    missing Test::CPAN::Meta       
#      0.002 Test::CheckDeps        
#       0.98 Test::More             
#       1.45 Test::Pod              
#       1.08 Test::Pod::Coverage    
#       0.14 Test::UseAllModules    
#       1.07 strict                 
#       0.18 true                   
#       1.15 warnings               
t/00-report-prereqs.t .... ok
# Testing with Perl 5.017005, /export/home/cpant5/perl5/perlbrew/perls/perl-5.17.5/bin/perl5.17.5
#     Carp version is 1.27
#     ExtUtils::MakeMaker version is 6.6302
#     File::Spec::Functions version is 3.39_02
#     FindBin version is 1.51
#     List::Util version is 1.25
#     Module::Build version is 0.4003
#     Moo version is 1.000006
#     MooX::Options version is 3.73
#     Scalar::Util version is 1.25
#     Test::CheckDeps version is 0.002
#     Test::More version is 0.98
#     Test::UseAllModules version is 0.14
#     strict version is 1.07
#     true version is 0.18
#     warnings version is 1.15
t/000-report-versions.t .. ok
All tests successful.
Files=4, Tests=35,  1 wallclock secs ( 0.07 usr  0.04 sys +  0.90 cusr  0.24 csys =  1.25 CPU)
Result: PASS

------------------------------
PREREQUISITES
------------------------------

Prerequisite modules loaded:

requires:

    Module                Need   Have    
    --------------------- ------ --------
    FindBin               0      1.51    
    Moo                   0      1.000006
    MooX::Options         0      3.73    
    perl                  5.010  5.017005
    strict                0      1.07    
    true                  0      0.18    
    warnings              0      1.15    

build_requires:

    Module                Need   Have    
    --------------------- ------ --------
    Carp                  0      1.27    
    ExtUtils::MakeMaker   0      6.63_02 
    File::Spec::Functions 0      3.39_02 
    List::Util            0      1.25    
    Module::Build         0.3601 0.4003  
    Scalar::Util          0      1.25    
    Test::CheckDeps       0.002  0.002   
    Test::More            0.94   0.98    
    Test::UseAllModules   0      0.14    

configure_requires:

    Module                Need   Have    
    --------------------- ------ --------
    ExtUtils::MakeMaker   6.30   6.63_02 
    Module::Build         0.3601 0.4003  


------------------------------
ENVIRONMENT AND OTHER CONTEXT
------------------------------

Environment variables:

    AUTOMATED_TESTING = 1
    LANG = C
    LD_LIBRARY_PATH = /usr/local/lib:
    MANPATH_WITHOUT_PERLBREW = 
    PATH = /export/home/cpant5/perl5/perlbrew/bin:/export/home/cpant5/perl5/perlbrew/perls/perl-5.17.5/bin:/export/home/cpant5/perl5/bin:/usr/local/bin:/usr/bin
    PATH_WITHOUT_PERLBREW = /export/home/cpant5/perl5/bin:/usr/local/bin:/usr/bin
    PERL5LIB = /export/home/cpant5/.cpan/build/MooX-Options-3.73-7wN3uj/blib/arch:/export/home/cpant5/.cpan/build/MooX-Options-3.73-7wN3uj/blib/lib:/export/home/cpant5/.cpan/build/Data-Record-0.02-dA2Pmb/blib/arch:/export/home/cpant5/.cpan/build/Data-Record-0.02-dA2Pmb/blib/lib:/export/home/cpant5/.cpan/build/true-0.18-8jiclH/blib/arch:/export/home/cpant5/.cpan/build/true-0.18-8jiclH/blib/lib:/export/home/cpant5/.cpan/build/B-Hooks-OP-Annotation-0.44-O1Oel5/blib/arch:/export/home/cpant5/.cpan/build/B-Hooks-OP-Annotation-0.44-O1Oel5/blib/lib
    PERL5OPT = 
    PERL5_CPANPLUS_IS_RUNNING = 26606
    PERL5_CPAN_IS_RUNNING = 26606
    PERL5_CPAN_IS_RUNNING_IN_RECURSION = 23689,26606
    PERLBREW_BASHRC_VERSION = 0.44
    PERLBREW_HOME = /export/home/cpant5/.perlbrew
    PERLBREW_MANPATH = /export/home/cpant5/perl5/perlbrew/perls/perl-5.17.5/man
    PERLBREW_PATH = /export/home/cpant5/perl5/perlbrew/bin:/export/home/cpant5/perl5/perlbrew/perls/perl-5.17.5/bin
    PERLBREW_PERL = perl-5.17.5
    PERLBREW_ROOT = /export/home/cpant5/perl5/perlbrew
    PERLBREW_VERSION = 0.44
    PERL_CR_SMOKER_CURRENT = App-OS-Detect-MachineCores-0.038
    PERL_EXTUTILS_AUTOINSTALL = --defaultdeps
    PERL_MM_USE_DEFAULT = 1
    SHELL = /bin/bash
    TERM = xterm

Perl special variables (and OS-specific diagnostics, for MSWin32):

    $^X = /export/home/cpant5/perl5/perlbrew/perls/perl-5.17.5/bin/perl5.17.5
    $UID/$EUID = 105 / 105
    $GID = 1 1
    $EGID = 1 1

Perl module toolchain versions installed:

    Module              Have    
    ------------------- --------
    CPAN                1.9800  
    CPAN::Meta          2.120921
    Cwd                 3.39_02 
    ExtUtils::CBuilder  0.280209
    ExtUtils::Command   1.17    
    ExtUtils::Install   1.58    
    ExtUtils::MakeMaker 6.63_02 
    ExtUtils::Manifest  1.61    
    ExtUtils::ParseXS   3.18    
    File::Spec          3.39_02 
    JSON                2.53    
    JSON::PP            2.27200 
    Module::Build       0.4003  
    Module::Signature   n/a     
    Parse::CPAN::Meta   1.4404  
    Test::Harness       3.25_01 
    Test::More          0.98    
    YAML                0.84    
    YAML::Syck          1.22    
    version             0.9901  


--

Summary of my perl5 (revision 5 version 17 subversion 5) configuration:
   
  Platform:
    osname=solaris, osvers=2.10, archname=i86pc-solaris-64int
    uname='sunos vmrz0046 5.10 generic_141445-09 i86pc i386 i86pc solaris '
    config_args='-de -Dprefix=/export/home/cpant5/perl5/perlbrew/perls/perl-5.17.5 -Dcc=gcc -Duse64bitint -Dusedevel -Dusedevel -Aeval:scriptdir=/export/home/cpant5/perl5/perlbrew/perls/perl-5.17.5/bin'
    hint=recommended, useposix=true, d_sigaction=define
    useithreads=undef, usemultiplicity=undef
    useperlio=define, d_sfio=undef, uselargefiles=define, usesocks=undef
    use64bitint=define, use64bitall=undef, uselongdouble=undef
    usemymalloc=n, bincompat5005=undef
  Compiler:
    cc='gcc', ccflags ='-DPTR_IS_LONG -fno-strict-aliasing -pipe -I/usr/local/include -D_LARGEFILE_SOURCE -D_FILE_OFFSET_BITS=64 -DPERL_USE_SAFE_PUTENV',
    optimize='-O',
    cppflags='-DPTR_IS_LONG -fno-strict-aliasing -pipe -I/usr/local/include'
    ccversion='', gccversion='3.4.6', gccosandvers='solaris2.10'
    intsize=4, longsize=4, ptrsize=4, doublesize=8, byteorder=12345678
    d_longlong=define, longlongsize=8, d_longdbl=define, longdblsize=12
    ivtype='long long', ivsize=8, nvtype='double', nvsize=8, Off_t='off_t', lseeksize=8
    alignbytes=4, prototype=define
  Linker and Libraries:
    ld='gcc', ldflags =' -L/usr/local/lib '
    libpth=/usr/local/lib /usr/lib /usr/ccs/lib
    libs=-lsocket -lnsl -lgdbm -ldl -lm -lc
    perllibs=-lsocket -lnsl -ldl -lm -lc
    libc=/lib/libc.so, so=so, useshrplib=false, libperl=libperl.a
    gnulibc_version=''
  Dynamic Linking:
    dlsrc=dl_dlopen.xs, dlext=so, d_dlsymun=undef, ccdlflags=' '
    cccdlflags='-fPIC', lddlflags='-G -L/usr/local/lib'


Characteristics of this binary (from libperl): 
  Compile-time options: HAS_TIMES PERLIO_LAYERS PERL_DONT_CREATE_GVSV
                        PERL_MALLOC_WRAP PERL_PRESERVE_IVUV PERL_USE_DEVEL
                        PERL_USE_SAFE_PUTENV USE_64_BIT_INT USE_LARGE_FILES
                        USE_LOCALE USE_LOCALE_COLLATE USE_LOCALE_CTYPE
                        USE_LOCALE_NUMERIC USE_PERLIO USE_PERL_ATOF
  Built under solaris
  Compiled at Oct 25 2012 14:56:19
  %ENV:
    PERL5LIB="/export/home/cpant5/.cpan/build/MooX-Options-3.73-7wN3uj/blib/arch:/export/home/cpant5/.cpan/build/MooX-Options-3.73-7wN3uj/blib/lib:/export/home/cpant5/.cpan/build/Data-Record-0.02-dA2Pmb/blib/arch:/export/home/cpant5/.cpan/build/Data-Record-0.02-dA2Pmb/blib/lib:/export/home/cpant5/.cpan/build/true-0.18-8jiclH/blib/arch:/export/home/cpant5/.cpan/build/true-0.18-8jiclH/blib/lib:/export/home/cpant5/.cpan/build/B-Hooks-OP-Annotation-0.44-O1Oel5/blib/arch:/export/home/cpant5/.cpan/build/B-Hooks-OP-Annotation-0.44-O1Oel5/blib/lib"
    PERL5OPT=""
    PERL5_CPANPLUS_IS_RUNNING="26606"
    PERL5_CPAN_IS_RUNNING="26606"
    PERL5_CPAN_IS_RUNNING_IN_RECURSION="23689,26606"
    PERLBREW_BASHRC_VERSION="0.44"
    PERLBREW_HOME="/export/home/cpant5/.perlbrew"
    PERLBREW_MANPATH="/export/home/cpant5/perl5/perlbrew/perls/perl-5.17.5/man"
    PERLBREW_PATH="/export/home/cpant5/perl5/perlbrew/bin:/export/home/cpant5/perl5/perlbrew/perls/perl-5.17.5/bin"
    PERLBREW_PERL="perl-5.17.5"
    PERLBREW_ROOT="/export/home/cpant5/perl5/perlbrew"
    PERLBREW_VERSION="0.44"
    PERL_CR_SMOKER_CURRENT="App-OS-Detect-MachineCores-0.038"
    PERL_EXTUTILS_AUTOINSTALL="--defaultdeps"
    PERL_MM_USE_DEFAULT="1"
  @INC:
    /export/home/cpant5/.cpan/build/MooX-Options-3.73-7wN3uj/blib/arch
    /export/home/cpant5/.cpan/build/MooX-Options-3.73-7wN3uj/blib/lib
    /export/home/cpant5/.cpan/build/Data-Record-0.02-dA2Pmb/blib/arch
    /export/home/cpant5/.cpan/build/Data-Record-0.02-dA2Pmb/blib/lib
    /export/home/cpant5/.cpan/build/true-0.18-8jiclH/blib/arch
    /export/home/cpant5/.cpan/build/true-0.18-8jiclH/blib/lib
    /export/home/cpant5/.cpan/build/B-Hooks-OP-Annotation-0.44-O1Oel5/blib/arch
    /export/home/cpant5/.cpan/build/B-Hooks-OP-Annotation-0.44-O1Oel5/blib/lib
    /export/home/cpant5/perl5/perlbrew/perls/perl-5.17.5/lib/site_perl/5.17.5/i86pc-solaris-64int
    /export/home/cpant5/perl5/perlbrew/perls/perl-5.17.5/lib/site_perl/5.17.5
    /export/home/cpant5/perl5/perlbrew/perls/perl-5.17.5/lib/5.17.5/i86pc-solaris-64int
    /export/home/cpant5/perl5/perlbrew/perls/perl-5.17.5/lib/5.17.5
    .