Net-Async-OpenTracing v1.001 Perl 5 v5.32.1 x86_64-linux-thread-multi-ld

Status
Pass
From
Andreas J. König (ANDK)
Dist
Net-Async-OpenTracing v1.001
Platform
Perl 5 v5.32.1 x86_64-linux-thread-multi-ld
Date
2022-09-05 02:44:35
ID
adb098ba-2cc4-11ed-bd4a-64d6e8deb7e4
This distribution has been tested as part of the CPAN Testers
project, supporting the Perl programming language.  See
http://wiki.cpantesters.org/ for more information or email
questions to cpan-testers-discuss@perl.org


--
Dear Tom Molesworth,

This is a computer-generated report for Net-Async-OpenTracing-1.001
on perl 5.32.1, created by CPAN-Reporter-1.2018.

Thank you for uploading your work to CPAN.  Congratulations!
All tests were successful.

Sections of this report:

    * Tester comments
    * Program output
    * Prerequisites
    * Environment and other context

------------------------------
TESTER COMMENTS
------------------------------

Additional comments from tester:

this report is from an automated smoke testing program
and was not reviewed by a human for accuracy

------------------------------
PROGRAM OUTPUT
------------------------------

Output from '/usr/bin/make test':

PERL_DL_NONLAZY=1 "/home/sand/src/perl/repoperls/installed-perls/host/k93stretch/v5.32.1/4a88/bin/perl" "-MExtUtils::Command::MM" "-MTest::Harness" "-e" "undef *Test::Harness::Switches; test_harness(0, 'blib/lib', 'blib/arch')" t/*.t
t/00-check-deps.t ...... ok
t/00-compile.t ......... ok
# 
# Versions for all modules listed in MYMETA.json (including optional ones):
# 
# === Configure Requires ===
# 
#     Module              Want Have
#     ------------------- ---- ----
#     ExtUtils::MakeMaker  any 7.64
# 
# === Build Requires ===
# 
#     Module              Want Have
#     ------------------- ---- ----
#     ExtUtils::MakeMaker  any 7.64
# 
# === Test Requires ===
# 
#     Module                     Want     Have
#     ---------------------- -------- --------
#     ExtUtils::MakeMaker         any     7.64
#     File::Spec                  any     3.78
#     IO::Handle                  any     1.48
#     IPC::Open3                  any     1.21
#     Log::Any::Adapter::TAP 0.003002 0.003003
#     Test::CheckDeps           0.010    0.010
#     Test::Deep                1.124    1.130
#     Test::Fatal               0.010    0.016
#     Test::More                 0.98 1.302190
#     Test::Refcount             0.07     0.10
#     Test::Warnings            0.024    0.031
# 
# === Test Recommends ===
# 
#     Module              Want     Have
#     --------------- -------- --------
#     CPAN::Meta      2.120900 2.150010
#     Test::HexString     0.03     0.03
# 
# === Runtime Requires ===
# 
#     Module                Want     Have
#     -------------------- ----- --------
#     Encode                1.98     3.17
#     Future                0.39     0.48
#     IO::Async::Socket      any    0.802
#     Log::Any             1.045    1.710
#     Log::Any::Adapter    1.045    1.710
#     Math::Random::Secure   any 0.080001
#     OpenTracing          1.004    1.006
#     Scalar::Util          1.47     1.63
#     Syntax::Keyword::Try  0.04     0.27
#     Time::HiRes            any   1.9764
#     Unicode::UTF8          any     0.62
#     indirect               any     0.39
#     parent                 any    0.238
# 
t/00-report-prereqs.t .. ok
All tests successful.
Files=3, Tests=28,  2 wallclock secs ( 0.03 usr  0.02 sys +  0.66 cusr  0.14 csys =  0.85 CPU)
Result: PASS

------------------------------
PREREQUISITES
------------------------------

Prerequisite modules loaded:

requires:

    Module                 Need     Have    
    ---------------------- -------- --------
    Encode                 1.98     3.17    
    Future                 0.39     0.48    
    indirect               0        0.39    
    IO::Async::Socket      0        0.802   
    Log::Any               1.045    1.710   
    Log::Any::Adapter      1.045    1.710   
    Math::Random::Secure   0        0.080001
    OpenTracing            1.004    1.006   
    parent                 0        0.238   
    Scalar::Util           1.47     1.63    
    Syntax::Keyword::Try   0.04     0.27    
    Time::HiRes            0        1.9764  
    Unicode::UTF8          0        0.62    

build_requires:

    Module                 Need     Have    
    ---------------------- -------- --------
    ExtUtils::MakeMaker    0        7.64    
    File::Spec             0        3.78    
    IO::Handle             0        1.48    
    IPC::Open3             0        1.21    
    Log::Any::Adapter::TAP 0.003002 0.003003
    Test::CheckDeps        0.010    0.010   
    Test::Deep             1.124    1.130   
    Test::Fatal            0.010    0.016   
    Test::More             0.98     1.302190
    Test::Refcount         0.07     0.10    
    Test::Warnings         0.024    0.031   

configure_requires:

    Module                 Need     Have    
    ---------------------- -------- --------
    ExtUtils::MakeMaker    0        7.64    


------------------------------
ENVIRONMENT AND OTHER CONTEXT
------------------------------

Environment variables:

    AUTOMATED_TESTING = 1
    LANG = en_US.UTF-8
    LANGUAGE = en_US:en
    PATH = /home/sand/bin:/usr/local/bin:/usr/bin:/bin:/usr/games:/usr/local/perl/bin:/usr/X11/bin:/sbin:/usr/sbin
    PERL5LIB = /tmp/loop_over_bdir-30477-1hJget/Net-Async-HTTP-Server-0.13-0/blib/arch:/tmp/loop_over_bdir-30477-1hJget/Net-Async-HTTP-Server-0.13-0/blib/lib:/tmp/loop_over_bdir-30477-1hJget/Metrics-Any-Adapter-Statsd-0.03-0/blib/arch:/tmp/loop_over_bdir-30477-1hJget/Metrics-Any-Adapter-Statsd-0.03-0/blib/lib:/tmp/loop_over_bdir-30477-1hJget/Log-Any-Adapter-OpenTracing-0.001-0/blib/arch:/tmp/loop_over_bdir-30477-1hJget/Log-Any-Adapter-OpenTracing-0.001-0/blib/lib:/tmp/loop_over_bdir-30477-1hJget/OpenTracing-1.006-0/blib/arch:/tmp/loop_over_bdir-30477-1hJget/OpenTracing-1.006-0/blib/lib:/tmp/loop_over_bdir-30477-1hJget/Net-Address-IP-Local-0.1.2-0/blib/arch:/tmp/loop_over_bdir-30477-1hJget/Net-Address-IP-Local-0.1.2-0/blib/lib:/tmp/loop_over_bdir-30477-1hJget/Scalar-List-Utils-1.63-0/blib/arch:/tmp/loop_over_bdir-30477-1hJget/Scalar-List-Utils-1.63-0/blib/lib:/tmp/loop_over_bdir-30477-1hJget/List-Keywords-0.08-0/blib/arch:/tmp/loop_over_bdir-30477-1hJget/List-Keywords-0.08-0/blib/lib:/tmp/loop_over_bdir-30477-1hJget/JSON-MaybeUTF8-2.000-0/blib/arch:/tmp/loop_over_bdir-30477-1hJget/JSON-MaybeUTF8-2.000-0/blib/lib:/tmp/loop_over_bdir-30477-1hJget/IO-Async-SSL-0.23-0/blib/arch:/tmp/loop_over_bdir-30477-1hJget/IO-Async-SSL-0.23-0/blib/lib:/tmp/loop_over_bdir-30477-1hJget/IO-Async-0.802-0/blib/arch:/tmp/loop_over_bdir-30477-1hJget/IO-Async-0.802-0/blib/lib
    PERL5OPT = 
    PERL5_CPANPLUS_IS_RUNNING = 29291
    PERL5_CPAN_IS_RUNNING = 29291
    PERL_CANARY_STABILITY_NOPROMPT = 1
    PERL_MM_USE_DEFAULT = 1
    PERL_USE_UNSAFE_INC = 1
    SHELL = /usr/bin/zsh
    TERM = screen

Perl special variables (and OS-specific diagnostics, for MSWin32):

    $^X = /home/sand/src/perl/repoperls/installed-perls/host/k93stretch/v5.32.1/4a88/bin/perl
    $UID/$EUID = 1005 / 1005
    $GID = 1005 1005
    $EGID = 1005 1005

Perl module toolchain versions installed:

    Module              Have    
    ------------------- --------
    CPAN                2.34    
    CPAN::Meta          2.150010
    Cwd                 3.78    
    ExtUtils::CBuilder  0.280236
    ExtUtils::Command   7.64    
    ExtUtils::Install   2.20    
    ExtUtils::MakeMaker 7.64    
    ExtUtils::Manifest  1.72    
    ExtUtils::ParseXS   3.40    
    File::Spec          3.78    
    JSON                4.05    
    JSON::PP            4.08    
    Module::Build       0.4231  
    Module::Signature   0.88    
    Parse::CPAN::Meta   2.150010
    Test::Harness       3.44    
    Test::More          1.302190
    YAML                1.30    
    YAML::Syck          1.34    
    version             0.9929  


--

Summary of my perl5 (revision 5 version 32 subversion 1) configuration:
  Commit id: df9d952d734ef94233ed84af97ca318d7972eed0
  Platform:
    osname=linux
    osvers=4.9.0-18-amd64
    archname=x86_64-linux-thread-multi-ld
    uname='linux k93stretch 4.9.0-18-amd64 #1 smp debian 4.9.303-1 (2022-03-07) x86_64 gnulinux '
    config_args='-Dprefix=/home/sand/src/perl/repoperls/installed-perls/host/k93stretch/v5.32.1/4a88 -Dmyhostname=k93stretch -Dinstallusrbinperl=n -Uversiononly -Dusedevel -des -Ui_db -Dlibswanted=cl pthread socket inet nsl gdbm dbm malloc dl ld sun m crypt sec util c cposix posix ucb BSD gdbm_compat -Duseithreads -Duselongdouble -DEBUGGING=both'
    hint=recommended
    useposix=true
    d_sigaction=define
    useithreads=define
    usemultiplicity=define
    use64bitint=define
    use64bitall=define
    uselongdouble=define
    usemymalloc=n
    default_inc_excludes_dot=define
    bincompat5005=undef
  Compiler:
    cc='cc'
    ccflags ='-D_REENTRANT -D_GNU_SOURCE -fwrapv -DDEBUGGING -fno-strict-aliasing -pipe -fstack-protector-strong -I/usr/local/include -D_LARGEFILE_SOURCE -D_FILE_OFFSET_BITS=64 -D_FORTIFY_SOURCE=2'
    optimize='-O2 -g'
    cppflags='-D_REENTRANT -D_GNU_SOURCE -fwrapv -DDEBUGGING -fno-strict-aliasing -pipe -fstack-protector-strong -I/usr/local/include'
    ccversion=''
    gccversion='6.3.0 20170516'
    gccosandvers=''
    intsize=4
    longsize=8
    ptrsize=8
    doublesize=8
    byteorder=12345678
    doublekind=3
    d_longlong=define
    longlongsize=8
    d_longdbl=define
    longdblsize=16
    longdblkind=3
    ivtype='long'
    ivsize=8
    nvtype='long double'
    nvsize=16
    Off_t='off_t'
    lseeksize=8
    alignbytes=16
    prototype=define
  Linker and Libraries:
    ld='cc'
    ldflags =' -fstack-protector-strong -L/usr/local/lib'
    libpth=/usr/local/lib /usr/lib/gcc/x86_64-linux-gnu/6/include-fixed /usr/include/x86_64-linux-gnu /usr/lib /lib/x86_64-linux-gnu /lib/../lib /usr/lib/x86_64-linux-gnu /usr/lib/../lib /lib
    libs=-lpthread -lnsl -ldl -lm -lcrypt -lutil -lc
    perllibs=-lpthread -lnsl -ldl -lm -lcrypt -lutil -lc
    libc=libc-2.24.so
    so=so
    useshrplib=false
    libperl=libperl.a
    gnulibc_version='2.24'
  Dynamic Linking:
    dlsrc=dl_dlopen.xs
    dlext=so
    d_dlsymun=undef
    ccdlflags='-Wl,-E'
    cccdlflags='-fPIC'
    lddlflags='-shared -O2 -g -L/usr/local/lib -fstack-protector-strong'


Characteristics of this binary (from libperl): 
  Compile-time options:
    DEBUGGING
    HAS_TIMES
    MULTIPLICITY
    PERLIO_LAYERS
    PERL_COPY_ON_WRITE
    PERL_DONT_CREATE_GVSV
    PERL_IMPLICIT_CONTEXT
    PERL_MALLOC_WRAP
    PERL_OP_PARENT
    PERL_PRESERVE_IVUV
    PERL_TRACK_MEMPOOL
    PERL_USE_DEVEL
    USE_64_BIT_ALL
    USE_64_BIT_INT
    USE_ITHREADS
    USE_LARGE_FILES
    USE_LOCALE
    USE_LOCALE_COLLATE
    USE_LOCALE_CTYPE
    USE_LOCALE_NUMERIC
    USE_LOCALE_TIME
    USE_LONG_DOUBLE
    USE_PERLIO
    USE_PERL_ATOF
    USE_REENTRANT_API
    USE_THREAD_SAFE_LOCALE
  Built under linux
  Compiled at May  4 2022 03:29:57
  %ENV:
    PERL5LIB="/tmp/loop_over_bdir-30477-1hJget/Net-Async-HTTP-Server-0.13-0/blib/arch:/tmp/loop_over_bdir-30477-1hJget/Net-Async-HTTP-Server-0.13-0/blib/lib:/tmp/loop_over_bdir-30477-1hJget/Metrics-Any-Adapter-Statsd-0.03-0/blib/arch:/tmp/loop_over_bdir-30477-1hJget/Metrics-Any-Adapter-Statsd-0.03-0/blib/lib:/tmp/loop_over_bdir-30477-1hJget/Log-Any-Adapter-OpenTracing-0.001-0/blib/arch:/tmp/loop_over_bdir-30477-1hJget/Log-Any-Adapter-OpenTracing-0.001-0/blib/lib:/tmp/loop_over_bdir-30477-1hJget/OpenTracing-1.006-0/blib/arch:/tmp/loop_over_bdir-30477-1hJget/OpenTracing-1.006-0/blib/lib:/tmp/loop_over_bdir-30477-1hJget/Net-Address-IP-Local-0.1.2-0/blib/arch:/tmp/loop_over_bdir-30477-1hJget/Net-Address-IP-Local-0.1.2-0/blib/lib:/tmp/loop_over_bdir-30477-1hJget/Scalar-List-Utils-1.63-0/blib/arch:/tmp/loop_over_bdir-30477-1hJget/Scalar-List-Utils-1.63-0/blib/lib:/tmp/loop_over_bdir-30477-1hJget/List-Keywords-0.08-0/blib/arch:/tmp/loop_over_bdir-30477-1hJget/List-Keywords-0.08-0/blib/lib:/tmp/loop_over_bdir-30477-1hJget/JSON-MaybeUTF8-2.000-0/blib/arch:/tmp/loop_over_bdir-30477-1hJget/JSON-MaybeUTF8-2.000-0/blib/lib:/tmp/loop_over_bdir-30477-1hJget/IO-Async-SSL-0.23-0/blib/arch:/tmp/loop_over_bdir-30477-1hJget/IO-Async-SSL-0.23-0/blib/lib:/tmp/loop_over_bdir-30477-1hJget/IO-Async-0.802-0/blib/arch:/tmp/loop_over_bdir-30477-1hJget/IO-Async-0.802-0/blib/lib"
    PERL5OPT=""
    PERL5_CPANPLUS_IS_RUNNING="29291"
    PERL5_CPAN_IS_RUNNING="29291"
    PERL_CANARY_STABILITY_NOPROMPT="1"
    PERL_MM_USE_DEFAULT="1"
    PERL_USE_UNSAFE_INC="1"
  @INC:
    /tmp/loop_over_bdir-30477-1hJget/Net-Async-HTTP-Server-0.13-0/blib/arch
    /tmp/loop_over_bdir-30477-1hJget/Net-Async-HTTP-Server-0.13-0/blib/lib
    /tmp/loop_over_bdir-30477-1hJget/Metrics-Any-Adapter-Statsd-0.03-0/blib/arch
    /tmp/loop_over_bdir-30477-1hJget/Metrics-Any-Adapter-Statsd-0.03-0/blib/lib
    /tmp/loop_over_bdir-30477-1hJget/Log-Any-Adapter-OpenTracing-0.001-0/blib/arch
    /tmp/loop_over_bdir-30477-1hJget/Log-Any-Adapter-OpenTracing-0.001-0/blib/lib
    /tmp/loop_over_bdir-30477-1hJget/OpenTracing-1.006-0/blib/arch
    /tmp/loop_over_bdir-30477-1hJget/OpenTracing-1.006-0/blib/lib
    /tmp/loop_over_bdir-30477-1hJget/Net-Address-IP-Local-0.1.2-0/blib/arch
    /tmp/loop_over_bdir-30477-1hJget/Net-Address-IP-Local-0.1.2-0/blib/lib
    /tmp/loop_over_bdir-30477-1hJget/Scalar-List-Utils-1.63-0/blib/arch
    /tmp/loop_over_bdir-30477-1hJget/Scalar-List-Utils-1.63-0/blib/lib
    /tmp/loop_over_bdir-30477-1hJget/List-Keywords-0.08-0/blib/arch
    /tmp/loop_over_bdir-30477-1hJget/List-Keywords-0.08-0/blib/lib
    /tmp/loop_over_bdir-30477-1hJget/JSON-MaybeUTF8-2.000-0/blib/arch
    /tmp/loop_over_bdir-30477-1hJget/JSON-MaybeUTF8-2.000-0/blib/lib
    /tmp/loop_over_bdir-30477-1hJget/IO-Async-SSL-0.23-0/blib/arch
    /tmp/loop_over_bdir-30477-1hJget/IO-Async-SSL-0.23-0/blib/lib
    /tmp/loop_over_bdir-30477-1hJget/IO-Async-0.802-0/blib/arch
    /tmp/loop_over_bdir-30477-1hJget/IO-Async-0.802-0/blib/lib
    /home/sand/src/perl/repoperls/installed-perls/host/k93stretch/v5.32.1/4a88/lib/site_perl/5.32.1/x86_64-linux-thread-multi-ld
    /home/sand/src/perl/repoperls/installed-perls/host/k93stretch/v5.32.1/4a88/lib/site_perl/5.32.1
    /home/sand/src/perl/repoperls/installed-perls/host/k93stretch/v5.32.1/4a88/lib/5.32.1/x86_64-linux-thread-multi-ld
    /home/sand/src/perl/repoperls/installed-perls/host/k93stretch/v5.32.1/4a88/lib/5.32.1
    .