Back
From: metabase:user:320bfe00-2aae-11df-837a-5e0a49663a4f
Subject: PASS Data-Validator-1.07 v5.21.8 GNU/Linux
Date: 2015-03-19T05:27:47Z
This distribution has been tested as part of the CPAN Testers
project, supporting the Perl programming language. See
http://wiki.cpantesters.org/ for more information or email
questions to cpan-testers-discuss@perl.org
--
Dear Goro Fuji,
This is a computer-generated report for Data-Validator-1.07
on perl 5.21.8, created by CPAN-Reporter-1.2011.
Thank you for uploading your work to CPAN. Congratulations!
All tests were successful.
Sections of this report:
* Tester comments
* Program output
* Prerequisites
* Environment and other context
------------------------------
TESTER COMMENTS
------------------------------
Additional comments from tester:
this report is from an automated smoke testing program
and was not reviewed by a human for accuracy
------------------------------
PROGRAM OUTPUT
------------------------------
Output from './Build test':
Constants from lexical variables potentially modified elsewhere are deprecated at /home/sand/src/perl/repoperls/installed-perls/perl/v5.21.8/8005/lib/site_perl/5.21.8/x86_64-linux-thread-multi/Mouse/Util.pm line 79.
# Testing Data::Validator/1.07
Use of uninitialized value $Moose::VERSION in concatenation (.) or string at t/000_load.t line 11.
# Moose/
# Mouse/2.4.1
t/000_load.t .............. ok
Constants from lexical variables potentially modified elsewhere are deprecated at /home/sand/src/perl/repoperls/installed-perls/perl/v5.21.8/8005/lib/site_perl/5.21.8/x86_64-linux-thread-multi/Mouse/Util.pm line 79.
t/001_basic.t ............. ok
Constants from lexical variables potentially modified elsewhere are deprecated at /home/sand/src/perl/repoperls/installed-perls/perl/v5.21.8/8005/lib/site_perl/5.21.8/x86_64-linux-thread-multi/Mouse/Util.pm line 79.
t/002_isa.t ............... ok
Constants from lexical variables potentially modified elsewhere are deprecated at /home/sand/src/perl/repoperls/installed-perls/perl/v5.21.8/8005/lib/site_perl/5.21.8/x86_64-linux-thread-multi/Mouse/Util.pm line 79.
t/003_default.t ........... ok
Constants from lexical variables potentially modified elsewhere are deprecated at /home/sand/src/perl/repoperls/installed-perls/perl/v5.21.8/8005/lib/site_perl/5.21.8/x86_64-linux-thread-multi/Mouse/Util.pm line 79.
t/004_xor.t ............... ok
Constants from lexical variables potentially modified elsewhere are deprecated at /home/sand/src/perl/repoperls/installed-perls/perl/v5.21.8/8005/lib/site_perl/5.21.8/x86_64-linux-thread-multi/Mouse/Util.pm line 79.
t/005_coerce.t ............ ok
t/006_moose_coerce.t ...... skipped: Test requires module 'Moose::Util::TypeConstraints' but it's not found
Constants from lexical variables potentially modified elsewhere are deprecated at /home/sand/src/perl/repoperls/installed-perls/perl/v5.21.8/8005/lib/site_perl/5.21.8/x86_64-linux-thread-multi/Mouse/Util.pm line 79.
t/007_immutable.t ......... ok
Constants from lexical variables potentially modified elsewhere are deprecated at /home/sand/src/perl/repoperls/installed-perls/perl/v5.21.8/8005/lib/site_perl/5.21.8/x86_64-linux-thread-multi/Mouse/Util.pm line 79.
t/008_optional.t .......... ok
Constants from lexical variables potentially modified elsewhere are deprecated at /home/sand/src/perl/repoperls/installed-perls/perl/v5.21.8/8005/lib/site_perl/5.21.8/x86_64-linux-thread-multi/Mouse/Util.pm line 79.
t/009_misuse.t ............ ok
Constants from lexical variables potentially modified elsewhere are deprecated at /home/sand/src/perl/repoperls/installed-perls/perl/v5.21.8/8005/lib/site_perl/5.21.8/x86_64-linux-thread-multi/Mouse/Util.pm line 79.
t/010_common_params.t ..... ok
Constants from lexical variables potentially modified elsewhere are deprecated at /home/sand/src/perl/repoperls/installed-perls/perl/v5.21.8/8005/lib/site_perl/5.21.8/x86_64-linux-thread-multi/Mouse/Util.pm line 79.
t/100_with.t .............. ok
Constants from lexical variables potentially modified elsewhere are deprecated at /home/sand/src/perl/repoperls/installed-perls/perl/v5.21.8/8005/lib/site_perl/5.21.8/x86_64-linux-thread-multi/Mouse/Util.pm line 79.
t/101_method.t ............ ok
Constants from lexical variables potentially modified elsewhere are deprecated at /home/sand/src/perl/repoperls/installed-perls/perl/v5.21.8/8005/lib/site_perl/5.21.8/x86_64-linux-thread-multi/Mouse/Util.pm line 79.
t/102_sequenced.t ......... ok
Constants from lexical variables potentially modified elsewhere are deprecated at /home/sand/src/perl/repoperls/installed-perls/perl/v5.21.8/8005/lib/site_perl/5.21.8/x86_64-linux-thread-multi/Mouse/Util.pm line 79.
t/103_method_sequenced.t .. ok
Constants from lexical variables potentially modified elsewhere are deprecated at /home/sand/src/perl/repoperls/installed-perls/perl/v5.21.8/8005/lib/site_perl/5.21.8/x86_64-linux-thread-multi/Mouse/Util.pm line 79.
t/104_extra_args.t ........ ok
Constants from lexical variables potentially modified elsewhere are deprecated at /home/sand/src/perl/repoperls/installed-perls/perl/v5.21.8/8005/lib/site_perl/5.21.8/x86_64-linux-thread-multi/Mouse/Util.pm line 79.
t/105_croak.t ............. ok
Constants from lexical variables potentially modified elsewhere are deprecated at /home/sand/src/perl/repoperls/installed-perls/perl/v5.21.8/8005/lib/site_perl/5.21.8/x86_64-linux-thread-multi/Mouse/Util.pm line 79.
t/106_nothrow.t ........... ok
Constants from lexical variables potentially modified elsewhere are deprecated at /home/sand/src/perl/repoperls/installed-perls/perl/v5.21.8/8005/lib/site_perl/5.21.8/x86_64-linux-thread-multi/Mouse/Util.pm line 79.
t/107_strict_sequenced.t .. ok
Constants from lexical variables potentially modified elsewhere are deprecated at /home/sand/src/perl/repoperls/installed-perls/perl/v5.21.8/8005/lib/site_perl/5.21.8/x86_64-linux-thread-multi/Mouse/Util.pm line 79.
t/108_no_restricted.t ..... ok
Constants from lexical variables potentially modified elsewhere are deprecated at /home/sand/src/perl/repoperls/installed-perls/perl/v5.21.8/8005/lib/site_perl/5.21.8/x86_64-linux-thread-multi/Mouse/Util.pm line 79.
t/109_smart_sequenced.t ... ok
All tests successful.
Files=21, Tests=201, 4 wallclock secs ( 0.08 usr 0.17 sys + 1.22 cusr 0.24 csys = 1.71 CPU)
Result: PASS
------------------------------
PREREQUISITES
------------------------------
Prerequisite modules loaded:
requires:
Module Need Have
------------------- -------- --------
Mouse 0.93 2.4.1
perl 5.008001 5.021008
build_requires:
Module Need Have
------------------- -------- --------
ExtUtils::MakeMaker 6.59 7.04
Test::More 0.88 1.001014
Test::Requires 0 0.08
configure_requires:
Module Need Have
------------------- -------- --------
Module::Build 0.38 0.4211
------------------------------
ENVIRONMENT AND OTHER CONTEXT
------------------------------
Environment variables:
AUTOMATED_TESTING = 1
LANG = en_US.UTF-8
LANGUAGE = en_US:en
PATH = /home/sand/bin:/usr/local/bin:/usr/bin:/bin:/usr/games:/usr/local/perl/bin:/usr/X11/bin:/sbin:/usr/sbin
PERL5LIB =
PERL5OPT =
PERL5_CPANPLUS_IS_RUNNING = 23685
PERL5_CPAN_IS_RUNNING = 23685
PERL_MM_USE_DEFAULT = 1
SHELL = /usr/bin/zsh
TERM = screen
Perl special variables (and OS-specific diagnostics, for MSWin32):
$^X = /home/sand/src/perl/repoperls/installed-perls/perl/v5.21.8/8005/bin/perl
$UID/$EUID = 1005 / 1005
$GID = 1005 1005
$EGID = 1005 1005
Perl module toolchain versions installed:
Module Have
------------------- --------
CPAN 2.10
CPAN::Meta 2.150001
Cwd 3.54
ExtUtils::CBuilder 0.280221
ExtUtils::Command 1.20
ExtUtils::Install 2.04
ExtUtils::MakeMaker 7.04
ExtUtils::Manifest 1.70
ExtUtils::ParseXS 3.27
File::Spec 3.53
JSON 2.90
JSON::PP 2.27300
Module::Build 0.4211
Module::Signature 0.73
Parse::CPAN::Meta 1.4414
Test::Harness 3.35
Test::More 1.001014
YAML 1.14
YAML::Syck 1.29
version 0.9912
--
Summary of my perl5 (revision 5 version 21 subversion 8) configuration:
Commit id: eaee347ce4f7d9b8965d022a06b90c4b07bcad4a
Platform:
osname=linux, osvers=3.16.0-4-amd64, archname=x86_64-linux-thread-multi
uname='linux k83 3.16.0-4-amd64 #1 smp debian 3.16.7-ckt7-1 (2015-03-01) x86_64 gnulinux '
config_args='-Dprefix=/home/sand/src/perl/repoperls/installed-perls/perl/v5.21.8/8005 -Dmyhostname=k83 -Dinstallusrbinperl=n -Uversiononly -Dusedevel -des -Ui_db -Duseithreads -Uuselongdouble'
hint=recommended, useposix=true, d_sigaction=define
useithreads=define, usemultiplicity=define
use64bitint=define, use64bitall=define, uselongdouble=undef
usemymalloc=n, bincompat5005=undef
Compiler:
cc='cc', ccflags ='-D_REENTRANT -D_GNU_SOURCE -fwrapv -fno-strict-aliasing -pipe -fstack-protector-strong -I/usr/local/include -D_LARGEFILE_SOURCE -D_FILE_OFFSET_BITS=64 -D_FORTIFY_SOURCE=2',
optimize='-O2',
cppflags='-D_REENTRANT -D_GNU_SOURCE -fwrapv -fno-strict-aliasing -pipe -fstack-protector-strong -I/usr/local/include'
ccversion='', gccversion='4.9.2', gccosandvers=''
intsize=4, longsize=8, ptrsize=8, doublesize=8, byteorder=12345678, doublekind=3
d_longlong=define, longlongsize=8, d_longdbl=define, longdblsize=16, longdblkind=3
ivtype='long', ivsize=8, nvtype='double', nvsize=8, Off_t='off_t', lseeksize=8
alignbytes=8, prototype=define
Linker and Libraries:
ld='cc', ldflags =' -fstack-protector-strong -L/usr/local/lib'
libpth=/usr/local/lib /usr/lib/gcc/x86_64-linux-gnu/4.9/include-fixed /usr/include/x86_64-linux-gnu /usr/lib /lib/x86_64-linux-gnu /lib/../lib /usr/lib/x86_64-linux-gnu /usr/lib/../lib /lib
libs=-lpthread -lnsl -lgdbm -ldb -ldl -lm -lcrypt -lutil -lc -lgdbm_compat
perllibs=-lpthread -lnsl -ldl -lm -lcrypt -lutil -lc
libc=libc-2.19.so, so=so, useshrplib=false, libperl=libperl.a
gnulibc_version='2.19'
Dynamic Linking:
dlsrc=dl_dlopen.xs, dlext=so, d_dlsymun=undef, ccdlflags='-Wl,-E'
cccdlflags='-fPIC', lddlflags='-shared -O2 -L/usr/local/lib -fstack-protector-strong'
Characteristics of this binary (from libperl):
Compile-time options: HAS_TIMES MULTIPLICITY PERLIO_LAYERS
PERL_DONT_CREATE_GVSV
PERL_HASH_FUNC_ONE_AT_A_TIME_HARD
PERL_IMPLICIT_CONTEXT PERL_MALLOC_WRAP
PERL_NEW_COPY_ON_WRITE PERL_PRESERVE_IVUV
PERL_USE_DEVEL USE_64_BIT_ALL USE_64_BIT_INT
USE_ITHREADS USE_LARGE_FILES USE_LOCALE
USE_LOCALE_COLLATE USE_LOCALE_CTYPE
USE_LOCALE_NUMERIC USE_LOCALE_TIME USE_PERLIO
USE_PERL_ATOF USE_REENTRANT_API
Built under linux
Compiled at Mar 15 2015 02:26:42
%ENV:
PERL5LIB=""
PERL5OPT=""
PERL5_CPANPLUS_IS_RUNNING="23685"
PERL5_CPAN_IS_RUNNING="23685"
PERL_MM_USE_DEFAULT="1"
@INC:
/home/sand/src/perl/repoperls/installed-perls/perl/v5.21.8/8005/lib/site_perl/5.21.8/x86_64-linux-thread-multi
/home/sand/src/perl/repoperls/installed-perls/perl/v5.21.8/8005/lib/site_perl/5.21.8
/home/sand/src/perl/repoperls/installed-perls/perl/v5.21.8/8005/lib/5.21.8/x86_64-linux-thread-multi
/home/sand/src/perl/repoperls/installed-perls/perl/v5.21.8/8005/lib/5.21.8
.