Back
From: metabase:user:314402c4-2aae-11df-837a-5e0a49663a4f
Subject: PASS Test-File-Content-1.0.1 v5.12.4 RC2 FreeBSD
Date: 2011-06-20T03:45:02Z
This distribution has been tested as part of the CPAN Testers
project, supporting the Perl programming language. See
http://wiki.cpantesters.org/ for more information or email
questions to cpan-testers-discuss@perl.org
--
Dear Moritz Onken,
This is a computer-generated report for Test-File-Content-1.0.1
on perl 5.12.4, created by CPAN-Reporter-1.1902.
Thank you for uploading your work to CPAN. Congratulations!
All tests were successful.
Sections of this report:
* Tester comments
* Program output
* Prerequisites
* Environment and other context
------------------------------
TESTER COMMENTS
------------------------------
Additional comments from tester:
none provided
------------------------------
PROGRAM OUTPUT
------------------------------
Output from './Build test':
t/00-compile.t ................ ok
#
#
# perl: v5.12.4 (wanted any version) on freebsd from /usr/home/cpansand/var/ctps/5124RC2/install/perl-v5.12.4-RC2/bin/perl
#
# Exporter => 5.64_01 (want any version)
# File::Find => 1.15 (want any version)
# File::Temp => 0.22 (want any version)
# Module::Build => 0.38 (want 0.3601)
# Path::Class::File => 0.24 (want 0.23)
# Test::Harness => 3.23 (want 3.22)
# Test::More => 0.98 (want 0.96)
#
# Thanks for using my code. I hope it works for you.
# If not, please try and include this output in the bug report.
# That will help me reproduce the issue and solve you problem.
#
t/000-report-versions-tiny.t .. ok
# Failed test 't/code/test.pm'
# at /var/tmp/CPAN-build/Test-File-Content-1.0.1-4fZaC9/blib/lib/Test/File/Content.pm line 100.
# make_immutable found in t/code/test.pm line 10
# Failed test 't/code/test.js'
# at /var/tmp/CPAN-build/Test-File-Content-1.0.1-4fZaC9/blib/lib/Test/File/Content.pm line 100.
# console.log found in t/code/test.js line 1
# console.log found in t/code/test.js line 2
# Failed test 't/code/test.js'
# at /var/tmp/CPAN-build/Test-File-Content-1.0.1-4fZaC9/blib/lib/Test/File/Content.pm line 100.
# file t/code/test.js does not contain make_immutable
# Failed test 't/code/test.js'
# at /var/tmp/CPAN-build/Test-File-Content-1.0.1-4fZaC9/blib/lib/Test/File/Content.pm line 100.
# file t/code/test.js does not contain make_immutable
# Failed test 't/code/test.tt'
# at /var/tmp/CPAN-build/Test-File-Content-1.0.1-4fZaC9/blib/lib/Test/File/Content.pm line 100.
# file t/code/test.tt does not contain make_immutable
# Looks like you failed 5 tests of 15.
t/output.t .................... ok
t/release-has-version.t ....... skipped: these tests are for release candidate testing
t/release-kwalitee.t .......... skipped: these tests are for release candidate testing
t/release-minimum-version.t ... skipped: these tests are for release candidate testing
t/release-pod-coverage.t ...... skipped: these tests are for release candidate testing
t/release-pod-syntax.t ........ skipped: these tests are for release candidate testing
t/release-portability.t ....... skipped: these tests are for release candidate testing
All tests successful.
Files=9, Tests=6, 1 wallclock secs ( 0.04 usr 0.04 sys + 0.62 cusr 0.13 csys = 0.83 CPU)
Result: PASS
------------------------------
PREREQUISITES
------------------------------
Prerequisite modules loaded:
requires:
Module Need Have
----------------- ------ -------
Exporter 0 5.64_01
File::Find 0 1.15
Path::Class::File 0.23 0.24
Test::Harness 3.22 3.23
Test::More 0.96 0.98
build_requires:
Module Need Have
----------------- ------ -------
File::Temp 0 0.22
Module::Build 0.3601 0.3800
Test::Harness 0 3.23
Test::More 0.88 0.98
configure_requires:
Module Need Have
----------------- ------ -------
Module::Build 0.3601 0.3800
------------------------------
ENVIRONMENT AND OTHER CONTEXT
------------------------------
Environment variables:
DBIC_NO_WARN_BAD_PERL = 1
PATH = /usr/local/bin:/usr/X11R6/bin:/usr/X11/bin:/usr/perl5.8.0/bin:/usr/bin:/bin:/usr/local/sbin:/usr/sbin:/sbin:/usr/local/pilot/bin:/home/cpansand/bin/freebsd8.0:/home/cpansand/bin/sh:/home/cpansand/bin:/usr/X386/bin:/usr/games:/home/cpansand/devel:/usr/home/e/eserte/src/perl/CPAN-Testers-ParallelSmoker/utils
PERL5LIB =
PERL5OPT =
PERL5_CPANPLUS_IS_RUNNING = 75211
PERL5_CPAN_IS_RUNNING = 75211
PERL5_CPAN_IS_RUNNING_IN_RECURSION = 44856,75211
PERL_BATCH = yes
PERL_CPAN_REPORTER_DIR = /home/cpansand/var/ctps/5124RC2/config/perl-v5.12.4-RC2/cpanreporter
PERL_EXTUTILS_AUTOINSTALL = --defaultdeps
PERL_HTML_DISPLAY_CLASS = HTML::Display::Mozilla
PERL_PARALLEL_SMOKER = yes
SHELL = /usr/local/bin/zsh
TERM = xterm
TMPDIR = /var/tmp/cpansmoker-1023
Perl special variables (and OS-specific diagnostics, for MSWin32):
$^X = /usr/home/cpansand/var/ctps/5124RC2/install/perl-v5.12.4-RC2/bin/perl
$UID/$EUID = 1023 / 1023
$GID = 1023 1023
$EGID = 1023 1023
Perl module toolchain versions installed:
Module Have
------------------- --------
CPAN 1.94_56
Cwd 3.33
ExtUtils::CBuilder 0.280202
ExtUtils::Command 1.17
ExtUtils::Install 1.55
ExtUtils::MakeMaker 6.56
ExtUtils::Manifest 1.57
ExtUtils::ParseXS 2.2206
File::Spec 3.33
Module::Build 0.3800
Module::Signature 0.68
Test::Harness 3.23
Test::More 0.98
YAML 0.73
YAML::Syck 1.17
version 0.91
--
Summary of my perl5 (revision 5 version 12 subversion 4) configuration:
Commit id: 5c26f8f6953ad4f9517732ac321914c726d7ec9d
Platform:
osname=freebsd, osvers=8.0-release-p4, archname=i386-freebsd
uname='freebsd biokovo.herceg.de 8.0-release-p4 freebsd 8.0-release-p4 #0: mon jul 12 20:22:27 utc 2010 root@i386-builder.daemonology.net:usrobjusrsrcsysgeneric i386 '
config_args='-ds -e -Uversiononly -Dinstallusrbinperl=n -Dusedevel -Dprefix=/home/cpansand/var/ctps/5124RC2/install/perl-v5.12.4-RC2'
hint=recommended, useposix=true, d_sigaction=define
useithreads=undef, usemultiplicity=undef
useperlio=define, d_sfio=undef, uselargefiles=define, usesocks=undef
use64bitint=undef, use64bitall=undef, uselongdouble=undef
usemymalloc=n, bincompat5005=undef
Compiler:
cc='cc', ccflags ='-DHAS_FPSETMASK -DHAS_FLOATINGPOINT_H -fno-strict-aliasing -pipe -fstack-protector -I/usr/local/include',
optimize='-O',
cppflags='-DHAS_FPSETMASK -DHAS_FLOATINGPOINT_H -fno-strict-aliasing -pipe -fstack-protector -I/usr/local/include'
ccversion='', gccversion='4.2.1 20070719 [FreeBSD]', gccosandvers=''
intsize=4, longsize=4, ptrsize=4, doublesize=8, byteorder=1234
d_longlong=define, longlongsize=8, d_longdbl=define, longdblsize=12
ivtype='long', ivsize=4, nvtype='double', nvsize=8, Off_t='off_t', lseeksize=8
alignbytes=4, prototype=define
Linker and Libraries:
ld='cc', ldflags ='-Wl,-E -fstack-protector -L/usr/local/lib'
libpth=/usr/lib /usr/local/lib
libs=-lgdbm -lm -lcrypt -lutil -lc
perllibs=-lm -lcrypt -lutil -lc
libc=, so=so, useshrplib=false, libperl=libperl.a
gnulibc_version=''
Dynamic Linking:
dlsrc=dl_dlopen.xs, dlext=so, d_dlsymun=undef, ccdlflags=' '
cccdlflags='-DPIC -fPIC', lddlflags='-shared -L/usr/local/lib -fstack-protector'
Characteristics of this binary (from libperl):
Compile-time options: PERL_DONT_CREATE_GVSV PERL_MALLOC_WRAP PERL_USE_DEVEL
USE_LARGE_FILES USE_PERLIO USE_PERL_ATOF
Locally applied patches:
RC2
Built under freebsd
Compiled at Jun 18 2011 12:17:44
%ENV:
PERL5LIB=""
PERL5OPT=""
PERL5_CPANPLUS_IS_RUNNING="75211"
PERL5_CPAN_IS_RUNNING="75211"
PERL5_CPAN_IS_RUNNING_IN_RECURSION="44856,75211"
PERL_BATCH="yes"
PERL_CPAN_REPORTER_DIR="/home/cpansand/var/ctps/5124RC2/config/perl-v5.12.4-RC2/cpanreporter"
PERL_EXTUTILS_AUTOINSTALL="--defaultdeps"
PERL_HTML_DISPLAY_CLASS="HTML::Display::Mozilla"
PERL_PARALLEL_SMOKER="yes"
@INC:
/home/cpansand/var/ctps/5124RC2/install/perl-v5.12.4-RC2/lib/site_perl/5.12.4/i386-freebsd
/home/cpansand/var/ctps/5124RC2/install/perl-v5.12.4-RC2/lib/site_perl/5.12.4
/home/cpansand/var/ctps/5124RC2/install/perl-v5.12.4-RC2/lib/5.12.4/i386-freebsd
/home/cpansand/var/ctps/5124RC2/install/perl-v5.12.4-RC2/lib/5.12.4
.