CatalystX-CRUD-YUI v0.031 Perl 5 v5.33.1 x86_64-linux
- Status
- Pass
- From
- Andreas J. König (ANDK)
- Dist
-
CatalystX-CRUD-YUI v0.031
- Platform
- Perl 5 v5.33.1 x86_64-linux
- Date
- 2020-08-24 14:04:08
- ID
- addaa740-e612-11ea-a6b0-c58c1c6865b8
This distribution has been tested as part of the CPAN Testers
project, supporting the Perl programming language. See
http://wiki.cpantesters.org/ for more information or email
questions to cpan-testers-discuss@perl.org
--
Dear Peter Karman,
This is a computer-generated report for CatalystX-CRUD-YUI-0.031
on perl 5.33.1, created by CPAN-Reporter-1.2018.
Thank you for uploading your work to CPAN. Congratulations!
All tests were successful.
Sections of this report:
* Tester comments
* Program output
* Prerequisites
* Environment and other context
------------------------------
TESTER COMMENTS
------------------------------
Additional comments from tester:
this report is from an automated smoke testing program
and was not reviewed by a human for accuracy
------------------------------
PROGRAM OUTPUT
------------------------------
Output from '/usr/bin/make test':
PERL_DL_NONLAZY=1 "/tmp/basesmoker-reloperl-F1PL/bin/perl" "-MExtUtils::Command::MM" "-MTest::Harness" "-e" "undef *Test::Harness::Switches; test_harness(0, 'inc', 'blib/lib', 'blib/arch')" t/*.t
# Testing CatalystX::CRUD::YUI 0.031
# Testing Catalyst::Runtime 5.90126
t/00-load.t ....... ok
t/01-rdbo.t ....... ok
Can't locate DBIx/Class/RDBOHelpers.pm in @INC (you may need to install the DBIx::Class::RDBOHelpers module) (@INC contains: t/MyDBIC/lib ../Rose-HTMLx-Form-Related/lib /tmp/loop_over_bdir-4175-jsDdE1/CatalystX-CRUD-YUI-0.031-0/inc /tmp/loop_over_bdir-4175-jsDdE1/CatalystX-CRUD-YUI-0.031-0/blib/lib /tmp/loop_over_bdir-4175-jsDdE1/CatalystX-CRUD-YUI-0.031-0/blib/arch /tmp/loop_over_bdir-4175-jsDdE1/DBIx-Migration-Directories-0.12-0/blib/arch /tmp/loop_over_bdir-4175-jsDdE1/DBIx-Migration-Directories-0.12-0/blib/lib /tmp/loop_over_bdir-4175-jsDdE1/Net-OpenVPN-DDNS-0.1-0/blib/arch /tmp/loop_over_bdir-4175-jsDdE1/Net-OpenVPN-DDNS-0.1-0/blib/lib /home/sand/src/perl/repoperls/installed-perls/host/k93bionic/v5.33.1/2aaf/lib/site_perl/5.33.1/x86_64-linux /home/sand/src/perl/repoperls/installed-perls/host/k93bionic/v5.33.1/2aaf/lib/site_perl/5.33.1 /home/sand/src/perl/repoperls/installed-perls/host/k93bionic/v5.33.1/2aaf/lib/5.33.1/x86_64-linux /home/sand/src/perl/repoperls/installed-perls/host/k93bionic/v5.33.1/2aaf/lib/5.33.1 .) at (eval 15) line 1.
BEGIN failed--compilation aborted at (eval 15) line 1.
t/02-dbic.t ....... ok
Subroutine URI::TO_JSON redefined at /home/sand/src/perl/repoperls/installed-perls/host/k93bionic/v5.33.1/2aaf/lib/site_perl/5.33.1/Template/Plugin/Handy.pm line 55.
t/pod-coverage.t .. ok
t/pod.t ........... ok
All tests successful.
Files=5, Tests=40, 1 wallclock secs ( 0.02 usr 0.03 sys + 1.44 cusr 0.24 csys = 1.73 CPU)
Result: PASS
------------------------------
PREREQUISITES
------------------------------
Prerequisite modules loaded:
requires:
Module Need Have
----------------------------------- -------- --------
Catalyst::Action::RenderView 0 0.16
Catalyst::Plugin::ConfigLoader 0 0.35
Catalyst::Plugin::Static::Simple 0 0.36
Catalyst::View::TT 0 0.45
CatalystX::CRUD 0.53 0.57
CatalystX::CRUD::Controller::RHTMLO 0.19 0.20
CatalystX::CRUD::View::Excel 0.06 0.07
Class::Inspector 0 1.36
Config::General 0 2.63
JSON::XS 2.23 4.02
MRO::Compat 0 0.13
Path::Class 0 0.37
perl 5.008003 5.033001
Rose::HTMLx::Form::Related 0.17 0.24
Scalar::Util 0 1.55
Search::Tools 1.000 1.007
Template 0 3.009
Template::Plugin::Autoformat 2.75 2.77
Template::Plugin::Handy 0.002 0.003
Test::More 0 1.302177
Text::Autoformat 0 1.75
build_requires:
Module Need Have
----------------------------------- -------- --------
ExtUtils::MakeMaker 6.59 7.46
configure_requires:
Module Need Have
----------------------------------- -------- --------
ExtUtils::MakeMaker 6.59 7.46
opt_requires:
Module Need Have
----------------------------------- -------- --------
CatalystX::CRUD::Model::RDBO 0.23 0.302
! CatalystX::CRUD::ModelAdapter::DBIC 0.08 n/a
! DBIx::Class::RDBOHelpers 0.08 n/a
Rose::DBx::Object::MoreHelpers 0.06 0.100
------------------------------
ENVIRONMENT AND OTHER CONTEXT
------------------------------
Environment variables:
AUTOMATED_TESTING = 1
LANG = en_US.utf8
PATH = /home/sand/bin:/usr/local/bin:/usr/local/sbin:/usr/sbin:/usr/bin:/sbin:/bin:/usr/games:/usr/local/games:/usr/local/perl/bin:/usr/X11/bin
PERL = /tmp/basesmoker-reloperl-F1PL/bin/perl
PERL5LIB = /tmp/loop_over_bdir-4175-jsDdE1/DBIx-Migration-Directories-0.12-0/blib/arch:/tmp/loop_over_bdir-4175-jsDdE1/DBIx-Migration-Directories-0.12-0/blib/lib:/tmp/loop_over_bdir-4175-jsDdE1/Net-OpenVPN-DDNS-0.1-0/blib/arch:/tmp/loop_over_bdir-4175-jsDdE1/Net-OpenVPN-DDNS-0.1-0/blib/lib
PERL5OPT =
PERL5_CPANPLUS_IS_RUNNING = 4183
PERL5_CPAN_IS_RUNNING = 4183
PERL_CANARY_STABILITY_NOPROMPT = 1
PERL_MM_USE_DEFAULT = 1
PERL_USE_UNSAFE_INC = 1
SHELL = /usr/bin/zsh
TERM = screen
Perl special variables (and OS-specific diagnostics, for MSWin32):
$^X = /tmp/basesmoker-reloperl-F1PL/bin/perl
$UID/$EUID = 1005 / 1005
$GID = 1005 1005
$EGID = 1005 1005
Perl module toolchain versions installed:
Module Have
------------------- --------
CPAN 2.28
CPAN::Meta 2.150010
Cwd 3.78
ExtUtils::CBuilder 0.280234
ExtUtils::Command 7.46
ExtUtils::Install 2.14
ExtUtils::MakeMaker 7.46
ExtUtils::Manifest 1.72
ExtUtils::ParseXS 3.41
File::Spec 3.78
JSON 4.02
JSON::PP 4.05
Module::Build 0.4231
Module::Signature 0.87
Parse::CPAN::Meta 2.150010
Test::Harness 3.42
Test::More 1.302177
YAML 1.30
YAML::Syck 1.32
version 0.9927
--
Summary of my perl5 (revision 5 version 33 subversion 1) configuration:
Commit id: b69b5077393db9b8ffa440eba15b27073cbac617
Platform:
osname=linux
osvers=4.15.0-112-generic
archname=x86_64-linux
uname='linux k93bionic 4.15.0-112-generic #113-ubuntu smp thu jul 9 23:41:39 utc 2020 x86_64 x86_64 x86_64 gnulinux '
config_args='-Dprefix=/home/sand/src/perl/repoperls/installed-perls/host/k93bionic/v5.33.1/2aaf -Dmyhostname=k93bionic -Dinstallusrbinperl=n -Uversiononly -Dusedevel -des -Ui_db -Dlibswanted=cl pthread socket inet nsl gdbm dbm malloc dl ld sun m crypt sec util c cposix posix ucb BSD gdbm_compat -Uuseithreads -Uuselongdouble -DEBUGGING=-g'
hint=recommended
useposix=true
d_sigaction=define
useithreads=undef
usemultiplicity=undef
use64bitint=define
use64bitall=define
uselongdouble=undef
usemymalloc=n
default_inc_excludes_dot=define
Compiler:
cc='cc'
ccflags ='-fwrapv -fno-strict-aliasing -pipe -fstack-protector-strong -I/usr/local/include -D_LARGEFILE_SOURCE -D_FILE_OFFSET_BITS=64'
optimize='-O2 -g'
cppflags='-fwrapv -fno-strict-aliasing -pipe -fstack-protector-strong -I/usr/local/include'
ccversion=''
gccversion='7.5.0'
gccosandvers=''
intsize=4
longsize=8
ptrsize=8
doublesize=8
byteorder=12345678
doublekind=3
d_longlong=define
longlongsize=8
d_longdbl=define
longdblsize=16
longdblkind=3
ivtype='long'
ivsize=8
nvtype='double'
nvsize=8
Off_t='off_t'
lseeksize=8
alignbytes=8
prototype=define
Linker and Libraries:
ld='cc'
ldflags =' -fstack-protector-strong -L/usr/local/lib'
libpth=/usr/local/lib /usr/lib/gcc/x86_64-linux-gnu/7/include-fixed /usr/include/x86_64-linux-gnu /usr/lib /lib/x86_64-linux-gnu /lib/../lib /usr/lib/x86_64-linux-gnu /usr/lib/../lib /lib
libs=-lpthread -lnsl -ldl -lm -lcrypt -lutil -lc
perllibs=-lpthread -lnsl -ldl -lm -lcrypt -lutil -lc
libc=libc-2.27.so
so=so
useshrplib=false
libperl=libperl.a
gnulibc_version='2.27'
Dynamic Linking:
dlsrc=dl_dlopen.xs
dlext=so
d_dlsymun=undef
ccdlflags='-Wl,-E'
cccdlflags='-fPIC'
lddlflags='-shared -O2 -g -L/usr/local/lib -fstack-protector-strong'
Characteristics of this binary (from libperl):
Compile-time options:
HAS_TIMES
PERLIO_LAYERS
PERL_COPY_ON_WRITE
PERL_DONT_CREATE_GVSV
PERL_MALLOC_WRAP
PERL_OP_PARENT
PERL_PRESERVE_IVUV
PERL_USE_DEVEL
USE_64_BIT_ALL
USE_64_BIT_INT
USE_LARGE_FILES
USE_LOCALE
USE_LOCALE_COLLATE
USE_LOCALE_CTYPE
USE_LOCALE_NUMERIC
USE_LOCALE_TIME
USE_PERLIO
USE_PERL_ATOF
Built under linux
Compiled at Aug 21 2020 20:10:37
%ENV:
PERL="/tmp/basesmoker-reloperl-F1PL/bin/perl"
PERL5LIB="/tmp/loop_over_bdir-4175-jsDdE1/DBIx-Migration-Directories-0.12-0/blib/arch:/tmp/loop_over_bdir-4175-jsDdE1/DBIx-Migration-Directories-0.12-0/blib/lib:/tmp/loop_over_bdir-4175-jsDdE1/Net-OpenVPN-DDNS-0.1-0/blib/arch:/tmp/loop_over_bdir-4175-jsDdE1/Net-OpenVPN-DDNS-0.1-0/blib/lib"
PERL5OPT=""
PERL5_CPANPLUS_IS_RUNNING="4183"
PERL5_CPAN_IS_RUNNING="4183"
PERL_CANARY_STABILITY_NOPROMPT="1"
PERL_MM_USE_DEFAULT="1"
PERL_USE_UNSAFE_INC="1"
@INC:
/tmp/loop_over_bdir-4175-jsDdE1/DBIx-Migration-Directories-0.12-0/blib/arch
/tmp/loop_over_bdir-4175-jsDdE1/DBIx-Migration-Directories-0.12-0/blib/lib
/tmp/loop_over_bdir-4175-jsDdE1/Net-OpenVPN-DDNS-0.1-0/blib/arch
/tmp/loop_over_bdir-4175-jsDdE1/Net-OpenVPN-DDNS-0.1-0/blib/lib
/home/sand/src/perl/repoperls/installed-perls/host/k93bionic/v5.33.1/2aaf/lib/site_perl/5.33.1/x86_64-linux
/home/sand/src/perl/repoperls/installed-perls/host/k93bionic/v5.33.1/2aaf/lib/site_perl/5.33.1
/home/sand/src/perl/repoperls/installed-perls/host/k93bionic/v5.33.1/2aaf/lib/5.33.1/x86_64-linux
/home/sand/src/perl/repoperls/installed-perls/host/k93bionic/v5.33.1/2aaf/lib/5.33.1
.