Back
From: metabase:user:36efa2dc-e26e-11df-be38-c8ca72de969e
Subject: PASS HTML-Tiny-1.05 v5.12.2 GNU/Linux
Date: 2010-10-28T19:29:27Z
This distribution has been tested as part of the CPAN Testers
project, supporting the Perl programming language. See
http://wiki.cpantesters.org/ for more information or email
questions to cpan-testers-discuss@perl.org
--
Dear Andy Armstrong,
This is a computer-generated report for HTML-Tiny-1.05
on perl 5.12.2, created by CPAN-Reporter-1.1803.
Thank you for uploading your work to CPAN. Congratulations!
All tests were successful.
Sections of this report:
* Tester comments
* Program output
* Prerequisites
* Environment and other context
------------------------------
TESTER COMMENTS
------------------------------
Additional comments from tester:
none provided
------------------------------
PROGRAM OUTPUT
------------------------------
Output from '/usr/bin/make test':
PERL_DL_NONLAZY=1 /home/hudson/.perl5/5.12.2/core/bin/perl "-MExtUtils::Command::MM" "-e" "test_harness(0, 'blib/lib', 'blib/arch')" t/*.t
# Testing HTML::Tiny 1.05
t/000-load.t .......... ok
t/010-simple.t ........ ok
t/020-coverage.t ...... ok
t/030-tags.t .......... ok
t/040-lazy.t .......... ok
t/050-validate_tag.t .. ok
All tests successful.
Files=6, Tests=2277, 1 wallclock secs ( 0.80 usr 0.04 sys + 1.29 cusr 0.08 csys = 2.21 CPU)
Result: PASS
------------------------------
PREREQUISITES
------------------------------
Prerequisite modules loaded:
requires:
Module Need Have
------------------- ---- ----
Test::More 0 0.96
configure_requires:
Module Need Have
------------------- ---- ----
ExtUtils::MakeMaker 0 6.56
------------------------------
ENVIRONMENT AND OTHER CONTEXT
------------------------------
Environment variables:
LANG = en_US.UTF-8
PATH = /home/hudson/.perl5/current/local/bin:/home/hudson/.perl5/current/core/bin:/usr/local/git/bin:/home/hudson/.perl5/current/local/bin:/home/hudson/.perl5/current/core/bin:/usr/local/git/bin:/usr/kerberos/bin:/usr/local/bin:/bin:/usr/bin:/home/hudson/bin
PERL = /home/hudson/.perl5/5.12.2/core/bin/perl
PERL5LIB = /home/hudson/.perl5/current/local/lib/perl5/i686-linux:/home/hudson/.perl5/current/local/lib/perl5:/home/hudson/.perl5/current/local/lib/perl5/i686-linux:/home/hudson/.perl5/current/local/lib/perl5
PERL5OPT =
PERL5_CPANPLUS_IS_RUNNING = 17929
PERL5_CPAN_IS_RUNNING = 17929
PERL_MM_OPT = INSTALL_BASE=/home/hudson/.perl5/current/local
PERL_MM_USE_DEFAULT = 1
SHELL = /bin/bash
TERM = screen
Perl special variables (and OS-specific diagnostics, for MSWin32):
$^X = /home/hudson/.perl5/5.12.2/core/bin/perl
$UID/$EUID = 501 / 501
$GID = 501 501
$EGID = 501 501
Perl module toolchain versions installed:
Module Have
------------------- -------
CPAN 1.94_56
Cwd 3.31
ExtUtils::CBuilder 0.2703
ExtUtils::Command 1.16
ExtUtils::Install 1.55
ExtUtils::MakeMaker 6.56
ExtUtils::Manifest 1.57
ExtUtils::ParseXS 2.21
File::Spec 3.31_01
Module::Build 0.3603
Module::Signature n/a
Test::Harness 3.22
Test::More 0.96
YAML 0.72
YAML::Syck n/a
version 0.85
--
Summary of my perl5 (revision 5 version 12 subversion 2) configuration:
Platform:
osname=linux, osvers=2.6.18-194.el5, archname=i686-linux
uname='linux d003.h.gncd.net 2.6.18-194.el5 #1 smp fri apr 2 14:58:35 edt 2010 i686 i686 i386 gnulinux '
config_args='-des -Dprefix=/home/hudson/.perl5/5.12.2/core'
hint=recommended, useposix=true, d_sigaction=define
useithreads=undef, usemultiplicity=undef
useperlio=define, d_sfio=undef, uselargefiles=define, usesocks=undef
use64bitint=undef, use64bitall=undef, uselongdouble=undef
usemymalloc=n, bincompat5005=undef
Compiler:
cc='cc', ccflags ='-fno-strict-aliasing -pipe -fstack-protector -I/usr/local/include -D_LARGEFILE_SOURCE -D_FILE_OFFSET_BITS=64',
optimize='-O2',
cppflags='-fno-strict-aliasing -pipe -fstack-protector -I/usr/local/include'
ccversion='', gccversion='4.1.2 20080704 (Red Hat 4.1.2-48)', gccosandvers=''
intsize=4, longsize=4, ptrsize=4, doublesize=8, byteorder=1234
d_longlong=define, longlongsize=8, d_longdbl=define, longdblsize=12
ivtype='long', ivsize=4, nvtype='double', nvsize=8, Off_t='off_t', lseeksize=8
alignbytes=4, prototype=define
Linker and Libraries:
ld='cc', ldflags =' -fstack-protector -L/usr/local/lib'
libpth=/usr/local/lib /lib /usr/lib
libs=-lnsl -ldl -lm -lcrypt -lutil -lc
perllibs=-lnsl -ldl -lm -lcrypt -lutil -lc
libc=/lib/libc-2.5.so, so=so, useshrplib=false, libperl=libperl.a
gnulibc_version='2.5'
Dynamic Linking:
dlsrc=dl_dlopen.xs, dlext=so, d_dlsymun=undef, ccdlflags='-Wl,-E'
cccdlflags='-fPIC', lddlflags='-shared -O2 -L/usr/local/lib -fstack-protector'
Characteristics of this binary (from libperl):
Compile-time options: PERL_DONT_CREATE_GVSV PERL_MALLOC_WRAP
USE_LARGE_FILES USE_PERLIO USE_PERL_ATOF
Built under linux
Compiled at Oct 28 2010 08:08:52
%ENV:
PERL="/home/hudson/.perl5/5.12.2/core/bin/perl"
PERL5LIB="/home/hudson/.perl5/current/local/lib/perl5/i686-linux:/home/hudson/.perl5/current/local/lib/perl5:/home/hudson/.perl5/current/local/lib/perl5/i686-linux:/home/hudson/.perl5/current/local/lib/perl5"
PERL5OPT=""
PERL5_CPANPLUS_IS_RUNNING="17929"
PERL5_CPAN_IS_RUNNING="17929"
PERL_MM_OPT="INSTALL_BASE=/home/hudson/.perl5/current/local"
PERL_MM_USE_DEFAULT="1"
@INC:
/home/hudson/.perl5/current/local/lib/perl5/i686-linux
/home/hudson/.perl5/current/local/lib/perl5/i686-linux
/home/hudson/.perl5/current/local/lib/perl5
/home/hudson/.perl5/current/local/lib/perl5/i686-linux
/home/hudson/.perl5/current/local/lib/perl5/i686-linux
/home/hudson/.perl5/current/local/lib/perl5
/home/hudson/.perl5/5.12.2/core/lib/site_perl/5.12.2/i686-linux
/home/hudson/.perl5/5.12.2/core/lib/site_perl/5.12.2
/home/hudson/.perl5/5.12.2/core/lib/5.12.2/i686-linux
/home/hudson/.perl5/5.12.2/core/lib/5.12.2
.