HTML-Template-Parser v0.1011 Perl 5 v5.27.3 x86_64-linux

Status
Pass
From
Andreas J. König (ANDK)
Dist
HTML-Template-Parser v0.1011
Platform
Perl 5 v5.27.3 x86_64-linux
Date
2017-09-02 06:40:58
ID
ade284a0-8fa9-11e7-a66c-0772aa36c8ed
This distribution has been tested as part of the CPAN Testers
project, supporting the Perl programming language.  See
http://wiki.cpantesters.org/ for more information or email
questions to cpan-testers-discuss@perl.org


--
Dear Shigeki Morimoto,

This is a computer-generated report for HTML-Template-Parser-0.1011
on perl 5.27.3, created by CPAN-Reporter-1.2018.

Thank you for uploading your work to CPAN.  Congratulations!
All tests were successful.

Sections of this report:

    * Tester comments
    * Program output
    * Prerequisites
    * Environment and other context

------------------------------
TESTER COMMENTS
------------------------------

Additional comments from tester:

this report is from an automated smoke testing program
and was not reviewed by a human for accuracy

------------------------------
PROGRAM OUTPUT
------------------------------

Output from '/usr/bin/make test':

PERL_DL_NONLAZY=1 "/tmp/basesmoker-reloperl-19uY/bin/perl" "-MExtUtils::Command::MM" "-MTest::Harness" "-e" "undef *Test::Harness::Switches; test_harness(0, 'inc', 'blib/lib', 'blib/arch')" t/*.t t/010_expr_parser/*.t t/020_template_parser/*.t t/030_tree_writer/010_htp/*.t t/030_tree_writer/020_textxslate_metakolon/*.t t/900_bug/*.t
t/000_load.t .............................................................. ok
t/010_expr_parser/001_use.t ............................................... ok
t/010_expr_parser/002_error.t ............................................. ok
t/010_expr_parser/003_number.t ............................................ ok
t/010_expr_parser/004_string.t ............................................ ok
t/010_expr_parser/005_variable.t .......................................... ok
t/010_expr_parser/006_not.t ............................................... ok
t/010_expr_parser/007_match.t ............................................. ok
t/010_expr_parser/008_math.t .............................................. ok
t/010_expr_parser/009_compare.t ........................................... ok
t/010_expr_parser/010_andor.t ............................................. ok
t/010_expr_parser/011_complex.t ........................................... ok
t/020_template_parser/001_use.t ........................................... ok
t/020_template_parser/002_error.t ......................................... ok
t/020_template_parser/003_to_list.t ....................................... ok
t/020_template_parser/004_to_tree.t ....................................... ok
t/030_tree_writer/010_htp/001_use.t ....................................... ok
t/030_tree_writer/010_htp/002_write.t ..................................... ok
t/030_tree_writer/020_textxslate_metakolon/001_use.t ...................... ok
Use of uninitialized value in lc at /tmp/loop_over_bdir-6284-o8MwVi/HTML-Template-Parser-0.1011-0/blib/lib/HTML/Template/Parser/TreeWriter/TextXslate/Metakolon.pm line 58.
Use of uninitialized value in lc at /tmp/loop_over_bdir-6284-o8MwVi/HTML-Template-Parser-0.1011-0/blib/lib/HTML/Template/Parser/TreeWriter/TextXslate/Metakolon.pm line 58.
Use of uninitialized value in lc at /tmp/loop_over_bdir-6284-o8MwVi/HTML-Template-Parser-0.1011-0/blib/lib/HTML/Template/Parser/TreeWriter/TextXslate/Metakolon.pm line 58.
Use of uninitialized value in lc at /tmp/loop_over_bdir-6284-o8MwVi/HTML-Template-Parser-0.1011-0/blib/lib/HTML/Template/Parser/TreeWriter/TextXslate/Metakolon.pm line 58.
Use of uninitialized value in lc at /tmp/loop_over_bdir-6284-o8MwVi/HTML-Template-Parser-0.1011-0/blib/lib/HTML/Template/Parser/TreeWriter/TextXslate/Metakolon.pm line 58.
Use of uninitialized value in lc at /tmp/loop_over_bdir-6284-o8MwVi/HTML-Template-Parser-0.1011-0/blib/lib/HTML/Template/Parser/TreeWriter/TextXslate/Metakolon.pm line 58.
Use of uninitialized value in lc at /tmp/loop_over_bdir-6284-o8MwVi/HTML-Template-Parser-0.1011-0/blib/lib/HTML/Template/Parser/TreeWriter/TextXslate/Metakolon.pm line 58.
Use of uninitialized value in lc at /tmp/loop_over_bdir-6284-o8MwVi/HTML-Template-Parser-0.1011-0/blib/lib/HTML/Template/Parser/TreeWriter/TextXslate/Metakolon.pm line 58.
Use of uninitialized value in lc at /tmp/loop_over_bdir-6284-o8MwVi/HTML-Template-Parser-0.1011-0/blib/lib/HTML/Template/Parser/TreeWriter/TextXslate/Metakolon.pm line 58.
Use of uninitialized value in lc at /tmp/loop_over_bdir-6284-o8MwVi/HTML-Template-Parser-0.1011-0/blib/lib/HTML/Template/Parser/TreeWriter/TextXslate/Metakolon.pm line 58.
Use of uninitialized value in lc at /tmp/loop_over_bdir-6284-o8MwVi/HTML-Template-Parser-0.1011-0/blib/lib/HTML/Template/Parser/TreeWriter/TextXslate/Metakolon.pm line 58.
Use of uninitialized value in lc at /tmp/loop_over_bdir-6284-o8MwVi/HTML-Template-Parser-0.1011-0/blib/lib/HTML/Template/Parser/TreeWriter/TextXslate/Metakolon.pm line 58.
Use of uninitialized value in lc at /tmp/loop_over_bdir-6284-o8MwVi/HTML-Template-Parser-0.1011-0/blib/lib/HTML/Template/Parser/TreeWriter/TextXslate/Metakolon.pm line 58.
Use of uninitialized value in lc at /tmp/loop_over_bdir-6284-o8MwVi/HTML-Template-Parser-0.1011-0/blib/lib/HTML/Template/Parser/TreeWriter/TextXslate/Metakolon.pm line 58.
Use of uninitialized value in lc at /tmp/loop_over_bdir-6284-o8MwVi/HTML-Template-Parser-0.1011-0/blib/lib/HTML/Template/Parser/TreeWriter/TextXslate/Metakolon.pm line 58.
Use of uninitialized value in lc at /tmp/loop_over_bdir-6284-o8MwVi/HTML-Template-Parser-0.1011-0/blib/lib/HTML/Template/Parser/TreeWriter/TextXslate/Metakolon.pm line 58.
Use of uninitialized value in lc at /tmp/loop_over_bdir-6284-o8MwVi/HTML-Template-Parser-0.1011-0/blib/lib/HTML/Template/Parser/TreeWriter/TextXslate/Metakolon.pm line 58.
Use of uninitialized value in lc at /tmp/loop_over_bdir-6284-o8MwVi/HTML-Template-Parser-0.1011-0/blib/lib/HTML/Template/Parser/TreeWriter/TextXslate/Metakolon.pm line 58.
Use of uninitialized value in lc at /tmp/loop_over_bdir-6284-o8MwVi/HTML-Template-Parser-0.1011-0/blib/lib/HTML/Template/Parser/TreeWriter/TextXslate/Metakolon.pm line 58.
Use of uninitialized value in lc at /tmp/loop_over_bdir-6284-o8MwVi/HTML-Template-Parser-0.1011-0/blib/lib/HTML/Template/Parser/TreeWriter/TextXslate/Metakolon.pm line 58.
Use of uninitialized value in lc at /tmp/loop_over_bdir-6284-o8MwVi/HTML-Template-Parser-0.1011-0/blib/lib/HTML/Template/Parser/TreeWriter/TextXslate/Metakolon.pm line 58.
Use of uninitialized value in lc at /tmp/loop_over_bdir-6284-o8MwVi/HTML-Template-Parser-0.1011-0/blib/lib/HTML/Template/Parser/TreeWriter/TextXslate/Metakolon.pm line 58.
Use of uninitialized value in lc at /tmp/loop_over_bdir-6284-o8MwVi/HTML-Template-Parser-0.1011-0/blib/lib/HTML/Template/Parser/TreeWriter/TextXslate/Metakolon.pm line 58.
Use of uninitialized value in lc at /tmp/loop_over_bdir-6284-o8MwVi/HTML-Template-Parser-0.1011-0/blib/lib/HTML/Template/Parser/TreeWriter/TextXslate/Metakolon.pm line 58.
Use of uninitialized value in lc at /tmp/loop_over_bdir-6284-o8MwVi/HTML-Template-Parser-0.1011-0/blib/lib/HTML/Template/Parser/TreeWriter/TextXslate/Metakolon.pm line 58.
Use of uninitialized value in lc at /tmp/loop_over_bdir-6284-o8MwVi/HTML-Template-Parser-0.1011-0/blib/lib/HTML/Template/Parser/TreeWriter/TextXslate/Metakolon.pm line 58.
t/030_tree_writer/020_textxslate_metakolon/002_write.t .................... ok
t/030_tree_writer/020_textxslate_metakolon/003_replace_tempalte_suffix.t .. ok
t/030_tree_writer/020_textxslate_metakolon/004_wrap_include_target.t ...... ok
t/900_bug/001_not.t ....................................................... ok
t/900_bug/002_float.t ..................................................... ok
Unescaped left brace in regex is deprecated here (and will be fatal in Perl 5.30), passed through in regex; marked by <-- HERE in m/line 1. column 1. something wrong. Can't use \${ <-- HERE name} at NAME. \[\${foo}\]/ at t/900_bug/003_name_and_expr.t line 10.
Unescaped left brace in regex is deprecated here (and will be fatal in Perl 5.30), passed through in regex; marked by <-- HERE in m/line 1. column 1. something wrong. Can't use \${name} at NAME. \[\${ <-- HERE foo}\]/ at t/900_bug/003_name_and_expr.t line 10.
t/900_bug/003_name_and_expr.t ............................................. ok
All tests successful.
Files=25, Tests=238,  3 wallclock secs ( 0.07 usr  0.10 sys +  2.41 cusr  0.42 csys =  3.00 CPU)
Result: PASS

------------------------------
PREREQUISITES
------------------------------

Prerequisite modules loaded:

requires:

    Module                Need     Have    
    --------------------- -------- --------
    Class::Accessor::Fast 0        0.34    
    Parse::RecDescent     0        1.967015
    perl                  5.008001 5.027003
    YAML                  0        1.23    

build_requires:

    Module                Need     Have    
    --------------------- -------- --------
    ExtUtils::MakeMaker   6.59     7.30    

configure_requires:

    Module                Need     Have    
    --------------------- -------- --------
    ExtUtils::MakeMaker   6.59     7.30    


------------------------------
ENVIRONMENT AND OTHER CONTEXT
------------------------------

Environment variables:

    AUTOMATED_TESTING = 1
    LANG = en_US.UTF-8
    PATH = /home/sand/bin:/usr/local/bin:/usr/local/sbin:/usr/sbin:/usr/bin:/sbin:/bin:/usr/games:/usr/local/games:/usr/local/perl/bin:/usr/X11/bin
    PERL5LIB = 
    PERL5OPT = 
    PERL5_CPANPLUS_IS_RUNNING = 5588
    PERL5_CPAN_IS_RUNNING = 5588
    PERL_CANARY_STABILITY_NOPROMPT = 1
    PERL_MM_USE_DEFAULT = 1
    SHELL = /usr/bin/zsh
    TERM = screen

Perl special variables (and OS-specific diagnostics, for MSWin32):

    $^X = /tmp/basesmoker-reloperl-19uY/bin/perl
    $UID/$EUID = 1005 / 1005
    $GID = 1005 1005
    $EGID = 1005 1005

Perl module toolchain versions installed:

    Module              Have    
    ------------------- --------
    CPAN                2.16    
    CPAN::Meta          2.150010
    Cwd                 3.68    
    ExtUtils::CBuilder  0.280228
    ExtUtils::Command   7.30    
    ExtUtils::Install   2.14    
    ExtUtils::MakeMaker 7.30    
    ExtUtils::Manifest  1.70    
    ExtUtils::ParseXS   3.35    
    File::Spec          3.68    
    JSON                2.94    
    JSON::PP            2.94    
    Module::Build       0.4224  
    Module::Signature   0.81    
    Parse::CPAN::Meta   2.150010
    Test::Harness       3.39    
    Test::More          1.302086
    YAML                1.23    
    YAML::Syck          1.30    
    version             0.9918  


--

Summary of my perl5 (revision 5 version 27 subversion 3) configuration:
  Commit id: 7c9c5138c6a704d1caf5908650193f777b81ad23
  Platform:
    osname=linux
    osvers=4.4.0-93-generic
    archname=x86_64-linux
    uname='linux k93x64xenial 4.4.0-93-generic #116-ubuntu smp fri aug 11 21:17:51 utc 2017 x86_64 x86_64 x86_64 gnulinux '
    config_args='-Dprefix=/home/sand/src/perl/repoperls/installed-perls/host/k93x64xenial/v5.27.3/4a0e -Dmyhostname=k93x64xenial -Dinstallusrbinperl=n -Uversiononly -Dusedevel -des -Ui_db -Dlibswanted=cl pthread socket inet nsl gdbm dbm malloc dl ld sun m crypt sec util c cposix posix ucb BSD gdbm_compat -Uuseithreads -Uuselongdouble -DDEBUGGING=-g'
    hint=recommended
    useposix=true
    d_sigaction=define
    useithreads=undef
    usemultiplicity=undef
    use64bitint=define
    use64bitall=define
    uselongdouble=undef
    usemymalloc=n
    default_inc_excludes_dot=define
    bincompat5005=undef
  Compiler:
    cc='cc'
    ccflags ='-fwrapv -fno-strict-aliasing -pipe -fstack-protector-strong -I/usr/local/include -D_LARGEFILE_SOURCE -D_FILE_OFFSET_BITS=64'
    optimize='-O2 -g'
    cppflags='-fwrapv -fno-strict-aliasing -pipe -fstack-protector-strong -I/usr/local/include'
    ccversion=''
    gccversion='5.4.0 20160609'
    gccosandvers=''
    intsize=4
    longsize=8
    ptrsize=8
    doublesize=8
    byteorder=12345678
    doublekind=3
    d_longlong=define
    longlongsize=8
    d_longdbl=define
    longdblsize=16
    longdblkind=3
    ivtype='long'
    ivsize=8
    nvtype='double'
    nvsize=8
    Off_t='off_t'
    lseeksize=8
    alignbytes=8
    prototype=define
  Linker and Libraries:
    ld='cc'
    ldflags =' -fstack-protector-strong -L/usr/local/lib'
    libpth=/usr/local/lib /usr/lib/gcc/x86_64-linux-gnu/5/include-fixed /usr/include/x86_64-linux-gnu /usr/lib /lib/x86_64-linux-gnu /lib/../lib /usr/lib/x86_64-linux-gnu /usr/lib/../lib /lib
    libs=-lpthread -lnsl -ldl -lm -lcrypt -lutil -lc
    perllibs=-lpthread -lnsl -ldl -lm -lcrypt -lutil -lc
    libc=libc-2.23.so
    so=so
    useshrplib=false
    libperl=libperl.a
    gnulibc_version='2.23'
  Dynamic Linking:
    dlsrc=dl_dlopen.xs
    dlext=so
    d_dlsymun=undef
    ccdlflags='-Wl,-E'
    cccdlflags='-fPIC'
    lddlflags='-shared -O2 -g -L/usr/local/lib -fstack-protector-strong'


Characteristics of this binary (from libperl): 
  Compile-time options:
    HAS_TIMES
    PERLIO_LAYERS
    PERL_COPY_ON_WRITE
    PERL_DONT_CREATE_GVSV
    PERL_MALLOC_WRAP
    PERL_OP_PARENT
    PERL_PRESERVE_IVUV
    PERL_USE_DEVEL
    USE_64_BIT_ALL
    USE_64_BIT_INT
    USE_LARGE_FILES
    USE_LOCALE
    USE_LOCALE_COLLATE
    USE_LOCALE_CTYPE
    USE_LOCALE_NUMERIC
    USE_LOCALE_TIME
    USE_PERLIO
    USE_PERL_ATOF
  Built under linux
  Compiled at Sep  1 2017 03:17:51
  %ENV:
    PERL5LIB=""
    PERL5OPT=""
    PERL5_CPANPLUS_IS_RUNNING="5588"
    PERL5_CPAN_IS_RUNNING="5588"
    PERL_CANARY_STABILITY_NOPROMPT="1"
    PERL_MM_USE_DEFAULT="1"
  @INC:
    /home/sand/src/perl/repoperls/installed-perls/host/k93x64xenial/v5.27.3/4a0e/lib/site_perl/5.27.3/x86_64-linux
    /home/sand/src/perl/repoperls/installed-perls/host/k93x64xenial/v5.27.3/4a0e/lib/site_perl/5.27.3
    /home/sand/src/perl/repoperls/installed-perls/host/k93x64xenial/v5.27.3/4a0e/lib/5.27.3/x86_64-linux
    /home/sand/src/perl/repoperls/installed-perls/host/k93x64xenial/v5.27.3/4a0e/lib/5.27.3