Report for Dist-Zilla-Plugin-Test-EOL-0.19

Back
From: metabase:user:d49cdc72-1559-11e3-9efd-e82414baadac
Subject: PASS Dist-Zilla-Plugin-Test-EOL-0.19 v5.24.1 RC3 GNU/Linux
Date: 2017-02-05T02:49:14Z

This distribution has been tested as part of the CPAN Testers
project, supporting the Perl programming language.  See
http://wiki.cpantesters.org/ for more information or email
questions to cpan-testers-discuss@perl.org


--
Dear ETHER,

This is a computer-generated report for Dist-Zilla-Plugin-Test-EOL-0.19
on perl 5.24.1, created by App::cpanminus::reporter 0.17 (1.7042).

Thank you for uploading your work to CPAN.  Congratulations!
All tests were successful.

Sections of this report:

    * Tester comments
    * Program output
    * Prerequisites
    * Environment and other context

------------------------------
TESTER COMMENTS
------------------------------

Additional comments from tester:

none provided

------------------------------
PROGRAM OUTPUT
------------------------------

Output from '':

Building and testing Dist-Zilla-Plugin-Test-EOL-0.19
cp lib/Dist/Zilla/Plugin/Test/EOL.pm blib/lib/Dist/Zilla/Plugin/Test/EOL.pm
cp lib/Dist/Zilla/Plugin/EOLTests.pm blib/lib/Dist/Zilla/Plugin/EOLTests.pm
t/eol.t ................ ok
t/prereqs.t ............ ok
# 
# Versions for all modules listed in MYMETA.json (including optional ones):
# 
# === Configure Requires ===
# 
#     Module               Want  Have
#     ------------------- ----- -----
#     Module::Build::Tiny 0.034 0.039
# 
# === Test Requires ===
# 
#     Module            Want     Have
#     ---------------- ----- --------
#     File::Spec         any  3.63_01
#     File::pushd        any    1.014
#     FindBin            any     1.51
#     Module::Metadata   any 1.000031
#     Test::DZil         any    6.008
#     Test::Deep         any    1.120
#     Test::EOL          any      1.6
#     Test::More        0.88 1.302075
#     Test::Warnings   0.009    0.026
#     if                 any   0.0606
# 
# === Test Recommends ===
# 
#     Module         Want     Have
#     ---------- -------- --------
#     CPAN::Meta 2.120900 2.150005
# 
# === Runtime Requires ===
# 
#     Module                             Want     Have
#     --------------------------------- ----- --------
#     Data::Section                     0.004 0.200006
#     Dist::Zilla::File::InMemory         any    6.008
#     Dist::Zilla::Role::FileFinderUser   any    6.008
#     Dist::Zilla::Role::FileGatherer     any    6.008
#     Dist::Zilla::Role::FileMunger       any    6.008
#     Dist::Zilla::Role::PrereqSource     any    6.008
#     Dist::Zilla::Role::TextTemplate     any    6.008
#     Moose                               any   2.2004
#     Moose::Util::TypeConstraints        any   2.2004
#     Path::Tiny                          any    0.096
#     Sub::Exporter::ForMethods           any 0.100052
#     namespace::autoclean                any     0.28
#     strict                              any     1.11
#     warnings                            any     1.36
# 
# === Other Modules ===
# 
#     Module                    Have
#     --------------------- --------
#     CPAN::Meta::Validator 2.150005
#     Pod::Coverage             0.23
# 
t/00-report-prereqs.t .. ok
t/zzz-check-breaks.t ... ok
t/01-basic.t ........... ok
t/02-eoltests.t ........ ok
t/03-finder.t .......... ok
t/04-filename.t ........ ok
All tests successful.
Files=8, Tests=66,  4 wallclock secs ( 0.05 usr  0.01 sys + 11.68 cusr  0.93 csys = 12.67 CPU)
Result: PASS

------------------------------
PREREQUISITES
------------------------------

Prerequisite modules loaded:

    No requirements found

------------------------------
ENVIRONMENT AND OTHER CONTEXT
------------------------------

Environment variables:

    HARNESS_OPTIONS = j10:c
    LANG = en_NZ.UTF8
    LC_CTYPE = en_NZ.UTF8
    LC_TIME = en_NZ.UTF8
    PATH = /home/kent/perl5/perlbrew/bin:/home/kent/perl5/perlbrew/perls/5.24.1-RC3-nossp-sdbm-nopmc/bin:/home/kent/.perl6/2013.04/bin:/home/kent/.gem/ruby/1.8/bin/:/home/kent/.perl6/2013.04/bin:/home/kent/.gem/ruby/1.8/bin/:/home/kent/.perl6/2013.04/bin:/home/kent/.gem/ruby/1.8/bin/:/home/kent/.rvm/gems/ruby-2.1.2/bin:/home/kent/.rvm/gems/ruby-2.1.2@global/bin:/home/kent/.rvm/rubies/ruby-2.1.2/bin:/home/kent/.perl6/2013.04/bin:/home/kent/.gem/ruby/1.8/bin/:/usr/local/bin:/usr/bin:/bin:/opt/bin:/usr/x86_64-pc-linux-gnu/gcc-bin/5.4.0:/usr/games/bin:/home/kent/.rvm/bin:/home/kent/.rvm/bin:/home/kent/.rvm/bin:/home/kent/.rvm/bin:/home/kent/.rvm/bin
    PERLBREW_BASHRC_VERSION = 0.74
    PERLBREW_HOME = /home/kent/.perlbrew
    PERLBREW_MANPATH = /home/kent/perl5/perlbrew/perls/5.24.1-RC3-nossp-sdbm-nopmc/man
    PERLBREW_PATH = /home/kent/perl5/perlbrew/bin:/home/kent/perl5/perlbrew/perls/5.24.1-RC3-nossp-sdbm-nopmc/bin
    PERLBREW_PERL = 5.24.1-RC3-nossp-sdbm-nopmc
    PERLBREW_ROOT = /home/kent/perl5/perlbrew
    PERLBREW_VERSION = 0.74
    PERL_CPANM_OPT =  --prompt --reinstall --interactive --with-recommends --with-suggests --with-develop --verify --mirror http://cpan.metacpan.org/ --no-lwp
    PERL_MM_OPT =  INSTALLDIRS=site
    SHELL = /bin/bash
    TERM = rxvt-unicode-256color

Perl special variables (and OS-specific diagnostics, for MSWin32):

    EGID = 1000 4 6 10 16 18 19 27 35 78 80 85 100 102 103 104 105 114 115 116 117 118 250 965 968 974 976 994 1000
    EUID = 1000
    EXECUTABLE_NAME = /home/kent/perl5/perlbrew/perls/5.24.1-RC3-nossp-sdbm-nopmc/bin/perl
    GID = 1000 4 6 10 16 18 19 27 35 78 80 85 100 102 103 104 105 114 115 116 117 118 250 965 968 974 976 994 1000
    UID = 1000

Perl module toolchain versions installed:

    Module              Have      
    ------------------- ----------
    CPAN                2.11_01   
    CPAN::Meta          2.150005  
    Cwd                 3.63_01   
    ExtUtils::CBuilder  0.280225  
    ExtUtils::Command   7.10_02   
    ExtUtils::Install   2.04      
    ExtUtils::MakeMaker 7.10_02   
    ExtUtils::Manifest  1.70      
    ExtUtils::ParseXS   3.31      
    File::Spec          3.63_01   
    JSON                2.90      
    JSON::PP            2.27300_01
    Module::Build       0.4218    
    Module::Signature   n/a       
    Parse::CPAN::Meta   1.4417_001
    Test::Harness       3.36_01   
    Test::More          1.302075  
    YAML                1.21      
    YAML::Syck          1.29      
    version             0.9916    


--

Summary of my perl5 (revision 5 version 24 subversion 1) configuration:
   
  Platform:
    osname=linux, osvers=4.7.0-gentoo, archname=x86_64-linux
    uname='linux katipo2 4.7.0-gentoo #38 smp preempt sat jul 30 17:08:42 nzst 2016 x86_64 intel(r) core(tm) i5-2410m cpu @ 2.30ghz genuineintel gnulinux '
    config_args='-de -Dprefix=/home/kent/perl5/perlbrew/perls/5.24.1-RC3-nossp-sdbm-nopmc -Doptimize= -fstack-protector-strong -fno-stack-protector -O3 -march=native -mtune=native -Dman1dir=none -Dman3dir=none -Accflags= -fstack-protector-strong -fno-stack-protector -DPERL_HASH_FUNC_SDBM -DPERL_DISABLE_PMC -Aldflags= -fstack-protector-strong -fno-stack-protector -Aeval:scriptdir=/home/kent/perl5/perlbrew/perls/5.24.1-RC3-nossp-sdbm-nopmc/bin'
    hint=recommended, useposix=true, d_sigaction=define
    useithreads=undef, usemultiplicity=undef
    use64bitint=define, use64bitall=define, uselongdouble=undef
    usemymalloc=n, bincompat5005=undef
  Compiler:
    cc='cc', ccflags ='-fstack-protector-strong -fno-stack-protector -DPERL_HASH_FUNC_SDBM -DPERL_DISABLE_PMC -fwrapv -fno-strict-aliasing -pipe -D_LARGEFILE_SOURCE -D_FILE_OFFSET_BITS=64',
    optimize=' -fstack-protector-strong -fno-stack-protector -O3 -march=native -mtune=native',
    cppflags='-fstack-protector-strong -fno-stack-protector -DPERL_HASH_FUNC_SDBM -DPERL_DISABLE_PMC -fwrapv -fno-strict-aliasing -pipe'
    ccversion='', gccversion='5.4.0', gccosandvers=''
    intsize=4, longsize=8, ptrsize=8, doublesize=8, byteorder=12345678, doublekind=3
    d_longlong=define, longlongsize=8, d_longdbl=define, longdblsize=16, longdblkind=3
    ivtype='long', ivsize=8, nvtype='double', nvsize=8, Off_t='off_t', lseeksize=8
    alignbytes=8, prototype=define
  Linker and Libraries:
    ld='cc', ldflags ='  -fstack-protector-strong -fno-stack-protector -L/usr/local/lib'
    libpth=/usr/lib/gcc/x86_64-pc-linux-gnu/5.4.0/include-fixed /usr/lib /usr/local/lib /lib/../lib64 /usr/lib/../lib64 /lib /lib64 /usr/lib64 /usr/local/lib64
    libs=-lpthread -lnsl -lgdbm -ldb -ldl -lm -lcrypt -lutil -lc -lgdbm_compat
    perllibs=-lpthread -lnsl -ldl -lm -lcrypt -lutil -lc
    libc=libc-2.23.so, so=so, useshrplib=false, libperl=libperl.a
    gnulibc_version='2.23'
  Dynamic Linking:
    dlsrc=dl_dlopen.xs, dlext=so, d_dlsymun=undef, ccdlflags='-Wl,-E'
    cccdlflags='-fPIC', lddlflags='-shared  -fstack-protector-strong -fno-stack-protector -O3 -march=native -mtune=native -L/usr/local/lib'


Characteristics of this binary (from libperl): 
  Compile-time options: HAS_TIMES PERLIO_LAYERS PERL_COPY_ON_WRITE
                        PERL_DISABLE_PMC PERL_DONT_CREATE_GVSV
                        PERL_HASH_FUNC_SDBM PERL_MALLOC_WRAP
                        PERL_PRESERVE_IVUV USE_64_BIT_ALL USE_64_BIT_INT
                        USE_LARGE_FILES USE_LOCALE USE_LOCALE_COLLATE
                        USE_LOCALE_CTYPE USE_LOCALE_NUMERIC USE_LOCALE_TIME
                        USE_PERLIO USE_PERL_ATOF
  Locally applied patches:
	RC3
  Built under linux
  Compiled at Aug 12 2016 19:53:21
  %ENV:
    PERLBREW_BASHRC_VERSION="0.74"
    PERLBREW_HOME="/home/kent/.perlbrew"
    PERLBREW_MANPATH="/home/kent/perl5/perlbrew/perls/5.24.1-RC3-nossp-sdbm-nopmc/man"
    PERLBREW_PATH="/home/kent/perl5/perlbrew/bin:/home/kent/perl5/perlbrew/perls/5.24.1-RC3-nossp-sdbm-nopmc/bin"
    PERLBREW_PERL="5.24.1-RC3-nossp-sdbm-nopmc"
    PERLBREW_ROOT="/home/kent/perl5/perlbrew"
    PERLBREW_VERSION="0.74"
    PERL_CPANM_OPT=" --prompt --reinstall --interactive --with-recommends --with-suggests --with-develop --verify --mirror http://cpan.metacpan.org/ --no-lwp"
    PERL_MM_OPT=" INSTALLDIRS=site"
  @INC:
    /home/kent/perl5/perlbrew/perls/5.24.1-RC3-nossp-sdbm-nopmc/lib/site_perl/5.24.1/x86_64-linux
    /home/kent/perl5/perlbrew/perls/5.24.1-RC3-nossp-sdbm-nopmc/lib/site_perl/5.24.1
    /home/kent/perl5/perlbrew/perls/5.24.1-RC3-nossp-sdbm-nopmc/lib/5.24.1/x86_64-linux
    /home/kent/perl5/perlbrew/perls/5.24.1-RC3-nossp-sdbm-nopmc/lib/5.24.1
    .