Dist-Zilla-Plugin-CopyFilesFromBuild v0.170880 Perl 5 v5.38.3 darwin-2level
- Status
- Pass
- From
- Stanislaw Pusep
- Dist
-
Dist-Zilla-Plugin-CopyFilesFromBuild v0.170880
- Platform
- Perl 5 v5.38.3 darwin-2level
- Date
- 2025-01-21 07:16:48
- ID
- adeba1d4-d7c7-11ef-b6d9-db7e07a40b9d
This distribution has been tested as part of the CPAN Testers
project, supporting the Perl programming language. See
http://wiki.cpantesters.org/ for more information or email
questions to cpan-testers-discuss@perl.org
--
Dear RTHOMPSON,
This is a computer-generated report for Dist-Zilla-Plugin-CopyFilesFromBuild-0.170880
on perl 5.38.3, created by App::cpanminus::reporter 0.22 (1.7047).
Thank you for uploading your work to CPAN. Congratulations!
All tests were successful.
Sections of this report:
* Tester comments
* Program output
* Prerequisites
* Environment and other context
------------------------------
TESTER COMMENTS
------------------------------
Additional comments from tester:
none provided
------------------------------
PROGRAM OUTPUT
------------------------------
Output from '':
Building and testing Dist-Zilla-Plugin-CopyFilesFromBuild-0.170880
cp lib/Dist/Zilla/Plugin/CopyFilesFromBuild.pm blib/lib/Dist/Zilla/Plugin/CopyFilesFromBuild.pm
PERL_DL_NONLAZY=1 "/Users/stan/perl5/perlbrew/perls/perl-5.38.3/bin/perl" "-MExtUtils::Command::MM" "-MTest::Harness" "-e" "undef *Test::Harness::Switches; test_harness(0, 'blib/lib', 'blib/arch')" t/*.t
t/00-compile.t ........... ok
# Testing with Perl 5.038003, /Users/stan/perl5/perlbrew/perls/perl-5.38.3/bin/perl
# Carp version is 1.54
# Dist::Zilla::Plugin::ReadmeAnyFromPod version is 0.163250
# Dist::Zilla::Role::AfterBuild version is 6.032
# ExtUtils::MakeMaker version is 7.70
# File::Copy version is 2.41
# File::Spec version is 3.88
# IO::File version is 1.52
# IO::Handle version is 1.52
# IPC::Open3 version is 1.22
# List::Util version is 1.63
# Moose version is 2.2207
# MooseX::Has::Sugar version is 1.000006
# Path::Tiny version is 0.146
# Scalar::Util version is 1.63
# Set::Scalar version is 1.29
# Test::DZil version is 6.032
# Test::Exception version is 0.43
# Test::More version is 1.302207
# Test::Most version is 0.38
# autodie version is 2.36
# blib version is 1.07
# strict version is 1.12
# utf8 version is 1.25
# warnings version is 1.65
t/000-report-versions.t .. ok
t/author-critic.t ........ skipped: these tests are for testing by the author
t/author-pod-coverage.t .. skipped: these tests are for testing by the author
t/author-pod-syntax.t .... skipped: these tests are for testing by the author
t/basic.t ................ ok
t/release-has-version.t .. skipped: these tests are for release candidate testing
t/release-kwalitee.t ..... skipped: these tests are for release candidate testing
t/release-portability.t .. skipped: these tests are for release candidate testing
t/release-unused-vars.t .. skipped: these tests are for release candidate testing
All tests successful.
Files=10, Tests=34, 1 wallclock secs ( 0.03 usr 0.02 sys + 1.15 cusr 0.18 csys = 1.38 CPU)
Result: PASS
------------------------------
PREREQUISITES
------------------------------
Prerequisite modules loaded:
runtime:
Module Need Have
----------------------------- ----- --------
Dist::Zilla::Role::AfterBuild 0 6.032
File::Copy 0 2.41
IO::File 0 1.52
List::Util 1.33 1.68
Moose 0 2.2207
MooseX::Has::Sugar 0 1.000006
Path::Tiny 0 0.146
perl 5.008 5.038003
Set::Scalar 0 1.29
strict 0 1.12
utf8 0 1.25
warnings 0 1.65
build:
Module Need Have
----------------------------- ----- --------
ExtUtils::MakeMaker 0 7.70
configure:
Module Need Have
----------------------------- ----- --------
ExtUtils::MakeMaker 0 7.70
------------------------------
ENVIRONMENT AND OTHER CONTEXT
------------------------------
Environment variables:
LANG = en_US.UTF-8
LC_ALL = en_US.UTF-8
LDFLAGS = -L/usr/local/opt/curl/lib
PATH = /Users/stan/perl5/perlbrew/bin:/Users/stan/perl5/perlbrew/perls/perl-5.38.3/bin:/usr/local/opt/mysql-client/bin:/usr/local/opt/curl/bin:/usr/local/bin:/usr/local/sbin:/usr/local/bin:/System/Cryptexes/App/usr/bin:/usr/bin:/bin:/usr/sbin:/sbin:/Applications/Little Snitch.app/Contents/Components:/opt/X11/bin:/Applications/Wireshark.app/Contents/MacOS:/var/run/com.apple.security.cryptexd/codex.system/bootstrap/usr/local/bin:/var/run/com.apple.security.cryptexd/codex.system/bootstrap/usr/bin:/var/run/com.apple.security.cryptexd/codex.system/bootstrap/usr/appleinternal/bin:/Users/stan/.vim/bin:/Users/stan/bin:/Users/stan/.local/bin:/Users/stan/node_modules/.bin:/usr/local/sbin:/usr/local/opt/mysql-client/bin:/usr/local/opt/curl/bin:/Applications/kitty.app/Contents/MacOS
PERLBREW_HOME = /Users/stan/.perlbrew
PERLBREW_MANPATH = /Users/stan/perl5/perlbrew/perls/perl-5.38.3/man
PERLBREW_PATH = /Users/stan/perl5/perlbrew/bin:/Users/stan/perl5/perlbrew/perls/perl-5.38.3/bin
PERLBREW_PERL = perl-5.38.3
PERLBREW_ROOT = /Users/stan/perl5/perlbrew
PERLBREW_SHELLRC_VERSION = 0.99
PERLBREW_VERSION = 0.99
PERL_MM_USE_DEFAULT = 1
SHELL = /usr/local/bin/zsh
TERM = screen-256color
TMPDIR = /var/folders/tk/hx6fvpsj3yzbyd1k1br945mc0000gn/T/
Perl special variables (and OS-specific diagnostics, for MSWin32):
EGID = 20 20 103 12 61 79 80 81 98 701 33 100 204 250 395 398 101
EUID = 501
EXECUTABLE_NAME = /Users/stan/perl5/perlbrew/perls/perl-5.38.3/bin/perl
GID = 20 20 103 12 61 79 80 81 98 701 33 100 204 250 395 398 101
UID = 501
Perl module toolchain versions installed:
Module Have
------------------- --------
CPAN 2.38
CPAN::Meta 2.150010
Cwd 3.89
ExtUtils::CBuilder 0.280238
ExtUtils::Command 7.70
ExtUtils::Install 2.22
ExtUtils::MakeMaker 7.70
ExtUtils::Manifest 1.73
ExtUtils::ParseXS 3.51
File::Spec 3.88
JSON 4.10
JSON::PP 4.16
Module::Build 0.4234
Module::Signature 0.89
Parse::CPAN::Meta 2.150010
Test::Harness 3.50
Test::More 1.302207
YAML 1.31
YAML::Syck n/a
version 0.9929
--
Summary of my perl5 (revision 5 version 38 subversion 3) configuration:
Platform:
osname=darwin
osvers=22.6.0
archname=darwin-2level
uname='darwin imac.home 22.6.0 darwin kernel version 22.6.0: fri nov 15 17:21:49 pst 2024; root:xnu-8796.141.3.709.7~2release_x86_64 x86_64 '
config_args='-de -Dprefix=/Users/stan/perl5/perlbrew/perls/perl-5.38.3 -Aeval:scriptdir=/Users/stan/perl5/perlbrew/perls/perl-5.38.3/bin'
hint=recommended
useposix=true
d_sigaction=define
useithreads=undef
usemultiplicity=undef
use64bitint=define
use64bitall=define
uselongdouble=undef
usemymalloc=n
default_inc_excludes_dot=define
Compiler:
cc='cc'
ccflags ='-fno-common -DPERL_DARWIN -mmacosx-version-min=13.7 -DNO_POSIX_2008_LOCALE -fno-strict-aliasing -pipe -fstack-protector-strong -I/usr/local/include'
optimize='-O3'
cppflags='-fno-common -DPERL_DARWIN -mmacosx-version-min=13.7 -DNO_POSIX_2008_LOCALE -fno-strict-aliasing -pipe -fstack-protector-strong -I/usr/local/include'
ccversion=''
gccversion='Apple LLVM 15.0.0 (clang-1500.1.0.2.5)'
gccosandvers=''
intsize=4
longsize=8
ptrsize=8
doublesize=8
byteorder=12345678
doublekind=3
d_longlong=define
longlongsize=8
d_longdbl=define
longdblsize=16
longdblkind=3
ivtype='long'
ivsize=8
nvtype='double'
nvsize=8
Off_t='off_t'
lseeksize=8
alignbytes=8
prototype=define
Linker and Libraries:
ld='cc'
ldflags =' -mmacosx-version-min=13.7 -fstack-protector-strong -L/usr/local/lib'
libpth=/usr/local/lib /Library/Developer/CommandLineTools/usr/lib/clang/15.0.0/lib /Library/Developer/CommandLineTools/SDKs/MacOSX14.2.sdk/usr/lib /Library/Developer/CommandLineTools/usr/lib /usr/lib
libs=
perllibs=
libc=
so=dylib
useshrplib=false
libperl=libperl.a
gnulibc_version=''
Dynamic Linking:
dlsrc=dl_dlopen.xs
dlext=bundle
d_dlsymun=undef
ccdlflags=' '
cccdlflags=' '
lddlflags=' -mmacosx-version-min=13.7 -bundle -undefined dynamic_lookup -L/usr/local/lib -fstack-protector-strong'
Characteristics of this binary (from libperl):
Compile-time options:
HAS_LONG_DOUBLE
HAS_STRTOLD
HAS_TIMES
PERLIO_LAYERS
PERL_COPY_ON_WRITE
PERL_DONT_CREATE_GVSV
PERL_HASH_FUNC_SIPHASH13
PERL_HASH_USE_SBOX32
PERL_MALLOC_WRAP
PERL_OP_PARENT
PERL_PRESERVE_IVUV
PERL_USE_SAFE_PUTENV
USE_64_BIT_ALL
USE_64_BIT_INT
USE_LARGE_FILES
USE_LOCALE
USE_LOCALE_COLLATE
USE_LOCALE_CTYPE
USE_LOCALE_NUMERIC
USE_LOCALE_TIME
USE_PERLIO
USE_PERL_ATOF
Built under darwin
Compiled at Jan 20 2025 20:18:34
%ENV:
PERLBREW_HOME="/Users/stan/.perlbrew"
PERLBREW_MANPATH="/Users/stan/perl5/perlbrew/perls/perl-5.38.3/man"
PERLBREW_PATH="/Users/stan/perl5/perlbrew/bin:/Users/stan/perl5/perlbrew/perls/perl-5.38.3/bin"
PERLBREW_PERL="perl-5.38.3"
PERLBREW_ROOT="/Users/stan/perl5/perlbrew"
PERLBREW_SHELLRC_VERSION="0.99"
PERLBREW_VERSION="0.99"
PERL_MM_USE_DEFAULT="1"
@INC:
/Users/stan/perl5/perlbrew/perls/perl-5.38.3/lib/site_perl/5.38.3/darwin-2level
/Users/stan/perl5/perlbrew/perls/perl-5.38.3/lib/site_perl/5.38.3
/Users/stan/perl5/perlbrew/perls/perl-5.38.3/lib/5.38.3/darwin-2level
/Users/stan/perl5/perlbrew/perls/perl-5.38.3/lib/5.38.3