Thrift-API-HiveClient2 v0.022 Perl 5 v5.18.2 x86_64-linux-thread-multi

Status
Pass
From
Nigel Horne
Dist
Thrift-API-HiveClient2 v0.022
Platform
Perl 5 v5.18.2 x86_64-linux-thread-multi
Date
2018-01-30 17:19:07
ID
adf12e0c-05e1-11e8-af2b-acaf1d79aee4
This distribution has been tested as part of the CPAN Testers
project, supporting the Perl programming language.  See
http://wiki.cpantesters.org/ for more information or email
questions to cpan-testers-discuss@perl.org


--
Dear Burak Gursoy,

This is a computer-generated report for Thrift-API-HiveClient2-0.022
on perl 5.18.2, created by CPAN-Reporter-1.2018.

Thank you for uploading your work to CPAN.  Congratulations!
All tests were successful.

Sections of this report:

    * Tester comments
    * Program output
    * Prerequisites
    * Environment and other context

------------------------------
TESTER COMMENTS
------------------------------

Additional comments from tester:

this report is from an automated smoke testing program
and was not reviewed by a human for accuracy

------------------------------
PROGRAM OUTPUT
------------------------------

Output from '/usr/bin/make test':

PERL_DL_NONLAZY=1 /home/njh/perl5/perlbrew/perls/perl-5.18.2/bin/perl "-MExtUtils::Command::MM" "-MTest::Harness" "-e" "undef *Test::Harness::Switches; test_harness(0, 'blib/lib', 'blib/arch')" t/*.t
# Testing Thrift::API::HiveClient2 0.022, Perl 5.018002, /home/njh/perl5/perlbrew/perls/perl-5.18.2/bin/perl
t/00-load.t .............. ok
t/00-compile.t ........... ok
Could not eval '
		package ExtUtils::MakeMaker::_version;
		no strict;
		BEGIN { eval {
			# Ensure any version() routine which might have leaked
			# into this package has been deleted.  Interferes with
			# version->import()
			undef *version;
			require version;
			"version"->import;
		} }

		local $VERSION;
		$VERSION=undef;
		do {
			use version 0.77; our $VERSION = version->declare("$Thrift::VERSION");
		};
		$VERSION;
	' in /home/njh/.cpan/build/Thrift-0.11.0-8/blib/lib/Thrift/Exception.pm: Invalid version format (version required) at (eval 68) line 16, <$fh> line 28.
Could not eval '
		package ExtUtils::MakeMaker::_version;
		no strict;
		BEGIN { eval {
			# Ensure any version() routine which might have leaked
			# into this package has been deleted.  Interferes with
			# version->import()
			undef *version;
			require version;
			"version"->import;
		} }

		local $VERSION;
		$VERSION=undef;
		do {
			use version 0.77; our $VERSION = version->declare("$Thrift::VERSION");
		};
		$VERSION;
	' in /home/njh/.cpan/build/Thrift-0.11.0-8/blib/lib/Thrift/Exception.pm: Invalid version format (version required) at (eval 69) line 16, <$fh> line 48.
Could not eval '
		package ExtUtils::MakeMaker::_version;
		no strict;
		BEGIN { eval {
			# Ensure any version() routine which might have leaked
			# into this package has been deleted.  Interferes with
			# version->import()
			undef *version;
			require version;
			"version"->import;
		} }

		local $VERSION;
		$VERSION=undef;
		do {
			use version 0.77; our $VERSION = version->declare("$Thrift::VERSION");
		};
		$VERSION;
	' in /home/njh/.cpan/build/Thrift-0.11.0-8/blib/lib/Thrift/MessageType.pm: Invalid version format (version required) at (eval 70) line 16, <$fh> line 30.
Could not eval '
		package ExtUtils::MakeMaker::_version;
		no strict;
		BEGIN { eval {
			# Ensure any version() routine which might have leaked
			# into this package has been deleted.  Interferes with
			# version->import()
			undef *version;
			require version;
			"version"->import;
		} }

		local $VERSION;
		$VERSION=undef;
		do {
			use version 0.77; our $VERSION = version->declare("$Thrift::VERSION");
		};
		$VERSION;
	' in /home/njh/.cpan/build/Thrift-0.11.0-8/blib/lib/Thrift/Type.pm: Invalid version format (version required) at (eval 71) line 16, <$fh> line 30.
# 
# Versions for all modules listed in MYMETA.json (including optional ones):
# 
# === Configure Requires ===
# 
#     Module              Want Have
#     ------------------- ---- ----
#     ExtUtils::MakeMaker  any 6.98
# 
# === Build Requires ===
# 
#     Module              Want Have
#     ------------------- ---- ----
#     ExtUtils::MakeMaker  any 6.98
# 
# === Test Requires ===
# 
#     Module                     Want     Have
#     -------------------------- ---- --------
#     ExtUtils::MakeMaker         any     6.98
#     File::Spec                  any     3.40
#     IO::Handle                  any     1.34
#     IPC::Open3                  any     1.13
#     Test::More                  any 1.302086
#     Thrift::XS::BinaryProtocol  any    undef
# 
# === Test Recommends ===
# 
#     Module         Want     Have
#     ---------- -------- --------
#     CPAN::Meta 2.120900 2.150005
# 
# === Runtime Requires ===
# 
#     Module                       Want      Have
#     ------------------------- ------- ---------
#     Authen::SASL                  any      2.16
#     Carp                          any    1.3301
#     Class::Accessor               any      0.34
#     List::MoreUtils               any      0.33
#     Moo                           any  1.005000
#     Scalar::Util                  any      1.39
#     Thrift                    v0.10.0 0.6.0-dev
#     Thrift::BinaryProtocol        any     undef
#     Thrift::BufferedTransport     any     undef
#     Thrift::Exception             any     undef
#     Thrift::MessageType           any     undef
#     Thrift::SASL::Transport       any   missing
#     Thrift::Socket                any     undef
#     Thrift::Type                  any     undef
#     base                          any      2.18
#     constant                      any      1.27
#     strict                        any      1.07
#     version                       any    0.9902
#     warnings                      any      1.18
# 
# 
# *** WARNING WARNING WARNING WARNING WARNING WARNING WARNING WARNING ***
# 
# The following REQUIRED prerequisites were not satisfied:
# 
# Thrift version '0.6.0-dev' cannot be parsed (version 'v0.10.0' required)
# Thrift::SASL::Transport is not installed (any version required)
# 
t/00-report-prereqs.t .... ok
t/author-pod-coverage.t .. skipped: these tests are for testing by the author
t/author-pod-syntax.t .... skipped: these tests are for testing by the author
t/manifest.t ............. skipped: Author tests not required for installation
t/release-distmeta.t ..... skipped: these tests are for release candidate testing
t/01-new.t ............... skipped: Set up HiveServer2 host with $ENV{HIVEHOST}
All tests successful.
Files=8, Tests=7,  1 wallclock secs ( 0.05 usr  0.00 sys +  0.91 cusr  0.13 csys =  1.09 CPU)
Result: PASS

------------------------------
PREREQUISITES
------------------------------

Prerequisite modules loaded:

requires:

    Module                     Need    Have     
    -------------------------- ------- ---------
    Authen::SASL               0       2.16     
    base                       0       2.18     
    Carp                       0       1.3301   
    Class::Accessor            0       0.34     
    constant                   0       1.27     
    List::MoreUtils            0       0.33     
    Moo                        0       1.005000 
    perl                       5.010   5.018002 
    Scalar::Util               0       1.39     
    strict                     0       1.07     
  ! Thrift                     v0.10.0 0.6.0-dev
    Thrift::BinaryProtocol     0       0        
    Thrift::BufferedTransport  0       0        
  ! Thrift::Exception          0       broken   
  ! Thrift::MessageType        0       broken   
  ! Thrift::SASL::Transport    0       n/a      
    Thrift::Socket             0       0        
  ! Thrift::Type               0       broken   
    version                    0       0.9902   
    warnings                   0       1.18     

build_requires:

    Module                     Need    Have     
    -------------------------- ------- ---------
    ExtUtils::MakeMaker        0       6.98     
    File::Spec                 0       3.40     
    IO::Handle                 0       1.34     
    IPC::Open3                 0       1.13     
    Test::More                 0       1.302086 
    Thrift::XS::BinaryProtocol 0       0        

configure_requires:

    Module                     Need    Have     
    -------------------------- ------- ---------
    ExtUtils::MakeMaker        0       6.98     


------------------------------
ENVIRONMENT AND OTHER CONTEXT
------------------------------

Environment variables:

    AUTOMATED_TESTING = 1
    HARNESS_OPTIONS = j2
    LANG = en_US.UTF-8
    PATH = /home/njh/perl5/perlbrew/bin:/home/njh/perl5/perlbrew/perls/perl-5.18.2/bin:src/njh/smoker/bin:/usr/bin:/bin
    PERL5LIB = /home/njh/.cpan/build/Thrift-XS-1.04-8/blib/arch:/home/njh/.cpan/build/Thrift-XS-1.04-8/blib/lib:/home/njh/.cpan/build/Test-BinaryData-0.014-8/blib/arch:/home/njh/.cpan/build/Test-BinaryData-0.014-8/blib/lib:/home/njh/.cpan/build/Devel-CheckLib-1.11-8/blib/arch:/home/njh/.cpan/build/Devel-CheckLib-1.11-8/blib/lib:/home/njh/.cpan/build/Mock-Config-0.03-8/blib/arch:/home/njh/.cpan/build/Mock-Config-0.03-8/blib/lib:/home/njh/.cpan/build/Thrift-0.11.0-8/blib/arch:/home/njh/.cpan/build/Thrift-0.11.0-8/blib/lib:/home/njh/.cpan/build/Bit-Vector-7.4-21/blib/arch:/home/njh/.cpan/build/Bit-Vector-7.4-21/blib/lib:/home/njh/.cpan/build/Authen-SASL-2.16-8/blib/arch:/home/njh/.cpan/build/Authen-SASL-2.16-8/blib/lib
    PERL5OPT = 
    PERL5_CPANPLUS_IS_RUNNING = 2816
    PERL5_CPAN_IS_RUNNING = 2816
    PERLBREW_BASHRC_VERSION = 0.75
    PERLBREW_HOME = /home/njh/.perlbrew
    PERLBREW_MANPATH = /home/njh/perl5/perlbrew/perls/perl-5.18.2/man
    PERLBREW_PATH = /home/njh/perl5/perlbrew/bin:/home/njh/perl5/perlbrew/perls/perl-5.18.2/bin
    PERLBREW_PERL = perl-5.18.2
    PERLBREW_ROOT = /home/njh/perl5/perlbrew
    PERLBREW_VERSION = 0.75
    SHELL = /bin/sh

Perl special variables (and OS-specific diagnostics, for MSWin32):

    $^X = /home/njh/perl5/perlbrew/perls/perl-5.18.2/bin/perl
    $UID/$EUID = 1000 / 1000
    $GID = 1000 4 24 25 29 30 44 46 103 108 115 123 1000
    $EGID = 1000 4 24 25 29 30 44 46 103 108 115 123 1000

Perl module toolchain versions installed:

    Module              Have    
    ------------------- --------
    CPAN                2.16    
    CPAN::Meta          2.150005
    Cwd                 3.40    
    ExtUtils::CBuilder  0.280210
    ExtUtils::Command   1.18    
    ExtUtils::Install   1.68    
    ExtUtils::MakeMaker 6.98    
    ExtUtils::Manifest  1.65    
    ExtUtils::ParseXS   3.18    
    File::Spec          3.40    
    JSON                2.90    
    JSON::PP            2.27400 
    Module::Build       0.4205  
    Module::Signature   n/a     
    Parse::CPAN::Meta   1.4422  
    Test::Harness       3.39    
    Test::More          1.302086
    YAML                1.23    
    YAML::Syck          1.30    
    version             0.9902  


--

Summary of my perl5 (revision 5 version 18 subversion 2) configuration:
   
  Platform:
    osname=linux, osvers=3.13-1-amd64, archname=x86_64-linux-thread-multi
    uname='linux amelia 3.13-1-amd64 #1 smp debian 3.13.7-1 (2014-03-25) x86_64 gnulinux '
    config_args='-de -Dprefix=/home/njh/perl5/perlbrew/perls/perl-5.18.2 -Duseithreads -Dusemultiplicity -Accflags=-O2 -W -Wformat=2 -Wswitch -Wshadow -Wwrite-strings -Wuninitialized -Wall -pipe -mtune=native -march=native -fomit-frame-pointer -msse2 -msse -mmmx -mfpmath=sse -pedantic -D_FORTIFY_SOURCE=2 -Wpointer-arith -Wstrict-prototypes -fstack-protector -Wstack-protector -Wextra -Wbad-function-cast -Wcast-align -Wcast-qual -Wdisabled-optimization -Wendif-labels -Wfloat-equal -Wformat-nonliteral -Winline -Wmissing-declarations -Wmissing-prototypes -Wnested-externs -Wpointer-arith -Wundef -Wformat-security -ftree-vectorize -fassociative-math -ftree-vectorizer-verbose=1 -Aeval:scriptdir=/home/njh/perl5/perlbrew/perls/perl-5.18.2/bin'
    hint=recommended, useposix=true, d_sigaction=define
    useithreads=define, usemultiplicity=define
    useperlio=define, d_sfio=undef, uselargefiles=define, usesocks=undef
    use64bitint=define, use64bitall=define, uselongdouble=undef
    usemymalloc=n, bincompat5005=undef
  Compiler:
    cc='cc', ccflags ='-D_REENTRANT -D_GNU_SOURCE -O2 -W -Wformat=2 -Wswitch -Wshadow -Wwrite-strings -Wuninitialized -Wall -pipe -mtune=native -march=native -fomit-frame-pointer -msse2 -msse -mmmx -mfpmath=sse -pedantic -D_FORTIFY_SOURCE=2 -Wpointer-arith -Wstrict-prototypes -fstack-protector -Wstack-protector -Wextra -Wbad-function-cast -Wcast-align -Wcast-qual -Wdisabled-optimization -Wendif-labels -Wfloat-equal -Wformat-nonliteral -Winline -Wmissing-declarations -Wmissing-prototypes -Wnested-externs -Wpointer-arith -Wundef -Wformat-security -ftree-vectorize -fassociative-math -ftree-vectorizer-verbose=1 -fno-strict-aliasing -I/usr/local/include -D_LARGEFILE_SOURCE -D_FILE_OFFSET_BITS=64',
    optimize='-O2',
    cppflags='-D_REENTRANT -D_GNU_SOURCE -O2 -W -Wformat=2 -Wswitch -Wshadow -Wwrite-strings -Wuninitialized -Wall -pipe -mtune=native -march=native -fomit-frame-pointer -msse2 -msse -mmmx -mfpmath=sse -pedantic -D_FORTIFY_SOURCE=2 -Wpointer-arith -Wstrict-prototypes -fstack-protector -Wstack-protector -Wextra -Wbad-function-cast -Wcast-align -Wcast-qual -Wdisabled-optimization -Wendif-labels -Wfloat-equal -Wformat-nonliteral -Winline -Wmissing-declarations -Wmissing-prototypes -Wnested-externs -Wpointer-arith -Wundef -Wformat-security -ftree-vectorize -fassociative-math -ftree-vectorizer-verbose=1 -fno-strict-aliasing -I/usr/local/include'
    ccversion='', gccversion='4.8.2', gccosandvers=''
    intsize=4, longsize=8, ptrsize=8, doublesize=8, byteorder=12345678
    d_longlong=define, longlongsize=8, d_longdbl=define, longdblsize=16
    ivtype='long', ivsize=8, nvtype='double', nvsize=8, Off_t='off_t', lseeksize=8
    alignbytes=8, prototype=define
  Linker and Libraries:
    ld='cc', ldflags =' -fstack-protector -L/usr/local/lib'
    libpth=/usr/local/lib /lib/x86_64-linux-gnu /lib/../lib /usr/lib/x86_64-linux-gnu /usr/lib/../lib /lib /usr/lib
    libs=-lnsl -lgdbm -ldb -ldl -lm -lcrypt -lutil -lpthread -lc -lgdbm_compat
    perllibs=-lnsl -ldl -lm -lcrypt -lutil -lpthread -lc
    libc=libc-2.18.so, so=so, useshrplib=false, libperl=libperl.a
    gnulibc_version='2.18'
  Dynamic Linking:
    dlsrc=dl_dlopen.xs, dlext=so, d_dlsymun=undef, ccdlflags='-Wl,-E'
    cccdlflags='-fPIC', lddlflags='-shared -O2 -L/usr/local/lib -fstack-protector'


Characteristics of this binary (from libperl): 
  Compile-time options: HAS_TIMES MULTIPLICITY PERLIO_LAYERS
                        PERL_DONT_CREATE_GVSV
                        PERL_HASH_FUNC_ONE_AT_A_TIME_HARD
                        PERL_IMPLICIT_CONTEXT PERL_MALLOC_WRAP
                        PERL_PRESERVE_IVUV PERL_SAWAMPERSAND USE_64_BIT_ALL
                        USE_64_BIT_INT USE_ITHREADS USE_LARGE_FILES
                        USE_LOCALE USE_LOCALE_COLLATE USE_LOCALE_CTYPE
                        USE_LOCALE_NUMERIC USE_PERLIO USE_PERL_ATOF
                        USE_REENTRANT_API
  Built under linux
  Compiled at Mar 28 2014 08:18:25
  %ENV:
    PERL5LIB="/home/njh/.cpan/build/Thrift-XS-1.04-8/blib/arch:/home/njh/.cpan/build/Thrift-XS-1.04-8/blib/lib:/home/njh/.cpan/build/Test-BinaryData-0.014-8/blib/arch:/home/njh/.cpan/build/Test-BinaryData-0.014-8/blib/lib:/home/njh/.cpan/build/Devel-CheckLib-1.11-8/blib/arch:/home/njh/.cpan/build/Devel-CheckLib-1.11-8/blib/lib:/home/njh/.cpan/build/Mock-Config-0.03-8/blib/arch:/home/njh/.cpan/build/Mock-Config-0.03-8/blib/lib:/home/njh/.cpan/build/Thrift-0.11.0-8/blib/arch:/home/njh/.cpan/build/Thrift-0.11.0-8/blib/lib:/home/njh/.cpan/build/Bit-Vector-7.4-21/blib/arch:/home/njh/.cpan/build/Bit-Vector-7.4-21/blib/lib:/home/njh/.cpan/build/Authen-SASL-2.16-8/blib/arch:/home/njh/.cpan/build/Authen-SASL-2.16-8/blib/lib"
    PERL5OPT=""
    PERL5_CPANPLUS_IS_RUNNING="2816"
    PERL5_CPAN_IS_RUNNING="2816"
    PERLBREW_BASHRC_VERSION="0.75"
    PERLBREW_HOME="/home/njh/.perlbrew"
    PERLBREW_MANPATH="/home/njh/perl5/perlbrew/perls/perl-5.18.2/man"
    PERLBREW_PATH="/home/njh/perl5/perlbrew/bin:/home/njh/perl5/perlbrew/perls/perl-5.18.2/bin"
    PERLBREW_PERL="perl-5.18.2"
    PERLBREW_ROOT="/home/njh/perl5/perlbrew"
    PERLBREW_VERSION="0.75"
  @INC:
    /home/njh/.cpan/build/Thrift-XS-1.04-8/blib/arch
    /home/njh/.cpan/build/Thrift-XS-1.04-8/blib/lib
    /home/njh/.cpan/build/Test-BinaryData-0.014-8/blib/arch
    /home/njh/.cpan/build/Test-BinaryData-0.014-8/blib/lib
    /home/njh/.cpan/build/Devel-CheckLib-1.11-8/blib/arch
    /home/njh/.cpan/build/Devel-CheckLib-1.11-8/blib/lib
    /home/njh/.cpan/build/Mock-Config-0.03-8/blib/arch
    /home/njh/.cpan/build/Mock-Config-0.03-8/blib/lib
    /home/njh/.cpan/build/Thrift-0.11.0-8/blib/arch
    /home/njh/.cpan/build/Thrift-0.11.0-8/blib/lib
    /home/njh/.cpan/build/Bit-Vector-7.4-21/blib/arch
    /home/njh/.cpan/build/Bit-Vector-7.4-21/blib/lib
    /home/njh/.cpan/build/Authen-SASL-2.16-8/blib/arch
    /home/njh/.cpan/build/Authen-SASL-2.16-8/blib/lib
    /home/njh/perl5/perlbrew/perls/perl-5.18.2/lib/site_perl/5.18.2/x86_64-linux-thread-multi
    /home/njh/perl5/perlbrew/perls/perl-5.18.2/lib/site_perl/5.18.2
    /home/njh/perl5/perlbrew/perls/perl-5.18.2/lib/5.18.2/x86_64-linux-thread-multi
    /home/njh/perl5/perlbrew/perls/perl-5.18.2/lib/5.18.2
    .