Report for Test-WWW-Mechanize-1.46

Back
From: metabase:user:e7b34f46-36ca-11e0-a826-945c7ca43f85
Subject: PASS Test-WWW-Mechanize-1.46 v5.24.0 GNU/Linux
Date: 2016-08-21T14:36:43Z

This distribution has been tested as part of the CPAN Testers
project, supporting the Perl programming language.  See
http://wiki.cpantesters.org/ for more information or email
questions to cpan-testers-discuss@perl.org


--
Dear Andy Lester,

This is a computer-generated report for Test-WWW-Mechanize-1.46
on perl 5.24.0, created by CPAN-Reporter-1.2018.

Thank you for uploading your work to CPAN.  Congratulations!
All tests were successful.

Sections of this report:

    * Tester comments
    * Program output
    * Prerequisites
    * Environment and other context

------------------------------
TESTER COMMENTS
------------------------------

Additional comments from tester:

none provided

------------------------------
PROGRAM OUTPUT
------------------------------

Output from '/usr/bin/make test':

PERL_DL_NONLAZY=1 "/home/tom/perl5/perlbrew/perls/perl-5.24.0/bin/perl" "-MExtUtils::Command::MM" "-MTest::Harness" "-e" "undef *Test::Harness::Switches; test_harness(0, 'blib/lib', 'blib/arch')" t/*.t
# Testing Test::WWW::Mechanize 1.46, with WWW::Mechanize 1.75, LWP 6.15, Test::More 1.302052, Perl 5.024000, /home/tom/perl5/perlbrew/perls/perl-5.24.0/bin/perl
t/00-load.t ................ ok
t/autolint.t ............... skipped: HTML::Lint 2.20 is not installed, cannot test autolint
# Test server http://127.0.0.1:31517 as PID 10915
t/click_ok.t ............... ok
t/content_contains.t ....... ok
t/content_lacks.t .......... ok
# Test server http://127.0.0.1:36610 as PID 10922
t/delete_ok.t .............. ok
t/follow_link_ok.t ......... ok
t/followable_links.t ....... ok
t/get_ok-parms.t ........... ok
t/get_ok.t ................. ok
t/has_tag.t ................ ok
t/head_ok-parms.t .......... ok
t/head_ok.t ................ ok
# Test server http://127.0.0.1:34984 as PID 10944
t/headers.t ................ ok
t/html_lint_ok.t ........... skipped: HTML::Lint is not installed, cannot test autolint
t/lacks_uncapped_inputs.t .. ok
t/link_content.t ........... ok
t/link_status.t ............ ok
t/links_ok.t ............... ok
t/new.t .................... ok
t/page_links_content.t ..... ok
t/page_links_ok.t .......... ok
t/pod-coverage.t ........... ok
t/pod.t .................... ok
# Test server http://127.0.0.1:23699 as PID 10966
t/put_ok.t ................. ok
t/scrape_text_by_id.t ...... ok
t/stuff_inputs.t ........... ok
# Test server http://127.0.0.1:36327 as PID 10973
t/submit_form_ok.t ......... ok
t/text_contains.t .......... ok
t/title_is.t ............... ok
All tests successful.
Files=30, Tests=257,  9 wallclock secs ( 0.09 usr  0.02 sys +  3.29 cusr  0.20 csys =  3.60 CPU)
Result: PASS

------------------------------
PREREQUISITES
------------------------------

Prerequisite modules loaded:

requires:

    Module                    Need  Have    
    ------------------------- ----- --------
    Carp::Assert::More        0     1.14    
    HTML::TokeParser          0     3.69    
    HTML::TreeBuilder         0     5.03    
    HTTP::Server::Simple      0.42  0.51    
    HTTP::Server::Simple::CGI 0     0       
    LWP                       6.02  6.15    
    parent                    0     0.234   
    perl                      5.008 5.024000
    Test::Builder::Tester     1.09  1.302052
    Test::LongString          0.15  0.17    
    Test::More                0.96  1.302052
    URI::file                 0     4.21    
    WWW::Mechanize            1.68  1.75    

build_requires:

    Module                    Need  Have    
    ------------------------- ----- --------
    ExtUtils::MakeMaker       0     7.24    

configure_requires:

    Module                    Need  Have    
    ------------------------- ----- --------
    ExtUtils::MakeMaker       0     7.24    


------------------------------
ENVIRONMENT AND OTHER CONTEXT
------------------------------

Environment variables:

    LANG = en_GB.UTF-8
    LD_LIBRARY_PATH = /home/tom/local/lib:
    NONINTERACTIVE_TESTING = 1
    PATH = /home/tom/perl5/perlbrew/bin:/home/tom/perl5/perlbrew/perls/perl-5.24.0/bin:/home/tom/local/bin:/home/tom/local/bin:/usr/local/sbin:/usr/local/bin:/usr/sbin:/usr/bin:/sbin:/bin:/usr/games:/usr/local/games:/opt/android-sdk/platform-tools:/opt/android-sdk/tools:/opt/android-sdk/platform-tools:/opt/android-sdk/tools
    PERL5LIB = 
    PERL5OPT = 
    PERL5_CPANPLUS_IS_RUNNING = 8287
    PERL5_CPAN_IS_RUNNING = 8287
    PERLBREW_BASHRC_VERSION = 0.66
    PERLBREW_HOME = /home/tom/.perlbrew
    PERLBREW_MANPATH = /home/tom/perl5/perlbrew/perls/perl-5.24.0/man
    PERLBREW_PATH = /home/tom/perl5/perlbrew/bin:/home/tom/perl5/perlbrew/perls/perl-5.24.0/bin
    PERLBREW_PERL = perl-5.24.0
    PERLBREW_ROOT = /home/tom/perl5/perlbrew
    PERLBREW_VERSION = 0.76
    PERL_LWP_SSL_VERIFY_HOSTNAME = 0
    PERL_MM_USE_DEFAULT = 1
    SHELL = /bin/bash
    TERM = xterm-256color

Perl special variables (and OS-specific diagnostics, for MSWin32):

    $^X = /home/tom/perl5/perlbrew/perls/perl-5.24.0/bin/perl
    $UID/$EUID = 1000 / 1000
    $GID = 1000 4 24 27 30 46 60 100 113 116 120 124 127 130 131 135 1000
    $EGID = 1000 4 24 27 30 46 60 100 113 116 120 124 127 130 131 135 1000

Perl module toolchain versions installed:

    Module              Have    
    ------------------- --------
    CPAN                2.14    
    CPAN::Meta          2.150010
    Cwd                 3.63    
    ExtUtils::CBuilder  0.280225
    ExtUtils::Command   7.24    
    ExtUtils::Install   2.04    
    ExtUtils::MakeMaker 7.24    
    ExtUtils::Manifest  1.70    
    ExtUtils::ParseXS   3.31    
    File::Spec          3.63    
    JSON                2.90    
    JSON::PP            2.27400 
    Module::Build       0.4220  
    Module::Signature   0.80    
    Parse::CPAN::Meta   2.150010
    Test::Harness       3.36    
    Test::More          1.302052
    YAML                1.16    
    YAML::Syck          n/a     
    version             0.9916  


--

Summary of my perl5 (revision 5 version 24 subversion 0) configuration:
   
  Platform:
    osname=linux, osvers=4.4.0-21-generic, archname=x86_64-linux
    uname='linux kleine 4.4.0-21-generic #37-ubuntu smp mon apr 18 18:33:37 utc 2016 x86_64 x86_64 x86_64 gnulinux '
    config_args='-de -Dprefix=/home/tom/perl5/perlbrew/perls/perl-5.24.0 -Dman1dir=none -Dman3dir=none -Aeval:scriptdir=/home/tom/perl5/perlbrew/perls/perl-5.24.0/bin'
    hint=recommended, useposix=true, d_sigaction=define
    useithreads=undef, usemultiplicity=undef
    use64bitint=define, use64bitall=define, uselongdouble=undef
    usemymalloc=n, bincompat5005=undef
  Compiler:
    cc='cc', ccflags ='-fwrapv -fno-strict-aliasing -pipe -fstack-protector-strong -I/usr/local/include -D_LARGEFILE_SOURCE -D_FILE_OFFSET_BITS=64',
    optimize='-O2',
    cppflags='-fwrapv -fno-strict-aliasing -pipe -fstack-protector-strong -I/usr/local/include'
    ccversion='', gccversion='5.3.1 20160413', gccosandvers=''
    intsize=4, longsize=8, ptrsize=8, doublesize=8, byteorder=12345678, doublekind=3
    d_longlong=define, longlongsize=8, d_longdbl=define, longdblsize=16, longdblkind=3
    ivtype='long', ivsize=8, nvtype='double', nvsize=8, Off_t='off_t', lseeksize=8
    alignbytes=8, prototype=define
  Linker and Libraries:
    ld='cc', ldflags =' -fstack-protector-strong -L/usr/local/lib'
    libpth=/usr/local/lib /usr/lib/gcc/x86_64-linux-gnu/5/include-fixed /usr/include/x86_64-linux-gnu /usr/lib /lib/x86_64-linux-gnu /lib/../lib /usr/lib/x86_64-linux-gnu /usr/lib/../lib /lib
    libs=-lpthread -lnsl -ldl -lm -lcrypt -lutil -lc
    perllibs=-lpthread -lnsl -ldl -lm -lcrypt -lutil -lc
    libc=libc-2.23.so, so=so, useshrplib=false, libperl=libperl.a
    gnulibc_version='2.23'
  Dynamic Linking:
    dlsrc=dl_dlopen.xs, dlext=so, d_dlsymun=undef, ccdlflags='-Wl,-E'
    cccdlflags='-fPIC', lddlflags='-shared -O2 -L/usr/local/lib -fstack-protector-strong'


Characteristics of this binary (from libperl): 
  Compile-time options: HAS_TIMES PERLIO_LAYERS PERL_COPY_ON_WRITE
                        PERL_DONT_CREATE_GVSV
                        PERL_HASH_FUNC_ONE_AT_A_TIME_HARD PERL_MALLOC_WRAP
                        PERL_PRESERVE_IVUV USE_64_BIT_ALL USE_64_BIT_INT
                        USE_LARGE_FILES USE_LOCALE USE_LOCALE_COLLATE
                        USE_LOCALE_CTYPE USE_LOCALE_NUMERIC USE_LOCALE_TIME
                        USE_PERLIO USE_PERL_ATOF
  Locally applied patches:
	Devel::PatchPerl 1.38
  Built under linux
  Compiled at Jul  5 2016 05:23:52
  %ENV:
    PERL5LIB=""
    PERL5OPT=""
    PERL5_CPANPLUS_IS_RUNNING="8287"
    PERL5_CPAN_IS_RUNNING="8287"
    PERLBREW_BASHRC_VERSION="0.66"
    PERLBREW_HOME="/home/tom/.perlbrew"
    PERLBREW_MANPATH="/home/tom/perl5/perlbrew/perls/perl-5.24.0/man"
    PERLBREW_PATH="/home/tom/perl5/perlbrew/bin:/home/tom/perl5/perlbrew/perls/perl-5.24.0/bin"
    PERLBREW_PERL="perl-5.24.0"
    PERLBREW_ROOT="/home/tom/perl5/perlbrew"
    PERLBREW_VERSION="0.76"
    PERL_LWP_SSL_VERIFY_HOSTNAME="0"
    PERL_MM_USE_DEFAULT="1"
  @INC:
    /home/tom/perl5/perlbrew/perls/perl-5.24.0/lib/site_perl/5.24.0/x86_64-linux
    /home/tom/perl5/perlbrew/perls/perl-5.24.0/lib/site_perl/5.24.0
    /home/tom/perl5/perlbrew/perls/perl-5.24.0/lib/5.24.0/x86_64-linux
    /home/tom/perl5/perlbrew/perls/perl-5.24.0/lib/5.24.0
    .