Report for HTML-Zoom-Parser-HH5P-0.002

Back
From: metabase:user:fcf99560-6bf4-1014-86b3-1cf189224fdf
Subject: PASS HTML-Zoom-Parser-HH5P-0.002 v5.14.4 
Date: 2013-05-31T14:44:28Z

This distribution has been tested as part of the CPAN Testers
project, supporting the Perl programming language.  See
http://wiki.cpantesters.org/ for more information or email
questions to cpan-testers-discuss@perl.org


--
Dear Toby Inkster,

This is a computer-generated report for HTML-Zoom-Parser-HH5P-0.002
on perl 5.14.4, created by CPAN-Reporter-1.2010.

Thank you for uploading your work to CPAN.  Congratulations!
All tests were successful.

Sections of this report:

    * Tester comments
    * Program output
    * Prerequisites
    * Environment and other context

------------------------------
TESTER COMMENTS
------------------------------

Additional comments from tester:

this report is from an automated smoke testing program
and was not reviewed by a human for accuracy

------------------------------
PROGRAM OUTPUT
------------------------------

Output from 'C:\Perl\site\bin\dmake.exe test':

C:\Perl\bin\perl.exe "-MExtUtils::Command::MM" "-e" "test_harness(0, 'inc', 'blib\lib', 'blib\arch')" t/hzphp-00-compile.t t/hzphp-actions.t t/hzphp-apply.t t/hzphp-balance.t t/hzphp-doctype.t t/hzphp-dwim-autoload.t t/hzphp-flush.t t/hzphp-forms.t t/hzphp-parser_weirdness.t t/hzphp-repeat_bugfixes.t t/hzphp-selectors.t t/hzphp-span.t t/hzphp-todo-repeat.t
t/hzphp-00-compile.t ........ ok
t/hzphp-actions.t ........... skipped: TODO
t/hzphp-apply.t ............. ok
t/hzphp-balance.t ........... ok
t/hzphp-doctype.t ........... ok
t/hzphp-dwim-autoload.t ..... ok
t/hzphp-flush.t ............. ok
t/hzphp-forms.t ............. skipped: TODO
t/hzphp-parser_weirdness.t .. skipped: TODO
t/hzphp-repeat_bugfixes.t ... ok
t/hzphp-selectors.t ......... ok
t/hzphp-span.t .............. ok
t/hzphp-todo-repeat.t ....... skipped: Totally doesn't work yet
All tests successful.
Files=13, Tests=72, 10 wallclock secs ( 0.17 usr +  0.02 sys =  0.19 CPU)
Result: PASS

------------------------------
PREREQUISITES
------------------------------

Prerequisite modules loaded:

requires:

    Module                Need     Have    
    --------------------- -------- --------
    ExtUtils::MakeMaker   6.59     6.62    
    HTML::HTML5::Entities 0        0.003   
    HTML::HTML5::Parser   0.206    0.208   
    HTML::Zoom            0.009007 0.009007
    Moo                   1.000000 1.002000
    namespace::clean      0        0.24    
    perl                  5.008    5.014004
    strictures            1        1.004004
    XML::LibXML           2        2.0018  

build_requires:

    Module                Need     Have    
    --------------------- -------- --------
    ExtUtils::MakeMaker   6.59     6.62    
    strictures            1        1.004004

configure_requires:

    Module                Need     Have    
    --------------------- -------- --------
    ExtUtils::MakeMaker   6.59     6.62    


------------------------------
ENVIRONMENT AND OTHER CONTEXT
------------------------------

Environment variables:

    AUTOMATED_TESTING = 1
    COMSPEC = C:\windows\system32\cmd.exe
    NUMBER_OF_PROCESSORS = 4
    PATH = C:\Perl\site\bin;C:\Perl\bin;C:\Program Files\Common Files\Microsoft Shared\Windows Live;C:\Program Files (x86)\Common Files\Microsoft Shared\Windows Live;C:\Program Files (x86)\Intel\iCLS Client\;C:\Program Files\Intel\iCLS Client\;C:\windows\system32;C:\windows;C:\windows\System32\Wbem;C:\windows\System32\WindowsPowerShell\v1.0\;C:\Program Files\Intel\Intel(R) Management Engine Components\DAL;C:\Program Files\Intel\Intel(R) Management Engine Components\IPT;C:\Program Files (x86)\Intel\Intel(R) Management Engine Components\DAL;C:\Program Files (x86)\Intel\Intel(R) Management Engine Components\IPT;C:\Program Files (x86)\Windows Live\Shared;C:\Program Files\MySQL\MySQL Server 5.5\bin
    PERL5LIB = C:\Perl\cpan\build\HTML-HTML5-Parser-0.208-GG4Q_i/blib/arch;C:\Perl\cpan\build\HTML-HTML5-Parser-0.208-GG4Q_i/blib/lib;C:\Perl\cpan\build\HTML-HTML5-Entities-0.003-G8KtYb/blib/arch;C:\Perl\cpan\build\HTML-HTML5-Entities-0.003-G8KtYb/blib/lib;C:\Perl\cpan\build\IO-HTML-1.00-M57gu8/blib/arch;C:\Perl\cpan\build\IO-HTML-1.00-M57gu8/blib/lib;C:\Perl\cpan\build\HTML-Zoom-0.009007-rsR9dV/blib/arch;C:\Perl\cpan\build\HTML-Zoom-0.009007-rsR9dV/blib/lib
    PERL5OPT = 
    PERL5_CPANPLUS_IS_RUNNING = 3436
    PERL5_CPAN_IS_RUNNING = 3436
    PERL5_CPAN_IS_RUNNING_IN_RECURSION = 4172,3436
    PERL_CR_SMOKER_CURRENT = HTML-Zoom-Parser-HH5P-0.002
    PERL_EXTUTILS_AUTOINSTALL = --defaultdeps
    PERL_MM_USE_DEFAULT = 1
    PROCESSOR_IDENTIFIER = Intel64 Family 6 Model 42 Stepping 7, GenuineIntel
    TEMP = C:\Users\training\AppData\Local\Temp

Perl special variables (and OS-specific diagnostics, for MSWin32):

    $^X = C:\Perl\bin\perl.exe
    $UID/$EUID = 0 / 0
    $GID = 0
    $EGID = 0
    Win32::GetOSName = Win7
    Win32::GetOSVersion = Service Pack 1, 6, 1, 7601, 2, 1, 0, 768, 1
    Win32::FsType = NTFS
    Win32::IsAdminUser = 0

Perl module toolchain versions installed:

    Module              Have     
    ------------------- ---------
    CPAN                1.9600_01
    CPAN::Meta          2.120921 
    Cwd                 3.40     
    ExtUtils::CBuilder  0.280205 
    ExtUtils::Command   1.17     
    ExtUtils::Install   1.56     
    ExtUtils::MakeMaker 6.62     
    ExtUtils::Manifest  1.61     
    ExtUtils::ParseXS   3.18     
    File::Spec          3.40     
    JSON                2.53     
    JSON::PP            2.27200  
    Module::Build       0.4005   
    Module::Signature   n/a      
    Parse::CPAN::Meta   1.4404   
    Test::Harness       3.26     
    Test::More          0.98     
    YAML                0.84     
    YAML::Syck          n/a      
    version             0.9902   


--

Summary of my perl5 (revision 5 version 14 subversion 4) configuration:
   
  Platform:
    osname=MSWin32, osvers=5.2, archname=MSWin32-x86-multi-thread
    uname=''
    config_args='undef'
    hint=recommended, useposix=true, d_sigaction=undef
    useithreads=define, usemultiplicity=define
    useperlio=define, d_sfio=undef, uselargefiles=define, usesocks=undef
    use64bitint=undef, use64bitall=undef, uselongdouble=undef
    usemymalloc=n, bincompat5005=undef
  Compiler:
    cc='C:\Perl\site\bin\gcc.exe', ccflags ='-DNDEBUG -DWIN32 -D_CONSOLE -DNO_STRICT -DPERL_TEXTMODE_SCRIPTS -DUSE_SITECUSTOMIZE -DPERL_IMPLICIT_CONTEXT -DPERL_IMPLICIT_SYS -DUSE_PERLIO -D_USE_32BIT_TIME_T -DHASATTRIBUTE -fno-strict-aliasing -mms-bitfields',
    optimize='-O2',
    cppflags='-DWIN32'
    ccversion='', gccversion='3.4.5 (mingw-vista special r3)', gccosandvers=''
    intsize=4, longsize=4, ptrsize=4, doublesize=8, byteorder=1234
    d_longlong=undef, longlongsize=8, d_longdbl=define, longdblsize=8
    ivtype='long', ivsize=4, nvtype='double', nvsize=8, Off_t='__int64', lseeksize=8
    alignbytes=8, prototype=define
  Linker and Libraries:
    ld='C:\Perl\site\bin\g++.exe', ldflags ='-L"C:\Perl\lib\CORE"'
    libpth=\lib
    libs=-lkernel32 -luser32 -lgdi32 -lwinspool -lcomdlg32 -ladvapi32 -lshell32 -lole32 -loleaut32 -lnetapi32 -luuid -lws2_32 -lmpr -lwinmm -lversion -lodbc32 -lodbccp32 -lcomctl32 -lmsvcrt
    perllibs=-lkernel32 -luser32 -lgdi32 -lwinspool -lcomdlg32 -ladvapi32 -lshell32 -lole32 -loleaut32 -lnetapi32 -luuid -lws2_32 -lmpr -lwinmm -lversion -lodbc32 -lodbccp32 -lcomctl32 -lmsvcrt
    libc=msvcrt.lib, so=dll, useshrplib=true, libperl=perl514.lib
    gnulibc_version=''
  Dynamic Linking:
    dlsrc=dl_win32.xs, dlext=dll, d_dlsymun=undef, ccdlflags=' '
    cccdlflags=' ', lddlflags='-mdll -L"C:\Perl\lib\CORE"'


Characteristics of this binary (from libperl): 
  Compile-time options: MULTIPLICITY PERL_DONT_CREATE_GVSV
                        PERL_IMPLICIT_CONTEXT PERL_IMPLICIT_SYS
                        PERL_MALLOC_WRAP PERL_PRESERVE_IVUV PL_OP_SLAB_ALLOC
                        USE_ITHREADS USE_LARGE_FILES USE_PERLIO USE_PERL_ATOF
                        USE_SITECUSTOMIZE
  Locally applied patches:
	ActivePerl Build 1405 [296746]
	ca8398a sv.c: S_anonymise_cv_maybe UTF8 cleanup.
  Built under MSWin32
  Compiled at Mar 13 2013 12:32:02
  %ENV:
    PERL5LIB="C:\Perl\cpan\build\HTML-HTML5-Parser-0.208-GG4Q_i/blib/arch;C:\Perl\cpan\build\HTML-HTML5-Parser-0.208-GG4Q_i/blib/lib;C:\Perl\cpan\build\HTML-HTML5-Entities-0.003-G8KtYb/blib/arch;C:\Perl\cpan\build\HTML-HTML5-Entities-0.003-G8KtYb/blib/lib;C:\Perl\cpan\build\IO-HTML-1.00-M57gu8/blib/arch;C:\Perl\cpan\build\IO-HTML-1.00-M57gu8/blib/lib;C:\Perl\cpan\build\HTML-Zoom-0.009007-rsR9dV/blib/arch;C:\Perl\cpan\build\HTML-Zoom-0.009007-rsR9dV/blib/lib"
    PERL5_CPANPLUS_IS_RUNNING="3436"
    PERL5_CPAN_IS_RUNNING="3436"
    PERL5_CPAN_IS_RUNNING_IN_RECURSION="4172,3436"
    PERL_CR_SMOKER_CURRENT="HTML-Zoom-Parser-HH5P-0.002"
    PERL_EXTUTILS_AUTOINSTALL="--defaultdeps"
    PERL_MM_USE_DEFAULT="1"
  @INC:
    C:\Perl\cpan\build\HTML-HTML5-Parser-0.208-GG4Q_i/blib/arch
    C:\Perl\cpan\build\HTML-HTML5-Parser-0.208-GG4Q_i/blib/lib
    C:\Perl\cpan\build\HTML-HTML5-Entities-0.003-G8KtYb/blib/arch
    C:\Perl\cpan\build\HTML-HTML5-Entities-0.003-G8KtYb/blib/lib
    C:\Perl\cpan\build\IO-HTML-1.00-M57gu8/blib/arch
    C:\Perl\cpan\build\IO-HTML-1.00-M57gu8/blib/lib
    C:\Perl\cpan\build\HTML-Zoom-0.009007-rsR9dV/blib/arch
    C:\Perl\cpan\build\HTML-Zoom-0.009007-rsR9dV/blib/lib
    C:/Perl/site/lib
    C:/Perl/lib
    .