Back
From: metabase:user:014dcf74-b469-11df-a3a3-46a6e104d833
Subject: PASS Module-Info-0.32 v5.8.0 GNU/Linux
Date: 2010-09-09T18:04:24Z
This distribution has been tested as part of the CPAN Testers
project, supporting the Perl programming language. See
http://wiki.cpantesters.org/ for more information or email
questions to cpan-testers-discuss@perl.org
--
Dear Mattia Barbon,
This is a computer-generated report for Module-Info-0.32
on perl 5.8.0, created by CPAN-Reporter-1.18.
Thank you for uploading your work to CPAN. Congratulations!
All tests were successful.
Sections of this report:
* Tester comments
* Program output
* Prerequisites
* Environment and other context
------------------------------
TESTER COMMENTS
------------------------------
Additional comments from tester:
none provided
------------------------------
PROGRAM OUTPUT
------------------------------
Output from '/usr/bin/make test':
PERL_DL_NONLAZY=1 /usr/bin/perl "-MExtUtils::Command::MM" "-e" "test_harness(0, 'blib/lib', 'blib/arch')" t/*.t
t/Module-Info.t .......... ok
t/n0_die_on_error.t ...... ok
t/n1_modules_required.t .. ok
t/n2_safe.t .............. ok
t/n3_version.t ........... ok
t/zy_pod_coverage.t ...... ok
t/zz_pod.t ............... ok
All tests successful.
Files=7, Tests=115, 7 wallclock secs ( 0.12 usr 0.03 sys + 6.61 cusr 0.32 csys = 7.08 CPU)
Result: PASS
------------------------------
PREREQUISITES
------------------------------
Prerequisite modules loaded:
requires:
Module Need Have
---------- ---- ----
File::Spec 0.8 3.31
------------------------------
ENVIRONMENT AND OTHER CONTEXT
------------------------------
Environment variables:
LANG = C
LC_ALL = C
LC_COLLATE = POSIX
PATH = /usr/kerberos/sbin:/usr/kerberos/bin:/usr/local/sbin:/usr/local/bin:/sbin:/bin:/usr/sbin:/usr/bin
PERL5LIB =
PERL5OPT =
PERL5_CPANPLUS_IS_RUNNING = 15707
PERL5_CPAN_IS_RUNNING = 15707
SHELL = /bin/bash
TERM = xterm
Perl special variables (and OS-specific diagnostics, for MSWin32):
$^X = /usr/bin/perl
$UID/$EUID = 0 / 0
$GID = 0 10 6 4 3 2 1 0
$EGID = 0 10 6 4 3 2 1 0
Perl module toolchain versions installed:
Module Have
------------------- ------
CPAN 1.9402
Cwd 3.31
ExtUtils::CBuilder 0.2703
ExtUtils::Command 1.16
ExtUtils::Install 1.54
ExtUtils::MakeMaker 6.56
ExtUtils::Manifest 1.58
ExtUtils::ParseXS 2.2206
File::Spec 3.31
Module::Build 0.3607
Module::Signature 0.66
Test::Harness 3.22
Test::More 0.96
YAML 0.68
YAML::Syck 1.14
version 0.82
--
Summary of my perl5 (revision 5.0 version 8 subversion 0) configuration:
Platform:
osname=linux, osvers=2.6.9-22.18.bz155725.elsmp, archname=i386-linux-thread-multi
uname='linux hs20-bc1-4.build.redhat.com 2.6.9-22.18.bz155725.elsmp #1 smp thu nov 17 15:34:08 est 2005 i686 i686 i386 gnulinux '
config_args='-des -Doptimize=-O2 -g -pipe -march=i386 -mcpu=i686 -Dmyhostname=localhost -Dperladmin=root@localhost -Dcc=gcc -Dcf_by=Red Hat, Inc. -Dinstallprefix=/usr -Dprefix=/usr -Darchname=i386-linux -Dvendorprefix=/usr -Dsiteprefix=/usr -Dotherlibdirs=/usr/lib/perl5/5.8.0 -Duseshrplib -Dusethreads -Duseithreads -Duselargefiles -Dd_dosuid -Dd_semctl_semun -Di_db -Ui_ndbm -Di_gdbm -Di_shadow -Di_syslog -Dman3ext=3pm -Duseperlio -Dinstallusrbinperl -Ubincompat5005 -Uversiononly -Dpager=/usr/bin/less -isr'
hint=recommended, useposix=true, d_sigaction=define
usethreads=define use5005threads=undef useithreads=define usemultiplicity=define
useperlio=define d_sfio=undef uselargefiles=define usesocks=undef
use64bitint=undef use64bitall=undef uselongdouble=undef
usemymalloc=n, bincompat5005=undef
Compiler:
cc='gcc', ccflags ='-D_REENTRANT -D_GNU_SOURCE -DTHREADS_HAVE_PIDS -DDEBUGGING -fno-strict-aliasing -I/usr/local/include -D_LARGEFILE_SOURCE -D_FILE_OFFSET_BITS=64 -I/usr/include/gdbm',
optimize='-O2 -g -pipe -march=i386 -mcpu=i686',
cppflags='-D_REENTRANT -D_GNU_SOURCE -DTHREADS_HAVE_PIDS -DDEBUGGING -fno-strict-aliasing -I/usr/local/include -I/usr/include/gdbm'
ccversion='', gccversion='3.2.3 20030502 (Red Hat Linux 3.2.3-54)', gccosandvers=''
intsize=4, longsize=4, ptrsize=4, doublesize=8, byteorder=1234
d_longlong=define, longlongsize=8, d_longdbl=define, longdblsize=12
ivtype='long', ivsize=4, nvtype='double', nvsize=8, Off_t='off_t', lseeksize=8
alignbytes=4, prototype=define
Linker and Libraries:
ld='gcc', ldflags =' -L/usr/local/lib'
libpth=/usr/local/lib /lib /usr/lib
libs=-lnsl -lgdbm -ldb -ldl -lm -lpthread -lc -lcrypt -lutil
perllibs=-lnsl -ldl -lm -lpthread -lc -lcrypt -lutil
libc=/lib/libc-2.3.2.so, so=so, useshrplib=true, libperl=libperl.so
gnulibc_version='2.3.2'
Dynamic Linking:
dlsrc=dl_dlopen.xs, dlext=so, d_dlsymun=undef, ccdlflags='-rdynamic -Wl,-rpath,/usr/lib/perl5/5.8.0/i386-linux-thread-multi/CORE'
cccdlflags='-fPIC', lddlflags='-shared -L/usr/local/lib'
Characteristics of this binary (from libperl):
Compile-time options: DEBUGGING MULTIPLICITY USE_ITHREADS USE_LARGE_FILES PERL_IMPLICIT_CONTEXT
Locally applied patches:
MAINT18379
Built under linux
Compiled at May 19 2006 18:46:50
%ENV:
PERL5LIB=""
PERL5OPT=""
PERL5_CPANPLUS_IS_RUNNING="15707"
PERL5_CPAN_IS_RUNNING="15707"
@INC:
/usr/lib/perl5/5.8.0/i386-linux-thread-multi
/usr/lib/perl5/5.8.0
/usr/lib/perl5/site_perl/5.8.0/i386-linux-thread-multi
/usr/lib/perl5/site_perl/5.8.0
/usr/lib/perl5/site_perl
/usr/lib/perl5/vendor_perl/5.8.0/i386-linux-thread-multi
/usr/lib/perl5/vendor_perl/5.8.0
/usr/lib/perl5/vendor_perl
/usr/lib/perl5/5.8.0/i386-linux-thread-multi
/usr/lib/perl5/5.8.0
.