Back
From: metabase:user:8c791fea-1acb-11e0-a005-03276621b9a1
Subject: PASS Crypt-SSLeay-0.72 v5.22.1 GNU/Linux
Date: 2016-01-20T23:08:13Z
This distribution has been tested as part of the CPAN Testers
project, supporting the Perl programming language. See
http://wiki.cpantesters.org/ for more information or email
questions to cpan-testers-discuss@perl.org
--
Dear A. Sinan Unur,
This is a computer-generated report for Crypt-SSLeay-0.72
on perl 5.22.1, created by CPAN-Reporter-1.2015.
Thank you for uploading your work to CPAN. Congratulations!
All tests were successful.
Sections of this report:
* Tester comments
* Program output
* Prerequisites
* Environment and other context
------------------------------
TESTER COMMENTS
------------------------------
Additional comments from tester:
none provided
------------------------------
PROGRAM OUTPUT
------------------------------
Output from '/usr/bin/make test':
Running Mkbootstrap for Crypt::SSLeay ()
chmod 644 "SSLeay.bs"
PERL_DL_NONLAZY=1 "/pkg/perl-5.22.1/bin/perl" "-MExtUtils::Command::MM" "-MTest::Harness" "-e" "undef *Test::Harness::Switches; test_harness(0, 'blib/lib', 'blib/arch')" t/*.t
t/00-basic.t ..... ok
t/01-connect.t ... ok
# Reading configuration from 'test.config' on linux
# network_tests : 0
t/02-live.t ...... skipped: Network tests disabled
t/03-version.t ... ok
t/boilerplate.t .. ok
t/manifest.t ..... skipped: Author tests not required for installation
All tests successful.
Files=6, Tests=43, 0 wallclock secs ( 0.04 usr 0.01 sys + 0.37 cusr 0.02 csys = 0.44 CPU)
Result: PASS
------------------------------
PREREQUISITES
------------------------------
Prerequisite modules loaded:
requires:
Module Need Have
-------------------- -------- --------
LWP::Protocol::https 6.02 6.06
MIME::Base64 0 3.15
perl 5.006 5.022001
build_requires:
Module Need Have
-------------------- -------- --------
ExtUtils::MakeMaker 0 7.04_01
Test::More 0.19 1.001014
Try::Tiny 0.19 0.24
configure_requires:
Module Need Have
-------------------- -------- --------
ExtUtils::CBuilder 0.280205 0.280221
Getopt::Long 0 2.45
Path::Class 0.26 0.35
Try::Tiny 0.19 0.24
------------------------------
ENVIRONMENT AND OTHER CONTEXT
------------------------------
Environment variables:
LC_CTYPE = en_US.UTF-8
PATH = /home/dylan/bin:/bin:/sbin:/usr/bin:/usr/sbin
PERL5LIB = /usr/src/cpan/build/Path-Class-0.35-byiTx_/blib/arch:/usr/src/cpan/build/Path-Class-0.35-byiTx_/blib/lib:/usr/src/cpan/build/Module-Build-0.4216-PfJZqX/blib/arch:/usr/src/cpan/build/Module-Build-0.4216-PfJZqX/blib/lib:/usr/src/cpan/build/libwww-perl-6.15-yrC4ep/blib/arch:/usr/src/cpan/build/libwww-perl-6.15-yrC4ep/blib/lib:/home/dylan/bin/perllib
PERL5OPT =
PERL5_CPANPLUS_IS_RUNNING = 6823
PERL5_CPAN_IS_RUNNING = 6823
PERLLIB = /home/dylan/bin/perllib
SHELL = /usr/bin/zsh
TERM = xtmux
Perl special variables (and OS-specific diagnostics, for MSWin32):
$^X = /pkg/perl-5.22.1/bin/perl
$UID/$EUID = 499 / 499
$GID = 499 3 4 6 25 54 80 88 98 99 100 102 499 49925
$EGID = 499 3 4 6 25 54 80 88 98 99 100 102 499 49925
Perl module toolchain versions installed:
Module Have
------------------- --------
CPAN 2.11
CPAN::Meta 2.150001
Cwd 3.56
ExtUtils::CBuilder 0.280221
ExtUtils::Command 1.20
ExtUtils::Install 2.04
ExtUtils::MakeMaker 7.04_01
ExtUtils::Manifest 1.70
ExtUtils::ParseXS 3.28
File::Spec 3.56
JSON 2.90
JSON::PP 2.27300
Module::Build 0.4216
Module::Signature 0.79
Parse::CPAN::Meta 1.4414
Test::Harness 3.35
Test::More 1.001014
YAML n/a
YAML::Syck n/a
version 0.9909
--
Summary of my perl5 (revision 5 version 22 subversion 1) configuration:
Platform:
osname=linux, osvers=4.2.6, archname=x86_64-linux
uname='linux datura.dylex.net 4.2.6-00002-g0fbc67a #3 smp sun nov 22 11:12:45 est 2015 x86_64 gnulinux '
config_args='-Dprefix=/pkg/perl-5.22.1'
hint=recommended, useposix=true, d_sigaction=define
useithreads=undef, usemultiplicity=undef
use64bitint=define, use64bitall=define, uselongdouble=undef
usemymalloc=n, bincompat5005=undef
Compiler:
cc='gcc', ccflags ='-fwrapv -fno-strict-aliasing -pipe -fstack-protector-strong -D_LARGEFILE_SOURCE -D_FILE_OFFSET_BITS=64 -D_FORTIFY_SOURCE=2',
optimize='-O2',
cppflags='-fwrapv -fno-strict-aliasing -pipe -fstack-protector-strong'
ccversion='', gccversion='4.9.3', gccosandvers=''
intsize=4, longsize=8, ptrsize=8, doublesize=8, byteorder=12345678, doublekind=3
d_longlong=define, longlongsize=8, d_longdbl=define, longdblsize=16, longdblkind=3
ivtype='long', ivsize=8, nvtype='double', nvsize=8, Off_t='off_t', lseeksize=8
alignbytes=8, prototype=define
Linker and Libraries:
ld='gcc', ldflags =' -fstack-protector-strong'
libpth=/pkg/gcc-4.9.3/lib /pkg/gcc-4.9.3/lib/gcc/x86_64-pc-linux/4.9.3/include-fixed /usr/lib /lib/../lib64 /usr/lib/../lib64 /lib /lib64 /usr/lib64
libs=-lpthread -lnsl -lgdbm -ldb -ldl -lm -lcrypt -lutil -lc -lgdbm_compat
perllibs=-lpthread -lnsl -ldl -lm -lcrypt -lutil -lc
libc=libc-2.21.so, so=so, useshrplib=false, libperl=libperl.a
gnulibc_version='2.21'
Dynamic Linking:
dlsrc=dl_dlopen.xs, dlext=so, d_dlsymun=undef, ccdlflags='-Wl,-E'
cccdlflags='-fPIC', lddlflags='-shared -O2 -fstack-protector-strong'
Characteristics of this binary (from libperl):
Compile-time options: HAS_TIMES PERLIO_LAYERS PERL_DONT_CREATE_GVSV
PERL_HASH_FUNC_ONE_AT_A_TIME_HARD PERL_MALLOC_WRAP
PERL_NEW_COPY_ON_WRITE PERL_PRESERVE_IVUV
USE_64_BIT_ALL USE_64_BIT_INT USE_LARGE_FILES
USE_LOCALE USE_LOCALE_COLLATE USE_LOCALE_CTYPE
USE_LOCALE_NUMERIC USE_LOCALE_TIME USE_PERLIO
USE_PERL_ATOF
Built under linux
Compiled at Jan 20 2016 14:15:26
%ENV:
PERL5LIB="/usr/src/cpan/build/Path-Class-0.35-byiTx_/blib/arch:/usr/src/cpan/build/Path-Class-0.35-byiTx_/blib/lib:/usr/src/cpan/build/Module-Build-0.4216-PfJZqX/blib/arch:/usr/src/cpan/build/Module-Build-0.4216-PfJZqX/blib/lib:/usr/src/cpan/build/libwww-perl-6.15-yrC4ep/blib/arch:/usr/src/cpan/build/libwww-perl-6.15-yrC4ep/blib/lib:/home/dylan/bin/perllib"
PERL5OPT=""
PERL5_CPANPLUS_IS_RUNNING="6823"
PERL5_CPAN_IS_RUNNING="6823"
PERLLIB="/home/dylan/bin/perllib"
@INC:
/usr/src/cpan/build/Path-Class-0.35-byiTx_/blib/arch
/usr/src/cpan/build/Path-Class-0.35-byiTx_/blib/lib
/usr/src/cpan/build/Module-Build-0.4216-PfJZqX/blib/arch
/usr/src/cpan/build/Module-Build-0.4216-PfJZqX/blib/lib
/usr/src/cpan/build/libwww-perl-6.15-yrC4ep/blib/arch
/usr/src/cpan/build/libwww-perl-6.15-yrC4ep/blib/lib
/home/dylan/bin/perllib
/pkg/perl/lib/x86_64
/pkg/perl/lib
/pkg/perl-5.22.1/lib/perl/x86_64
/pkg/perl-5.22.1/lib/perl
.