Back
From: metabase:user:3260881c-2aae-11df-837a-5e0a49663a4f
Subject: PASS Data-Visitor-0.27 v5.12.4 GNU/Linux
Date: 2011-06-21T21:44:45Z
This distribution has been tested as part of the CPAN Testers
project, supporting the Perl programming language. See
http://wiki.cpantesters.org/ for more information or email
questions to cpan-testers-discuss@perl.org
--
Dear Florian Ragwitz,
This is a computer-generated report for Data-Visitor-0.27
on perl 5.12.4, created by CPAN-Reporter-1.1902.
Thank you for uploading your work to CPAN. Congratulations!
All tests were successful.
Sections of this report:
* Tester comments
* Program output
* Prerequisites
* Environment and other context
------------------------------
TESTER COMMENTS
------------------------------
Additional comments from tester:
this report is from an automated smoke testing program
and was not reviewed by a human for accuracy
------------------------------
PROGRAM OUTPUT
------------------------------
Output from 'make test':
PERL_DL_NONLAZY=1 /home/szabgab/perl-5.12.4-default/bin/perl "-MExtUtils::Command::MM" "-e" "test_harness(0, 'blib/lib', 'blib/arch')" t/*.t
t/base.t ................. ok
t/bugs.t ................. ok
t/callback.t ............. ok
t/callback_aliasing.t .... ok
t/callback_hash_entry.t .. ok
t/circular_refs.t ........ ok
t/globs.t ................ ok
t/magic.t ................ ok
t/weak.t ................. ok
All tests successful.
Files=9, Tests=121, 3 wallclock secs ( 0.08 usr 0.00 sys + 2.19 cusr 0.17 csys = 2.44 CPU)
Result: PASS
------------------------------
PREREQUISITES
------------------------------
Prerequisite modules loaded:
requires:
Module Need Have
------------------- ---- ------
Moose 0.89 2.0010
namespace::clean 0.08 0.20
Task::Weaken 0 1.04
Test::More 0 0.98
Test::use::ok 0 0.02
Tie::ToObject 0.01 0.03
configure_requires:
Module Need Have
------------------- ---- ------
ExtUtils::MakeMaker 0 6.56
------------------------------
ENVIRONMENT AND OTHER CONTEXT
------------------------------
Environment variables:
AUTOMATED_TESTING = 1
LANG = en_US.UTF-8
PATH = /home/szabgab/perl5/bin:/usr/local/bin:/usr/bin:/bin:/usr/local/games:/usr/games
PERL5LIB =
PERL5OPT =
PERL5_CPANPLUS_IS_RUNNING = 21961
PERL5_CPAN_IS_RUNNING = 21961
PERL5_CPAN_IS_RUNNING_IN_RECURSION = 26979,21961
PERL_CR_SMOKER_CURRENT = Yukki-0.111720
PERL_EXTUTILS_AUTOINSTALL = --defaultdeps
PERL_MM_USE_DEFAULT = 1
SHELL = /bin/bash
TERM = xterm
Perl special variables (and OS-specific diagnostics, for MSWin32):
$^X = /home/szabgab/perl-5.12.4-default/bin/perl
$UID/$EUID = 1001 / 1001
$GID = 1001 1001
$EGID = 1001 1001
Perl module toolchain versions installed:
Module Have
------------------- -------
CPAN 1.94_56
Cwd 3.33
ExtUtils::CBuilder 0.27
ExtUtils::Command 1.16
ExtUtils::Install 1.55
ExtUtils::MakeMaker 6.56
ExtUtils::Manifest 1.57
ExtUtils::ParseXS 2.2206
File::Spec 3.33
Module::Build 0.3800
Module::Signature n/a
Test::Harness 3.23
Test::More 0.98
YAML 0.73
YAML::Syck 1.17
version 0.91
--
Summary of my perl5 (revision 5 version 12 subversion 4) configuration:
Platform:
osname=linux, osvers=2.6.35-28-generic, archname=x86_64-linux
uname='linux localhost 2.6.35-28-generic #50-ubuntu smp fri mar 18 18:42:20 utc 2011 x86_64 gnulinux '
config_args='-des -Dprefix=/home/szabgab/perl-5.12.4-default'
hint=recommended, useposix=true, d_sigaction=define
useithreads=undef, usemultiplicity=undef
useperlio=define, d_sfio=undef, uselargefiles=define, usesocks=undef
use64bitint=define, use64bitall=define, uselongdouble=undef
usemymalloc=n, bincompat5005=undef
Compiler:
cc='cc', ccflags ='-fno-strict-aliasing -pipe -fstack-protector -I/usr/local/include -D_LARGEFILE_SOURCE -D_FILE_OFFSET_BITS=64',
optimize='-O2',
cppflags='-fno-strict-aliasing -pipe -fstack-protector -I/usr/local/include'
ccversion='', gccversion='4.4.5', gccosandvers=''
intsize=4, longsize=8, ptrsize=8, doublesize=8, byteorder=12345678
d_longlong=define, longlongsize=8, d_longdbl=define, longdblsize=16
ivtype='long', ivsize=8, nvtype='double', nvsize=8, Off_t='off_t', lseeksize=8
alignbytes=8, prototype=define
Linker and Libraries:
ld='cc', ldflags =' -fstack-protector -L/usr/local/lib'
libpth=/usr/local/lib /lib/../lib /usr/lib/../lib /lib /usr/lib /usr/lib/x86_64-linux-gnu /lib64 /usr/lib64
libs=-lnsl -ldl -lm -lcrypt -lutil -lc
perllibs=-lnsl -ldl -lm -lcrypt -lutil -lc
libc=/lib/libc-2.12.1.so, so=so, useshrplib=false, libperl=libperl.a
gnulibc_version='2.12.1'
Dynamic Linking:
dlsrc=dl_dlopen.xs, dlext=so, d_dlsymun=undef, ccdlflags='-Wl,-E'
cccdlflags='-fPIC', lddlflags='-shared -O2 -L/usr/local/lib -fstack-protector'
Characteristics of this binary (from libperl):
Compile-time options: PERL_DONT_CREATE_GVSV PERL_MALLOC_WRAP USE_64_BIT_ALL
USE_64_BIT_INT USE_LARGE_FILES USE_PERLIO
USE_PERL_ATOF
Built under linux
Compiled at Jun 21 2011 17:54:11
%ENV:
PERL5LIB=""
PERL5OPT=""
PERL5_CPANPLUS_IS_RUNNING="21961"
PERL5_CPAN_IS_RUNNING="21961"
PERL5_CPAN_IS_RUNNING_IN_RECURSION="26979,21961"
PERL_CR_SMOKER_CURRENT="Yukki-0.111720"
PERL_EXTUTILS_AUTOINSTALL="--defaultdeps"
PERL_MM_USE_DEFAULT="1"
@INC:
/home/szabgab/perl-5.12.4-default/lib/site_perl/5.12.4/x86_64-linux
/home/szabgab/perl-5.12.4-default/lib/site_perl/5.12.4
/home/szabgab/perl-5.12.4-default/lib/5.12.4/x86_64-linux
/home/szabgab/perl-5.12.4-default/lib/5.12.4
.