MooseX-ClassAttribute v0.29 Perl 5 v5.28.3 x86_64-linux-thread-multi-ld
- Status
- Pass
- From
- Andreas J. König (ANDK)
- Dist
-
MooseX-ClassAttribute v0.29
- Platform
- Perl 5 v5.28.3 x86_64-linux-thread-multi-ld
- Date
- 2024-07-21 03:52:41
- ID
- ae2ffa94-4714-11ef-a041-a2dac794966f
This distribution has been tested as part of the CPAN Testers
project, supporting the Perl programming language. See
http://wiki.cpantesters.org/ for more information or email
questions to cpan-testers-discuss@perl.org
--
Dear Dave Rolsky,
This is a computer-generated report for MooseX-ClassAttribute-0.29
on perl 5.28.3, created by CPAN-Reporter-1.2018.
Thank you for uploading your work to CPAN. Congratulations!
All tests were successful.
Sections of this report:
* Tester comments
* Program output
* Prerequisites
* Environment and other context
------------------------------
TESTER COMMENTS
------------------------------
Additional comments from tester:
this report is from an automated smoke testing program
and was not reviewed by a human for accuracy
------------------------------
PROGRAM OUTPUT
------------------------------
Output from '/usr/bin/make test':
PERL_DL_NONLAZY=1 "/home/sand/src/perl/repoperls/installed-perls/host/k93msid/v5.28.3/ac75/bin/perl" "-MExtUtils::Command::MM" "-MTest::Harness" "-e" "undef *Test::Harness::Switches; test_harness(0, 'blib/lib', 'blib/arch')" t/*.t
#
# Versions for all modules listed in MYMETA.json (including optional ones):
#
# === Configure Requires ===
#
# Module Want Have
# ------------------- ---- ----
# ExtUtils::MakeMaker any 7.70
#
# === Build Requires ===
#
# Module Want Have
# ------------------- ---- ----
# ExtUtils::MakeMaker any 7.70
#
# === Test Requires ===
#
# Module Want Have
# ------------------- ---- --------
# ExtUtils::MakeMaker any 7.70
# File::Spec any 3.75
# Test::Fatal any 0.017
# Test::More 0.96 1.302199
# Test::Requires 0.05 0.11
# lib any 0.64
# vars any 1.04
#
# === Test Recommends ===
#
# Module Want Have
# ---------- -------- --------
# CPAN::Meta 2.120900 2.150010
#
# === Runtime Requires ===
#
# Module Want Have
# ---------------------------- ---- ------
# List::Util 1.45 1.63
# Moose 2.00 2.2201
# Moose::Exporter any 2.2201
# Moose::Meta::Role::Attribute any 2.2201
# Moose::Role any 2.2201
# Moose::Util any 2.2201
# Moose::Util::MetaRole any 2.2201
# Scalar::Util any 1.63
# namespace::autoclean 0.11 0.29
# namespace::clean 0.20 0.27
# strict any 1.11
# warnings any 1.42
#
t/00-report-prereqs.t ..................... ok
t/01-basic.t .............................. ok
t/02-immutable.t .......................... ok
t/03-introspection.t ...................... ok
t/04-with-native-traits.t ................. ok
t/05-with-attribute-helpers-backcompat.t .. skipped: Test requires module 'MooseX::AttributeHelpers' but it's not found
t/06-role.t ............................... ok
t/07-parameterized-role.t ................. skipped: This test will not pass without changes to MooseX::Role::Parmeterized
t/08-role-composition.t ................... ok
t/09-bare-native-traits.t ................. ok
t/10-strict-role-composition.t ............ skipped: Test requires module 'MooseX::Role::Strict' but it's not found
t/11-moose-exporter.t ..................... skipped: This test fails with a syntax error
t/12-with-initializer.t ................... ok
All tests successful.
Files=13, Tests=178, 6 wallclock secs ( 0.06 usr 0.04 sys + 4.02 cusr 0.59 csys = 4.71 CPU)
Result: PASS
------------------------------
PREREQUISITES
------------------------------
Prerequisite modules loaded:
requires:
Module Need Have
---------------------------- ---- --------
List::Util 1.45 1.63
Moose 2.00 2.2201
Moose::Exporter 0 2.2201
Moose::Meta::Role::Attribute 0 2.2201
Moose::Role 0 2.2201
Moose::Util 0 2.2201
Moose::Util::MetaRole 0 2.2201
namespace::autoclean 0.11 0.29
namespace::clean 0.20 0.27
Scalar::Util 0 1.63
strict 0 1.11
warnings 0 1.42
build_requires:
Module Need Have
---------------------------- ---- --------
ExtUtils::MakeMaker 0 7.70
File::Spec 0 3.75
lib 0 0.64
Test::Fatal 0 0.017
Test::More 0.96 1.302199
Test::Requires 0.05 0.11
vars 0 1.04
configure_requires:
Module Need Have
---------------------------- ---- --------
ExtUtils::MakeMaker 0 7.70
------------------------------
ENVIRONMENT AND OTHER CONTEXT
------------------------------
Environment variables:
AUTOMATED_TESTING = 1
LANG = en_US.UTF-8
LANGUAGE = en_US:en
PATH = /home/sand/bin:/usr/local/bin:/usr/bin:/bin:/usr/games:/usr/local/perl/bin:/usr/X11/bin:/sbin:/usr/sbin
PERL5LIB =
PERL5OPT =
PERL5_CPANPLUS_IS_RUNNING = 1134218
PERL5_CPAN_IS_RUNNING = 1134218
PERL_CANARY_STABILITY_NOPROMPT = 1
PERL_MM_USE_DEFAULT = 1
PERL_USE_UNSAFE_INC = 1
SHELL = /usr/bin/zsh
TERM = screen
Perl special variables (and OS-specific diagnostics, for MSWin32):
$^X = /home/sand/src/perl/repoperls/installed-perls/host/k93msid/v5.28.3/ac75/bin/perl
$UID/$EUID = 1005 / 1005
$GID = 1005 1005
$EGID = 1005 1005
Perl module toolchain versions installed:
Module Have
------------------- --------
CPAN 2.34
CPAN::Meta 2.150010
Cwd 3.75
ExtUtils::CBuilder 0.280236
ExtUtils::Command 7.70
ExtUtils::Install 2.14
ExtUtils::MakeMaker 7.70
ExtUtils::Manifest 1.75
ExtUtils::ParseXS 3.51
File::Spec 3.75
JSON 4.10
JSON::PP 4.12
Module::Build 0.4231
Module::Signature 0.88
Parse::CPAN::Meta 2.150010
Test::Harness 3.44
Test::More 1.302199
YAML 1.30
YAML::Syck 1.34
version 0.9929
--
Summary of my perl5 (revision 5 version 28 subversion 3) configuration:
Derived from: ae49126f3ca2352fb49d7121a769189bf31e6f72
Platform:
osname=linux
osvers=5.19.0-2-amd64
archname=x86_64-linux-thread-multi-ld
uname='linux k93msid 5.19.0-2-amd64 #1 smp preempt_dynamic debian 5.19.11-1 (2022-09-24) x86_64 gnulinux '
config_args='-Dprefix=/home/sand/src/perl/repoperls/installed-perls/host/k93msid/v5.28.3/ac75 -Dmyhostname=k93msid -Dinstallusrbinperl=n -Uversiononly -Dusedevel -des -Ui_db -Dlibswanted=cl pthread socket inet nsl gdbm dbm malloc dl ld sun m crypt sec util c cposix posix ucb BSD gdbm_compat -Duseithreads -Duselongdouble -DEBUGGING=both'
hint=recommended
useposix=true
d_sigaction=define
useithreads=define
usemultiplicity=define
use64bitint=define
use64bitall=define
uselongdouble=define
usemymalloc=n
default_inc_excludes_dot=define
bincompat5005=undef
Compiler:
cc='cc'
ccflags ='-D_REENTRANT -D_GNU_SOURCE -fwrapv -DDEBUGGING -fno-strict-aliasing -pipe -fstack-protector-strong -I/usr/local/include -D_LARGEFILE_SOURCE -D_FILE_OFFSET_BITS=64 -D_FORTIFY_SOURCE=2'
optimize='-O2 -g'
cppflags='-D_REENTRANT -D_GNU_SOURCE -fwrapv -DDEBUGGING -fno-strict-aliasing -pipe -fstack-protector-strong -I/usr/local/include'
ccversion=''
gccversion='12.2.0'
gccosandvers=''
intsize=4
longsize=8
ptrsize=8
doublesize=8
byteorder=12345678
doublekind=3
d_longlong=define
longlongsize=8
d_longdbl=define
longdblsize=16
longdblkind=3
ivtype='long'
ivsize=8
nvtype='long double'
nvsize=16
Off_t='off_t'
lseeksize=8
alignbytes=16
prototype=define
Linker and Libraries:
ld='cc'
ldflags =' -fstack-protector-strong -L/usr/local/lib'
libpth=/usr/local/lib /usr/include/x86_64-linux-gnu /usr/lib /lib/x86_64-linux-gnu /lib/../lib /usr/lib/x86_64-linux-gnu /usr/lib/../lib /lib /lib64 /usr/lib64
libs=-lpthread -lnsl -ldl -lm -lcrypt -lutil -lc
perllibs=-lpthread -lnsl -ldl -lm -lcrypt -lutil -lc
libc=/lib/x86_64-linux-gnu/libc.so.6
so=so
useshrplib=false
libperl=libperl.a
gnulibc_version='2.35'
Dynamic Linking:
dlsrc=dl_dlopen.xs
dlext=so
d_dlsymun=undef
ccdlflags='-Wl,-E'
cccdlflags='-fPIC'
lddlflags='-shared -O2 -g -L/usr/local/lib -fstack-protector-strong'
Characteristics of this binary (from libperl):
Compile-time options:
DEBUGGING
HAS_TIMES
MULTIPLICITY
PERLIO_LAYERS
PERL_COPY_ON_WRITE
PERL_DONT_CREATE_GVSV
PERL_IMPLICIT_CONTEXT
PERL_MALLOC_WRAP
PERL_OP_PARENT
PERL_PRESERVE_IVUV
PERL_TRACK_MEMPOOL
PERL_USE_DEVEL
USE_64_BIT_ALL
USE_64_BIT_INT
USE_ITHREADS
USE_LARGE_FILES
USE_LOCALE
USE_LOCALE_COLLATE
USE_LOCALE_CTYPE
USE_LOCALE_NUMERIC
USE_LOCALE_TIME
USE_LONG_DOUBLE
USE_PERLIO
USE_PERL_ATOF
USE_REENTRANT_API
Locally applied patches:
uncommitted-changes
Built under linux
Compiled at Dec 1 2022 13:41:59
%ENV:
PERL5LIB=""
PERL5OPT=""
PERL5_CPANPLUS_IS_RUNNING="1134218"
PERL5_CPAN_IS_RUNNING="1134218"
PERL_CANARY_STABILITY_NOPROMPT="1"
PERL_MM_USE_DEFAULT="1"
PERL_USE_UNSAFE_INC="1"
@INC:
/home/sand/src/perl/repoperls/installed-perls/host/k93msid/v5.28.3/ac75/lib/site_perl/5.28.3/x86_64-linux-thread-multi-ld
/home/sand/src/perl/repoperls/installed-perls/host/k93msid/v5.28.3/ac75/lib/site_perl/5.28.3
/home/sand/src/perl/repoperls/installed-perls/host/k93msid/v5.28.3/ac75/lib/5.28.3/x86_64-linux-thread-multi-ld
/home/sand/src/perl/repoperls/installed-perls/host/k93msid/v5.28.3/ac75/lib/5.28.3
.