Report for XML-CompileX-Schema-Loader-0.003

Back
From: metabase:user:320bfe00-2aae-11df-837a-5e0a49663a4f
Subject: PASS XML-CompileX-Schema-Loader-0.003 v5.21.7 GNU/Linux
Date: 2015-01-07T01:01:15Z

This distribution has been tested as part of the CPAN Testers
project, supporting the Perl programming language.  See
http://wiki.cpantesters.org/ for more information or email
questions to cpan-testers-discuss@perl.org


--
Dear Mark Gardner,

This is a computer-generated report for XML-CompileX-Schema-Loader-0.003
on perl 5.21.7, created by CPAN-Reporter-1.2011.

Thank you for uploading your work to CPAN.  Congratulations!
All tests were successful.

Sections of this report:

    * Tester comments
    * Program output
    * Prerequisites
    * Environment and other context

------------------------------
TESTER COMMENTS
------------------------------

Additional comments from tester:

this report is from an automated smoke testing program
and was not reviewed by a human for accuracy

------------------------------
PROGRAM OUTPUT
------------------------------

Output from '/usr/bin/make test':

PERL_DL_NONLAZY=1 "/home/sand/src/perl/repoperls/installed-perls/perl/v5.21.7/9980/bin/perl" "-MExtUtils::Command::MM" "-MTest::Harness" "-e" "undef *Test::Harness::Switches; test_harness(0, 'blib/lib', 'blib/arch')" t/*.t
t/00-compile.t ............... ok
# Testing with Perl 5.021007, /home/sand/src/perl/repoperls/installed-perls/perl/v5.21.7/9980/bin/perl
#     CHI version is 0.58
#     Carp version is 1.34
#     Const::Fast version is 0.014
#     ExtUtils::MakeMaker version is 7.0505
#     File::Spec version is 3.53
#     HTTP::Exception version is 0.04006
#     HTTP::Response version is 6.04
#     HTTP::Status version is 6.03
#     IO::Handle version is 1.35
#     IO::Prompt::Tiny version is 0.002
#     IPC::Open3 version is 1.18
#     LWP::UserAgent version is 6.06
#     List::MoreUtils version is 0.402
#     Modern::Perl version is 1.20140107
#     Moo version is 1.006001
#     MooX::Types::MooseLike::Base version is 0.27
#     Path::Tiny version is 0.061
#     Scalar::Util version is 1.41
#     Test::LWP::UserAgent version is 0.026
#     Test::More version is 1.301001097
#     Test::Most version is 0.34
#     Test::TempDir::Tiny version is 0.003
#     URI version is 1.65
#     URI::file version is 4.21
#     WWW::Mechanize::Cached version is 1.44
#     XML::Compile::SOAP11 version is 3.05
#     XML::Compile::SOAP::Util version is 3.05
#     XML::Compile::Transport::SOAPHTTP version is 3.05
#     XML::Compile::Util version is 1.48
#     XML::Compile::WSDL11 version is 3.03
#     XML::LibXML version is 2.0117
#     strict version is 1.09
#     utf8 version is 1.14
#     warnings version is 1.29
t/000-report-versions.t ...... ok
t/author-critic.t ............ skipped: these tests are for testing by the author
t/author-eol.t ............... skipped: these tests are for testing by the author
t/author-no-tabs.t ........... skipped: these tests are for testing by the author
t/netsuite_2014_2_0.t ........ ok
t/release-cpan-changes.t ..... skipped: these tests are for release candidate testing
t/release-dist-manifest.t .... skipped: these tests are for release candidate testing
t/release-distmeta.t ......... skipped: these tests are for release candidate testing
t/release-kwalitee.t ......... skipped: these tests are for release candidate testing
t/release-meta-json.t ........ skipped: these tests are for release candidate testing
t/release-minimum-version.t .. skipped: these tests are for release candidate testing
t/release-mojibake.t ......... skipped: these tests are for release candidate testing
t/release-pod-coverage.t ..... skipped: these tests are for release candidate testing
t/release-pod-linkcheck.t .... skipped: these tests are for release candidate testing
t/release-pod-syntax.t ....... skipped: these tests are for release candidate testing
t/release-portability.t ...... skipped: these tests are for release candidate testing
t/release-synopsis.t ......... skipped: these tests are for release candidate testing
t/release-test-version.t ..... skipped: these tests are for release candidate testing
t/release-unused-vars.t ...... skipped: these tests are for release candidate testing
t/stockquote.t ............... ok
All tests successful.
Files=21, Tests=46, 11 wallclock secs ( 0.05 usr  0.04 sys +  3.46 cusr  0.31 csys =  3.86 CPU)
Result: PASS

------------------------------
PREREQUISITES
------------------------------

Prerequisite modules loaded:

requires:

    Module                            Need  Have        
    --------------------------------- ----- ------------
    HTTP::Exception                   0     0.04006     
    List::MoreUtils                   0     0.402       
    LWP::UserAgent                    0     6.06        
    Modern::Perl                      0     1.20140107  
    Moo                               0     1.006001    
    MooX::Types::MooseLike::Base      0     0.27        
    perl                              5.010 5.021007    
    URI                               0     1.65        
    utf8                              0     1.14        
    XML::Compile::SOAP::Util          0     3.05        
    XML::Compile::Util                0     1.48        
    XML::Compile::WSDL11              0     3.03        
    XML::LibXML                       0     2.0117      

build_requires:

    Module                            Need  Have        
    --------------------------------- ----- ------------
    Carp                              0     1.34        
    CHI                               0     0.58        
    Const::Fast                       0     0.014       
    ExtUtils::MakeMaker               0     7.05_05     
    File::Spec                        0     3.53        
    HTTP::Response                    0     6.04        
    HTTP::Status                      0     6.03        
    IO::Handle                        0     1.35        
    IO::Prompt::Tiny                  0     0.002       
    IPC::Open3                        0     1.18        
    Path::Tiny                        0     0.061       
    Scalar::Util                      0     1.41        
    strict                            0     1.09        
    Test::LWP::UserAgent              0     0.026       
    Test::More                        0.94  1.301001_097
    Test::Most                        0     0.34        
    Test::TempDir::Tiny               0     0.003       
    URI::file                         0     4.21        
    warnings                          0     1.29        
    WWW::Mechanize::Cached            0     1.44        
    XML::Compile::SOAP11              0     3.05        
    XML::Compile::Transport::SOAPHTTP 0     3.05        

configure_requires:

    Module                            Need  Have        
    --------------------------------- ----- ------------
    ExtUtils::MakeMaker               0     7.05_05     


------------------------------
ENVIRONMENT AND OTHER CONTEXT
------------------------------

Environment variables:

    AUTOMATED_TESTING = 1
    LANG = en_US.UTF-8
    LANGUAGE = en_US:en
    PATH = /home/sand/bin:/usr/local/bin:/usr/bin:/bin:/usr/games:/usr/local/perl/bin:/usr/X11/bin:/sbin:/usr/sbin
    PERL5LIB = 
    PERL5OPT = 
    PERL5_CPANPLUS_IS_RUNNING = 12625
    PERL5_CPAN_IS_RUNNING = 12625
    PERL_MM_USE_DEFAULT = 1
    SHELL = /usr/bin/zsh
    TERM = screen

Perl special variables (and OS-specific diagnostics, for MSWin32):

    $^X = /home/sand/src/perl/repoperls/installed-perls/perl/v5.21.7/9980/bin/perl
    $UID/$EUID = 1005 / 1005
    $GID = 1005 1005
    $EGID = 1005 1005

Perl module toolchain versions installed:

    Module              Have        
    ------------------- ------------
    CPAN                2.08        
    CPAN::Meta          2.143240    
    Cwd                 3.54        
    ExtUtils::CBuilder  0.280221    
    ExtUtils::Command   7.05_05     
    ExtUtils::Install   2.04        
    ExtUtils::MakeMaker 7.05_05     
    ExtUtils::Manifest  1.70        
    ExtUtils::ParseXS   3.27        
    File::Spec          3.53        
    JSON                2.90        
    JSON::PP            2.27300     
    Module::Build       0.4210      
    Module::Signature   0.73        
    Parse::CPAN::Meta   1.4414      
    Test::Harness       3.34        
    Test::More          1.301001_097
    YAML                1.13        
    YAML::Syck          1.29        
    version             0.9909      


--

Summary of my perl5 (revision 5 version 21 subversion 7) configuration:
  Commit id: 846dac6786c1ada87b95d0268c0a9772a4bd04fc
  Platform:
    osname=linux, osvers=3.16.0-4-amd64, archname=x86_64-linux-thread-multi
    uname='linux k83 3.16.0-4-amd64 #1 smp debian 3.16.7-2 (2014-11-06) x86_64 gnulinux '
    config_args='-Dprefix=/home/sand/src/perl/repoperls/installed-perls/perl/v5.21.7/9980 -Dmyhostname=k83 -Dinstallusrbinperl=n -Uversiononly -Dusedevel -des -Ui_db -Duseithreads -Uuselongdouble -DDEBUGGING=-g'
    hint=recommended, useposix=true, d_sigaction=define
    useithreads=define, usemultiplicity=define
    use64bitint=define, use64bitall=define, uselongdouble=undef
    usemymalloc=n, bincompat5005=undef
  Compiler:
    cc='cc', ccflags ='-D_REENTRANT -D_GNU_SOURCE -fwrapv -fno-strict-aliasing -pipe -fstack-protector-strong -I/usr/local/include -D_LARGEFILE_SOURCE -D_FILE_OFFSET_BITS=64 -D_FORTIFY_SOURCE=2',
    optimize='-O2 -g',
    cppflags='-D_REENTRANT -D_GNU_SOURCE -fwrapv -fno-strict-aliasing -pipe -fstack-protector-strong -I/usr/local/include'
    ccversion='', gccversion='4.9.2', gccosandvers=''
    intsize=4, longsize=8, ptrsize=8, doublesize=8, byteorder=12345678, doublekind=3
    d_longlong=define, longlongsize=8, d_longdbl=define, longdblsize=16, longdblkind=3
    ivtype='long', ivsize=8, nvtype='double', nvsize=8, Off_t='off_t', lseeksize=8
    alignbytes=8, prototype=define
  Linker and Libraries:
    ld='cc', ldflags =' -fstack-protector-strong -L/usr/local/lib'
    libpth=/usr/local/lib /usr/lib/gcc/x86_64-linux-gnu/4.9/include-fixed /usr/include/x86_64-linux-gnu /usr/lib /lib/x86_64-linux-gnu /lib/../lib /usr/lib/x86_64-linux-gnu /usr/lib/../lib /lib
    libs=-lnsl -lgdbm -ldb -ldl -lm -lcrypt -lutil -lc -lpthread -lgdbm_compat
    perllibs=-lnsl -ldl -lm -lcrypt -lutil -lc -lpthread
    libc=libc-2.19.so, so=so, useshrplib=false, libperl=libperl.a
    gnulibc_version='2.19'
  Dynamic Linking:
    dlsrc=dl_dlopen.xs, dlext=so, d_dlsymun=undef, ccdlflags='-Wl,-E'
    cccdlflags='-fPIC', lddlflags='-shared -O2 -g -L/usr/local/lib -fstack-protector-strong'


Characteristics of this binary (from libperl): 
  Compile-time options: HAS_TIMES MULTIPLICITY PERLIO_LAYERS
                        PERL_DONT_CREATE_GVSV
                        PERL_HASH_FUNC_ONE_AT_A_TIME_HARD
                        PERL_IMPLICIT_CONTEXT PERL_MALLOC_WRAP
                        PERL_NEW_COPY_ON_WRITE PERL_PRESERVE_IVUV
                        PERL_USE_DEVEL USE_64_BIT_ALL USE_64_BIT_INT
                        USE_ITHREADS USE_LARGE_FILES USE_LOCALE
                        USE_LOCALE_COLLATE USE_LOCALE_CTYPE
                        USE_LOCALE_NUMERIC USE_LOCALE_TIME USE_PERLIO
                        USE_PERL_ATOF USE_REENTRANT_API
  Built under linux
  Compiled at Dec 21 2014 12:15:33
  %ENV:
    PERL5LIB=""
    PERL5OPT=""
    PERL5_CPANPLUS_IS_RUNNING="12625"
    PERL5_CPAN_IS_RUNNING="12625"
    PERL_MM_USE_DEFAULT="1"
  @INC:
    /home/sand/src/perl/repoperls/installed-perls/perl/v5.21.7/9980/lib/site_perl/5.21.7/x86_64-linux-thread-multi
    /home/sand/src/perl/repoperls/installed-perls/perl/v5.21.7/9980/lib/site_perl/5.21.7
    /home/sand/src/perl/repoperls/installed-perls/perl/v5.21.7/9980/lib/5.21.7/x86_64-linux-thread-multi
    /home/sand/src/perl/repoperls/installed-perls/perl/v5.21.7/9980/lib/5.21.7
    .