WebService-Client v1.0001 Perl 5 v5.38.3 x86_64-linux-ld
- Status
- Pass
- From
- Andreas J. König (ANDK)
- Dist
-
WebService-Client v1.0001
- Platform
- Perl 5 v5.38.3 x86_64-linux-ld
- Date
- 2025-04-02 05:02:30
- ID
- ae34cd42-0f7f-11f0-8392-8da2f04de3af
This distribution has been tested as part of the CPAN Testers
project, supporting the Perl programming language. See
http://wiki.cpantesters.org/ for more information or email
questions to cpan-testers-discuss@perl.org
--
Dear Naveed Massjouni,
This is a computer-generated report for WebService-Client-1.0001
on perl 5.38.3, created by CPAN-Reporter-1.2020.
Thank you for uploading your work to CPAN. Congratulations!
All tests were successful.
Sections of this report:
* Tester comments
* Program output
* Prerequisites
* Environment and other context
------------------------------
TESTER COMMENTS
------------------------------
Additional comments from tester:
this report is from an automated smoke testing program
and was not reviewed by a human for accuracy
------------------------------
PROGRAM OUTPUT
------------------------------
Output from '/usr/bin/make test':
PERL_DL_NONLAZY=1 "/home/sand/src/perl/repoperls/installed-perls/host/k93msid/v5.38.3/af11/bin/perl" "-MExtUtils::Command::MM" "-MTest::Harness" "-e" "undef *Test::Harness::Switches; test_harness(0, 'blib/lib', 'blib/arch')" t/*.t
t/00-compile.t ................. ok
#
# Versions for all modules listed in MYMETA.json (including optional ones):
#
# === Configure Requires ===
#
# Module Want Have
# ------------------- ---- ----
# ExtUtils::MakeMaker any 7.70
#
# === Build Requires ===
#
# Module Want Have
# ------------------- ---- ----
# ExtUtils::MakeMaker any 7.70
#
# === Test Requires ===
#
# Module Want Have
# -------------------- ---- --------
# ExtUtils::MakeMaker any 7.70
# File::Spec any 3.88
# IO::Handle any 1.52
# IPC::Open3 any 1.22
# Test::LWP::UserAgent any 0.036
# Test::More any 1.302209
# strict any 1.12
# warnings any 1.65
#
# === Test Recommends ===
#
# Module Want Have
# ---------- -------- --------
# CPAN::Meta 2.120900 2.150010
#
# === Runtime Requires ===
#
# Module Want Have
# -------------------------- -------- --------
# Carp any 1.54
# HTTP::Message 6.06 7.00
# HTTP::Request any 7.00
# HTTP::Request::Common any 7.00
# HTTP::Response::Stringable 0.0002 0.0002
# JSON::MaybeXS any 1.004008
# LWP::UserAgent any 6.78
# Moo 1.005000 2.005005
# Moo::Role any 2.005005
#
t/00-report-prereqs.t .......... ok
t/00-test-get.t ................ ok
t/author-eof.t ................. skipped: these tests are for testing by the author
t/author-eol.t ................. skipped: these tests are for testing by the author
t/author-no-breakpoints.t ...... skipped: these tests are for testing by the author
t/author-no-tabs.t ............. skipped: these tests are for testing by the author
t/author-pod-syntax.t .......... skipped: these tests are for testing by the author
t/author-portability.t ......... skipped: these tests are for testing by the author
t/release-distmeta.t ........... skipped: these tests are for release candidate testing
t/release-kwalitee.t ........... skipped: these tests are for release candidate testing
t/release-pause-permissions.t .. skipped: these tests are for release candidate testing
t/release-unused-vars.t ........ skipped: these tests are for release candidate testing
All tests successful.
Files=13, Tests=4, 1 wallclock secs ( 0.03 usr 0.03 sys + 0.47 cusr 0.12 csys = 0.65 CPU)
Result: PASS
------------------------------
PREREQUISITES
------------------------------
Prerequisite modules loaded:
requires:
Module Need Have
-------------------------- -------- --------
Carp 0 1.54
HTTP::Message 6.06 7.00
HTTP::Request 0 7.00
HTTP::Request::Common 0 7.00
HTTP::Response::Stringable 0.0002 0.0002
JSON::MaybeXS 0 1.004008
LWP::UserAgent 0 6.78
Moo 1.005000 2.005005
Moo::Role 0 2.005005
perl 5.006 5.038003
build_requires:
Module Need Have
-------------------------- -------- --------
ExtUtils::MakeMaker 0 7.70
File::Spec 0 3.88
IO::Handle 0 1.52
IPC::Open3 0 1.22
strict 0 1.12
Test::LWP::UserAgent 0 0.036
Test::More 0 1.302209
warnings 0 1.65
configure_requires:
Module Need Have
-------------------------- -------- --------
ExtUtils::MakeMaker 0 7.70
perl 5.006 5.038003
------------------------------
ENVIRONMENT AND OTHER CONTEXT
------------------------------
Environment variables:
AUTOMATED_TESTING = 1
LANG = en_US.UTF-8
LANGUAGE = en_US:en
PATH = /home/sand/bin:/usr/local/bin:/usr/bin:/bin:/usr/games:/usr/local/perl/bin:/usr/X11/bin:/sbin:/usr/sbin
PERL5LIB =
PERL5OPT =
PERL5_CPANPLUS_IS_RUNNING = 3950522
PERL5_CPAN_IS_RUNNING = 3950522
PERL_CANARY_STABILITY_NOPROMPT = 1
PERL_MM_USE_DEFAULT = 1
PERL_USE_UNSAFE_INC = 1
SHELL = /usr/bin/zsh
TERM = screen
Perl special variables (and OS-specific diagnostics, for MSWin32):
$^X = /home/sand/src/perl/repoperls/installed-perls/host/k93msid/v5.38.3/af11/bin/perl
$UID/$EUID = 1005 / 1005
$GID = 1005 1005
$EGID = 1005 1005
Perl module toolchain versions installed:
Module Have
------------------- --------
CPAN 2.38
CPAN::Meta 2.150010
Cwd 3.89
ExtUtils::CBuilder 0.280238
ExtUtils::Command 7.70
ExtUtils::Install 2.22
ExtUtils::MakeMaker 7.70
ExtUtils::Manifest 1.75
ExtUtils::ParseXS 3.51
File::Spec 3.88
JSON 4.10
JSON::PP 4.16
Module::Build 0.4234
Module::Signature 0.89
Parse::CPAN::Meta 2.150010
Test2 1.302209
Test::Harness 3.50
Test::More 1.302209
YAML 1.31
YAML::Syck 1.34
version 0.9933
--
Summary of my perl5 (revision 5 version 38 subversion 3) configuration:
Commit id: 06697759559c52236e296a256776b1222f228163
Platform:
osname=linux
osvers=6.8.12-amd64
archname=x86_64-linux-ld
uname='linux k93msid 6.8.12-amd64 #1 smp preempt_dynamic debian 6.8.12-1 (2024-05-31) x86_64 gnulinux '
config_args='-Dprefix=/home/sand/src/perl/repoperls/installed-perls/host/k93msid/v5.38.3/af11 -Dmyhostname=k93msid -Dinstallusrbinperl=n -Uversiononly -Dusedevel -des -Ui_db -Dlibswanted=cl pthread socket inet nsl gdbm dbm malloc dl ld sun m crypt sec util c cposix posix ucb BSD gdbm_compat -Uuseithreads -Duselongdouble -DEBUGGING=-g'
hint=recommended
useposix=true
d_sigaction=define
useithreads=undef
usemultiplicity=undef
use64bitint=define
use64bitall=define
uselongdouble=define
usemymalloc=n
default_inc_excludes_dot=define
Compiler:
cc='cc'
ccflags ='-fwrapv -fno-strict-aliasing -pipe -fstack-protector-strong -I/usr/local/include -D_LARGEFILE_SOURCE -D_FILE_OFFSET_BITS=64 -D_FORTIFY_SOURCE=2'
optimize='-O2 -g'
cppflags='-fwrapv -fno-strict-aliasing -pipe -fstack-protector-strong -I/usr/local/include'
ccversion=''
gccversion='13.3.0'
gccosandvers=''
intsize=4
longsize=8
ptrsize=8
doublesize=8
byteorder=12345678
doublekind=3
d_longlong=define
longlongsize=8
d_longdbl=define
longdblsize=16
longdblkind=3
ivtype='long'
ivsize=8
nvtype='long double'
nvsize=16
Off_t='off_t'
lseeksize=8
alignbytes=16
prototype=define
Linker and Libraries:
ld='cc'
ldflags =' -fstack-protector-strong -L/usr/local/lib'
libpth=/usr/local/lib /usr/lib/x86_64-linux-gnu /usr/lib /usr/lib64
libs=-lpthread -ldl -lm -lcrypt -lutil -lc
perllibs=-lpthread -ldl -lm -lcrypt -lutil -lc
libc=/lib/x86_64-linux-gnu/libc.so.6
so=so
useshrplib=false
libperl=libperl.a
gnulibc_version='2.38'
Dynamic Linking:
dlsrc=dl_dlopen.xs
dlext=so
d_dlsymun=undef
ccdlflags='-Wl,-E'
cccdlflags='-fPIC'
lddlflags='-shared -O2 -g -L/usr/local/lib -fstack-protector-strong'
Characteristics of this binary (from libperl):
Compile-time options:
HAS_LONG_DOUBLE
HAS_STRTOLD
HAS_TIMES
PERLIO_LAYERS
PERL_COPY_ON_WRITE
PERL_DONT_CREATE_GVSV
PERL_HASH_FUNC_SIPHASH13
PERL_HASH_USE_SBOX32
PERL_MALLOC_WRAP
PERL_OP_PARENT
PERL_PRESERVE_IVUV
PERL_USE_DEVEL
PERL_USE_SAFE_PUTENV
USE_64_BIT_ALL
USE_64_BIT_INT
USE_LARGE_FILES
USE_LOCALE
USE_LOCALE_COLLATE
USE_LOCALE_CTYPE
USE_LOCALE_NUMERIC
USE_LOCALE_TIME
USE_LONG_DOUBLE
USE_PERLIO
USE_PERL_ATOF
Built under linux
Compiled at Jan 20 2025 11:06:15
%ENV:
PERL5LIB=""
PERL5OPT=""
PERL5_CPANPLUS_IS_RUNNING="3950522"
PERL5_CPAN_IS_RUNNING="3950522"
PERL_CANARY_STABILITY_NOPROMPT="1"
PERL_MM_USE_DEFAULT="1"
PERL_USE_UNSAFE_INC="1"
@INC:
/home/sand/src/perl/repoperls/installed-perls/host/k93msid/v5.38.3/af11/lib/site_perl/5.38.3/x86_64-linux-ld
/home/sand/src/perl/repoperls/installed-perls/host/k93msid/v5.38.3/af11/lib/site_perl/5.38.3
/home/sand/src/perl/repoperls/installed-perls/host/k93msid/v5.38.3/af11/lib/5.38.3/x86_64-linux-ld
/home/sand/src/perl/repoperls/installed-perls/host/k93msid/v5.38.3/af11/lib/5.38.3
.