OpenAPI-PerlGenerator v0.02 Perl 5 v5.34.1 x86_64-linux-ld

Status
Pass
From
Andreas J. König (ANDK)
Dist
OpenAPI-PerlGenerator v0.02
Platform
Perl 5 v5.34.1 x86_64-linux-ld
Date
2024-04-15 01:22:52
ID
ae35bfbe-fac6-11ee-82cf-bf046d9b51cd
This distribution has been tested as part of the CPAN Testers
project, supporting the Perl programming language.  See
http://wiki.cpantesters.org/ for more information or email
questions to cpan-testers-discuss@perl.org


--
Dear Max Maischein,

This is a computer-generated report for OpenAPI-PerlGenerator-0.02
on perl 5.34.1, created by CPAN-Reporter-1.2019.

Thank you for uploading your work to CPAN.  Congratulations!
All tests were successful.

Sections of this report:

    * Tester comments
    * Program output
    * Prerequisites
    * Environment and other context

------------------------------
TESTER COMMENTS
------------------------------

Additional comments from tester:

this report is from an automated smoke testing program
and was not reviewed by a human for accuracy

------------------------------
PROGRAM OUTPUT
------------------------------

Output from '/usr/bin/make test':

PERL_DL_NONLAZY=1 "/home/sand/src/perl/repoperls/installed-perls/host/k93msid/v5.34.1/af11/bin/perl" "-MExtUtils::Command::MM" "-MTest::Harness" "-e" "undef *Test::Harness::Switches; test_harness(0, 'blib/lib', 'blib/arch')" t/00-load.t t/01-regression.t t/02-http-form.t
# Testing OpenAPI::PerlGenerator 0.02, Perl 5.034001
# AutoLoader 5.74
# B 1.82
# B::Hooks::EndOfScope 0.26
# B::Hooks::EndOfScope::XS 0.26
# Carp 1.52
# Carp::Heavy 1.52
# Class::Accessor::Lite 0.08
# Class::Data::Inheritable 0.09
# Class::Load 0.25
# Class::Load::XS 0.10
# Class::MOP 2.2206
# Class::MOP::Attribute 2.2206
# Class::MOP::Class 2.2206
# Class::MOP::Class::Immutable::Class::MOP::Class <unknown>
# Class::MOP::Class::Immutable::Moose::Meta::Class <unknown>
# Class::MOP::Class::Immutable::Moose::Meta::Class::__ANON__::SERIAL::1 <unknown>
# Class::MOP::Class::Immutable::Trait 2.2206
# Class::MOP::Deprecated 2.2206
# Class::MOP::Instance 2.2206
# Class::MOP::Method 2.2206
# Class::MOP::Method::Accessor 2.2206
# Class::MOP::Method::Constructor 2.2206
# Class::MOP::Method::Generated 2.2206
# Class::MOP::Method::Inlined 2.2206
# Class::MOP::Method::Meta 2.2206
# Class::MOP::Method::Wrapped 2.2206
# Class::MOP::MiniTrait 2.2206
# Class::MOP::Mixin 2.2206
# Class::MOP::Mixin::AttributeCore 2.2206
# Class::MOP::Mixin::HasAttributes 2.2206
# Class::MOP::Mixin::HasMethods 2.2206
# Class::MOP::Mixin::HasOverloads 2.2206
# Class::MOP::Module 2.2206
# Class::MOP::Object 2.2206
# Class::MOP::Overload 2.2206
# Class::MOP::Package 2.2206
# Class::Struct 0.66
# Class::XSAccessor 1.19
# Class::XSAccessor::Heavy 1.19
# Clone 0.46
# Compress::Raw::Zlib 2.208
# Config 5.034001
# Cwd 3.80
# Data::Dumper 2.183
# Data::OptList 0.112
# Devel::Caller 2.06
# Devel::GlobalDestruction 0.14
# Devel::OverloadInfo 0.007
# Devel::StackTrace 2.05
# Devel::StackTrace::Frame 2.05
# Digest::MD5 2.58
# Digest::SHA 6.02
# Digest::base 1.19
# DynaLoader 1.50
# Encode 3.20
# Encode::Alias 2.25
# Encode::Config 2.05
# Encode::Encoding 2.08
# Encode::Guess 2.08
# Encode::MIME::Name 1.03
# Encode::Unicode 2.20
# English 1.11
# Errno 1.33
# Eval::Closure 0.14
# Exception::Class 1.45
# Exception::Class::Base 1.45
# Exporter 5.76
# Exporter::Heavy 5.76
# ExtUtils::Liblist 7.70
# ExtUtils::Liblist::Kid 7.70
# ExtUtils::MM 7.70
# ExtUtils::MM_Any 7.70
# ExtUtils::MM_Unix 7.70
# ExtUtils::MY 7.70
# ExtUtils::MakeMaker 7.70
# ExtUtils::MakeMaker::Config 7.70
# ExtUtils::MakeMaker::Locale 7.70
# ExtUtils::MakeMaker::version 7.70
# Fcntl 1.14
# File::Basename 2.85
# File::Copy 2.35
# File::Find 1.39
# File::Glob 1.33
# File::GlobMapper 1.001
# File::Path 2.18
# File::Spec 3.80
# File::Spec::Functions 3.80
# File::Spec::Unix 3.80
# File::Temp 0.2311
# File::stat 1.09
# Future 0.49
# Future::AsyncAwait 0.61
# Future::Exception 0.49
# Future::XS 0.07
# Getopt::Long 2.57
# HTML::Entities 3.78
# HTML::Parser 3.78
# I18N::Langinfo 0.19
# IO 1.51
# IO::Compress::Adapter::Deflate 2.207
# IO::Compress::Base 2.207
# IO::Compress::Base::Common 2.207
# IO::Compress::Gzip 2.207
# IO::Compress::Gzip::Constants 2.207
# IO::Compress::RawDeflate 2.207
# IO::Compress::Zlib::Extra 2.207
# IO::File 1.51
# IO::Handle 1.51
# IO::Poll 1.51
# IO::Seekable 1.51
# IO::Uncompress::Adapter::Inflate 2.207
# IO::Uncompress::Base 2.207
# IO::Uncompress::Gunzip 2.207
# IO::Uncompress::RawInflate 2.207
# JSON 4.10
# JSON::Pointer 0.07
# JSON::Pointer::Context 0.07
# JSON::Pointer::Exception 0.07
# JSON::Pointer::Syntax 0.07
# JSON::XS 4.03
# List::AllUtils 0.19
# List::SomeUtils 0.59
# List::SomeUtils::PP 0.59
# List::SomeUtils::XS 0.58
# List::Util 1.63
# List::UtilsBy 0.11
# MIME::Base64 3.16
# MRO::Compat 0.15
# Markdent::Event::AutoLink 0.40
# Markdent::Event::EndBlockquote 0.40
# Markdent::Event::EndCode 0.40
# Markdent::Event::EndDocument 0.40
# Markdent::Event::EndEmphasis 0.40
# Markdent::Event::EndHTMLTag 0.40
# Markdent::Event::EndHeader 0.40
# Markdent::Event::EndLink 0.40
# Markdent::Event::EndListItem 0.40
# Markdent::Event::EndOrderedList 0.40
# Markdent::Event::EndParagraph 0.40
# Markdent::Event::EndStrong 0.40
# Markdent::Event::EndUnorderedList 0.40
# Markdent::Event::HTMLBlock 0.40
# Markdent::Event::HTMLComment 0.40
# Markdent::Event::HTMLCommentBlock 0.40
# Markdent::Event::HTMLEntity 0.40
# Markdent::Event::HTMLTag 0.40
# Markdent::Event::HorizontalRule 0.40
# Markdent::Event::Image 0.40
# Markdent::Event::LineBreak 0.40
# Markdent::Event::Preformatted 0.40
# Markdent::Event::StartBlockquote 0.40
# Markdent::Event::StartCode 0.40
# Markdent::Event::StartDocument 0.40
# Markdent::Event::StartEmphasis 0.40
# Markdent::Event::StartHTMLTag 0.40
# Markdent::Event::StartHeader 0.40
# Markdent::Event::StartLink 0.40
# Markdent::Event::StartListItem 0.40
# Markdent::Event::StartOrderedList 0.40
# Markdent::Event::StartParagraph 0.40
# Markdent::Event::StartStrong 0.40
# Markdent::Event::StartUnorderedList 0.40
# Markdent::Event::Text 0.40
# Markdent::Parser 0.40
# Markdent::Parser::BlockParser 0.40
# Markdent::Parser::SpanParser 0.40
# Markdent::Regexes 0.40
# Markdent::Role::AnyParser 0.40
# Markdent::Role::BalancedEvent 0.40
# Markdent::Role::BalancedEvent::__ANON__::SERIAL::21 <unknown>
# Markdent::Role::BalancedEvent::__ANON__::SERIAL::23 <unknown>
# Markdent::Role::BalancedEvent::__ANON__::SERIAL::26 <unknown>
# Markdent::Role::BalancedEvent::__ANON__::SERIAL::28 <unknown>
# Markdent::Role::BalancedEvent::__ANON__::SERIAL::35 <unknown>
# Markdent::Role::BalancedEvent::__ANON__::SERIAL::37 <unknown>
# Markdent::Role::BalancedEvent::__ANON__::SERIAL::40 <unknown>
# Markdent::Role::BalancedEvent::__ANON__::SERIAL::42 <unknown>
# Markdent::Role::BlockParser 0.40
# Markdent::Role::DebugPrinter 0.40
# Markdent::Role::Event 0.40
# Markdent::Role::Event::__ANON__::SERIAL::1 <unknown>
# Markdent::Role::Event::__ANON__::SERIAL::10 <unknown>
# Markdent::Role::Event::__ANON__::SERIAL::11 <unknown>
# Markdent::Role::Event::__ANON__::SERIAL::12 <unknown>
# Markdent::Role::Event::__ANON__::SERIAL::13 <unknown>
# Markdent::Role::Event::__ANON__::SERIAL::14 <unknown>
# Markdent::Role::Event::__ANON__::SERIAL::15 <unknown>
# Markdent::Role::Event::__ANON__::SERIAL::16 <unknown>
# Markdent::Role::Event::__ANON__::SERIAL::17 <unknown>
# Markdent::Role::Event::__ANON__::SERIAL::18 <unknown>
# Markdent::Role::Event::__ANON__::SERIAL::19 <unknown>
# Markdent::Role::Event::__ANON__::SERIAL::2 <unknown>
# Markdent::Role::Event::__ANON__::SERIAL::20 <unknown>
# Markdent::Role::Event::__ANON__::SERIAL::22 <unknown>
# Markdent::Role::Event::__ANON__::SERIAL::24 <unknown>
# Markdent::Role::Event::__ANON__::SERIAL::25 <unknown>
# Markdent::Role::Event::__ANON__::SERIAL::27 <unknown>
# Markdent::Role::Event::__ANON__::SERIAL::29 <unknown>
# Markdent::Role::Event::__ANON__::SERIAL::3 <unknown>
# Markdent::Role::Event::__ANON__::SERIAL::30 <unknown>
# Markdent::Role::Event::__ANON__::SERIAL::31 <unknown>
# Markdent::Role::Event::__ANON__::SERIAL::32 <unknown>
# Markdent::Role::Event::__ANON__::SERIAL::33 <unknown>
# Markdent::Role::Event::__ANON__::SERIAL::34 <unknown>
# Markdent::Role::Event::__ANON__::SERIAL::36 <unknown>
# Markdent::Role::Event::__ANON__::SERIAL::38 <unknown>
# Markdent::Role::Event::__ANON__::SERIAL::39 <unknown>
# Markdent::Role::Event::__ANON__::SERIAL::4 <unknown>
# Markdent::Role::Event::__ANON__::SERIAL::41 <unknown>
# Markdent::Role::Event::__ANON__::SERIAL::43 <unknown>
# Markdent::Role::Event::__ANON__::SERIAL::5 <unknown>
# Markdent::Role::Event::__ANON__::SERIAL::6 <unknown>
# Markdent::Role::Event::__ANON__::SERIAL::7 <unknown>
# Markdent::Role::Event::__ANON__::SERIAL::8 <unknown>
# Markdent::Role::Event::__ANON__::SERIAL::9 <unknown>
# Markdent::Role::EventAsText 0.40
# Markdent::Role::EventsAsMethods 0.40
# Markdent::Role::Handler 0.40
# Markdent::Role::SpanParser 0.40
# Markdent::Types 0.40
# Markdent::Types::Internal 0.40
# Markdown::Pod 0.008
# Markdown::Pod::Handler 0.008
# Method::Generate::Accessor <unknown>
# Method::Generate::Constructor <unknown>
# Module::Implementation 0.09
# Module::Runtime 0.016
# Mojo::Base <unknown>
# Mojo::ByteStream <unknown>
# Mojo::Collection <unknown>
# Mojo::Exception <unknown>
# Mojo::File <unknown>
# Mojo::Template <unknown>
# Mojo::Util <unknown>
# Moo 2.005005
# Moo::HandleMoose <unknown>
# Moo::HandleMoose::FakeMetaClass <unknown>
# Moo::Object <unknown>
# Moo::_Utils <unknown>
# Moo::sification <unknown>
# Moose 2.2206
# Moose::Deprecated 2.2206
# Moose::Exception 2.2206
# Moose::Exporter 2.2206
# Moose::Meta::Attribute 2.2206
# Moose::Meta::Attribute::Native 2.2206
# Moose::Meta::Attribute::Native::Trait 2.2206
# Moose::Meta::Attribute::Native::Trait::Array 2.2206
# Moose::Meta::Attribute::Native::Trait::Bool 2.2206
# Moose::Meta::Attribute::Native::Trait::Counter 2.2206
# Moose::Meta::Attribute::Native::Trait::Hash 2.2206
# Moose::Meta::Attribute::Native::Trait::String 2.2206
# Moose::Meta::Class 2.2206
# Moose::Meta::Class::Immutable::Trait 2.2206
# Moose::Meta::Class::__ANON__::SERIAL::1 <unknown>
# Moose::Meta::Class::__ANON__::SERIAL::10 <unknown>
# Moose::Meta::Class::__ANON__::SERIAL::11 <unknown>
# Moose::Meta::Class::__ANON__::SERIAL::12 <unknown>
# Moose::Meta::Class::__ANON__::SERIAL::13 <unknown>
# Moose::Meta::Class::__ANON__::SERIAL::14 <unknown>
# Moose::Meta::Class::__ANON__::SERIAL::15 <unknown>
# Moose::Meta::Class::__ANON__::SERIAL::16 <unknown>
# Moose::Meta::Class::__ANON__::SERIAL::17 <unknown>
# Moose::Meta::Class::__ANON__::SERIAL::18 <unknown>
# Moose::Meta::Class::__ANON__::SERIAL::19 <unknown>
# Moose::Meta::Class::__ANON__::SERIAL::2 <unknown>
# Moose::Meta::Class::__ANON__::SERIAL::20 <unknown>
# Moose::Meta::Class::__ANON__::SERIAL::21 <unknown>
# Moose::Meta::Class::__ANON__::SERIAL::22 <unknown>
# Moose::Meta::Class::__ANON__::SERIAL::3 <unknown>
# Moose::Meta::Class::__ANON__::SERIAL::4 <unknown>
# Moose::Meta::Class::__ANON__::SERIAL::5 <unknown>
# Moose::Meta::Class::__ANON__::SERIAL::6 <unknown>
# Moose::Meta::Class::__ANON__::SERIAL::7 <unknown>
# Moose::Meta::Class::__ANON__::SERIAL::8 <unknown>
# Moose::Meta::Class::__ANON__::SERIAL::9 <unknown>
# Moose::Meta::Instance 2.2206
# Moose::Meta::Method 2.2206
# Moose::Meta::Method::Accessor 2.2206
# Moose::Meta::Method::Accessor::Native 2.2206
# Moose::Meta::Method::Accessor::Native::Array 2.2206
# Moose::Meta::Method::Accessor::Native::Array::Writer 2.2206
# Moose::Meta::Method::Accessor::Native::Array::clear 2.2206
# Moose::Meta::Method::Accessor::Native::Array::elements 2.2206
# Moose::Meta::Method::Accessor::Native::Array::push 2.2206
# Moose::Meta::Method::Accessor::Native::Bool::set 2.2206
# Moose::Meta::Method::Accessor::Native::Bool::unset 2.2206
# Moose::Meta::Method::Accessor::Native::Collection 2.2206
# Moose::Meta::Method::Accessor::Native::Counter::dec 2.2206
# Moose::Meta::Method::Accessor::Native::Counter::inc 2.2206
# Moose::Meta::Method::Accessor::Native::Hash 2.2206
# Moose::Meta::Method::Accessor::Native::Hash::Writer 2.2206
# Moose::Meta::Method::Accessor::Native::Hash::get 2.2206
# Moose::Meta::Method::Accessor::Native::Hash::set 2.2206
# Moose::Meta::Method::Accessor::Native::Reader 2.2206
# Moose::Meta::Method::Accessor::Native::String::append 2.2206
# Moose::Meta::Method::Accessor::Native::String::clear 2.2206
# Moose::Meta::Method::Accessor::Native::String::length 2.2206
# Moose::Meta::Method::Accessor::Native::Writer 2.2206
# Moose::Meta::Method::Augmented 2.2206
# Moose::Meta::Method::Constructor 2.2206
# Moose::Meta::Method::Delegation 2.2206
# Moose::Meta::Method::Destructor 2.2206
# Moose::Meta::Method::Meta 2.2206
# Moose::Meta::Method::Overridden 2.2206
# Moose::Meta::Mixin::AttributeCore 2.2206
# Moose::Meta::Object::Trait 2.2206
# Moose::Meta::Role 2.2206
# Moose::Meta::Role::Application 2.2206
# Moose::Meta::Role::Application::RoleSummation 2.2206
# Moose::Meta::Role::Application::ToClass 2.2206
# Moose::Meta::Role::Application::ToInstance 2.2206
# Moose::Meta::Role::Application::ToRole 2.2206
# Moose::Meta::Role::Attribute 2.2206
# Moose::Meta::Role::Composite 2.2206
# Moose::Meta::Role::Method 2.2206
# Moose::Meta::Role::Method::Conflicting 2.2206
# Moose::Meta::Role::Method::Required 2.2206
# Moose::Meta::TypeCoercion 2.2206
# Moose::Meta::TypeCoercion::Union 2.2206
# Moose::Meta::TypeConstraint 2.2206
# Moose::Meta::TypeConstraint::Class 2.2206
# Moose::Meta::TypeConstraint::DuckType 2.2206
# Moose::Meta::TypeConstraint::Enum 2.2206
# Moose::Meta::TypeConstraint::Parameterizable 2.2206
# Moose::Meta::TypeConstraint::Parameterized 2.2206
# Moose::Meta::TypeConstraint::Registry 2.2206
# Moose::Meta::TypeConstraint::Role 2.2206
# Moose::Meta::TypeConstraint::Union 2.2206
# Moose::Object 2.2206
# Moose::Role 2.2206
# Moose::Util 2.2206
# Moose::Util::MetaRole 2.2206
# Moose::Util::TypeConstraints 2.2206
# Moose::Util::TypeConstraints::Builtins 2.2206
# MooseX::Params::Validate 0.21
# MooseX::Params::Validate::Exception::ValidationFailedForTypeConstraint 0.21
# MooseX::Role::Parameterized 1.11
# MooseX::Role::Parameterized::Meta::Role::Parameterized 1.11
# MooseX::Role::Parameterized::Meta::Trait::Parameterizable 1.11
# MooseX::Role::Parameterized::Meta::Trait::Parameterized 1.11
# MooseX::Role::Parameterized::Parameters 1.11
# MooseX::SemiAffordanceAccessor 0.10
# MooseX::SemiAffordanceAccessor::Role::Attribute 0.10
# MooseX::StrictConstructor 0.21
# MooseX::StrictConstructor::Trait::Class 0.21
# MooseX::StrictConstructor::Trait::Method::Constructor 0.21
# OpenAPI::PerlGenerator 0.02
# OpenAPI::PerlGenerator::Template 0.02
# OpenAPI::PerlGenerator::Utils 0.02
# POSIX 1.97
# Package::DeprecationManager 0.17
# Package::Stash 0.40
# Package::Stash::XS 0.30
# PadWalker 2.5
# Params::Util 1.102
# Params::Util::PP 1.102
# Params::Validate 1.30
# Params::Validate::Constants 1.30
# Params::Validate::XS 1.30
# Params::ValidationCompiler 0.30
# Params::ValidationCompiler::Compiler 0.30
# Params::ValidationCompiler::Exception::BadArguments 1.1
# Params::ValidationCompiler::Exception::Named::Extra 1.1
# Params::ValidationCompiler::Exception::Named::Required 1.1
# Params::ValidationCompiler::Exception::Positional::Extra 1.1
# Params::ValidationCompiler::Exception::Positional::Required 1.1
# Params::ValidationCompiler::Exception::ValidationFailedForMooseTypeConstraint 1.1
# Params::ValidationCompiler::Exceptions 0.30
# Perl::Tidy 20230309
# Perl::Tidy::Debugger 20230309
# Perl::Tidy::DevNull 20230309
# Perl::Tidy::Diagnostics 20230309
# Perl::Tidy::FileWriter 20230309
# Perl::Tidy::Formatter 20230309
# Perl::Tidy::HtmlWriter 20230309
# Perl::Tidy::IOScalar 20230309
# Perl::Tidy::IOScalarArray 20230309
# Perl::Tidy::IndentationItem 20230309
# Perl::Tidy::LineBuffer 20230309
# Perl::Tidy::LineSink 20230309
# Perl::Tidy::LineSource 20230309
# Perl::Tidy::Logger 20230309
# Perl::Tidy::Tokenizer 20230309
# Perl::Tidy::VerticalAligner 20230309
# Perl::Tidy::VerticalAligner::Alignment 20230309
# Perl::Tidy::VerticalAligner::Line 20230309
# PerlIO 1.11
# Pod::Escapes 1.07
# Pod::Html 1.27
# Pod::Simple 3.45
# Pod::Simple::BlackBox 3.45
# Pod::Simple::LinkSection 3.45
# Pod::Simple::Methody 3.45
# Pod::Simple::Search 3.45
# Pod::Simple::SimpleTree 3.45
# Pod::Simple::TiedOutFH 3.45
# Pod::Simple::XHTML 3.45
# Pod::Text 5.01
# Pod::Usage 2.03
# Ref::Util 0.204
# Ref::Util::XS 0.117
# Role::Tiny 2.002004
# Role::Tiny::With 2.002004
# Scalar::Util 1.63
# SelectSaver 1.02
# Socket 2.037
# Specio::Coercion 0.47
# Specio::Constraint::Enum 0.47
# Specio::Constraint::ObjectDoes 0.47
# Specio::Constraint::Parameterizable 0.47
# Specio::Constraint::Parameterized 0.47
# Specio::Constraint::Role::DoesType 0.47
# Specio::Constraint::Role::Interface 0.47
# Specio::Constraint::Simple 0.47
# Specio::Declare 0.47
# Specio::DeclaredAt 0.47
# Specio::Exception 0.47
# Specio::Exporter 0.47
# Specio::Helpers 0.47
# Specio::Library::Builtins 0.47
# Specio::Library::Numeric 0.47
# Specio::OO 0.47
# Specio::PartialDump 0.47
# Specio::Registry 0.47
# Specio::Role::Inlinable 0.47
# Specio::TypeChecks 0.47
# Storable 3.25
# Sub::Defer 2.006007
# Sub::Exporter 0.988
# Sub::Exporter::Progressive 0.001013
# Sub::Install 0.928
# Sub::Name 0.27
# Sub::Quote 2.006007
# Sub::Util 1.63
# Symbol 1.09
# Test::Builder 1.302195
# Test::Builder::Formatter 1.302195
# Test::Builder::Module 1.302195
# Test::Builder::TodoDiag 1.302195
# Test::More 1.302195
# Test2::API 1.302195
# Test2::API::Context 1.302195
# Test2::API::Instance 1.302195
# Test2::API::Stack 1.302195
# Test2::Event 1.302195
# Test2::Event::Bail 1.302195
# Test2::Event::Diag 1.302195
# Test2::Event::Exception 1.302195
# Test2::Event::Fail 1.302195
# Test2::Event::Note 1.302195
# Test2::Event::Ok 1.302195
# Test2::Event::Pass 1.302195
# Test2::Event::Plan 1.302195
# Test2::Event::Skip 1.302195
# Test2::Event::Subtest 1.302195
# Test2::Event::V2 1.302195
# Test2::Event::Waiting 1.302195
# Test2::EventFacet 1.302195
# Test2::EventFacet::About 1.302195
# Test2::EventFacet::Amnesty 1.302195
# Test2::EventFacet::Assert 1.302195
# Test2::EventFacet::Control 1.302195
# Test2::EventFacet::Error 1.302195
# Test2::EventFacet::Hub 1.302195
# Test2::EventFacet::Info 1.302195
# Test2::EventFacet::Meta 1.302195
# Test2::EventFacet::Parent 1.302195
# Test2::EventFacet::Plan 1.302195
# Test2::EventFacet::Trace 1.302195
# Test2::Formatter 1.302195
# Test2::Formatter::TAP 1.302195
# Test2::Hub 1.302195
# Test2::Hub::Interceptor 1.302195
# Test2::Hub::Interceptor::Terminator 1.302195
# Test2::Hub::Subtest 1.302195
# Test2::Util 1.302195
# Test2::Util::ExternalMeta 1.302195
# Test2::Util::Facets2Legacy 1.302195
# Test2::Util::HashBase 1.302195
# Test2::Util::Trace 1.302195
# Text::Tabs 2021.0814
# Tie::Hash 1.05
# Time::HiRes 1.9767
# Try::Tiny 0.31
# Types::Serialiser 1.01
# URI::Escape 5.28
# Unicode::Normalize 1.28
# Variable::Magic 0.62
# XS::Parse::Keyword 0.39
# XS::Parse::Sublike 0.16
# XSLoader 0.30
# XString 0.005
# attributes 0.33
# base 2.27
# bytes 1.08
# common::sense 3.75
# constant 1.33
# experimental 0.031
# feature 1.64
# if 0.0609
# integer 1.01
# locale 1.10
# metaclass 2.2206
# mro 1.25_001
# namespace::autoclean 0.29
# namespace::clean 0.27
# namespace::clean::_Util <unknown>
# overload 1.33
# overloading 0.02
# parent 0.238
# re 0.41
# stable 0.031
# strict 1.12
# utf8 1.24
# vars 1.05
# version 0.9929
# version::regex 0.9929
# version::vxs 0.9929
# warnings 1.51
# warnings::register 1.04
t/00-load.t ........ ok
Use of uninitialized value $subtype in concatenation (.) or string at /tmp/loop_over_bdir-122380-Cs40Tz/OpenAPI-PerlGenerator-0.02-0/blib/lib/OpenAPI/PerlGenerator.pm line 159.
Use of uninitialized value $class in concatenation (.) or string at template line 16.
Use of uninitialized value $class in concatenation (.) or string at template line 16.
Use of uninitialized value $class in concatenation (.) or string at template line 16.
Use of uninitialized value $class in concatenation (.) or string at template line 16.
Use of uninitialized value $class in concatenation (.) or string at template line 16.
Use of uninitialized value $class in concatenation (.) or string at template line 16.
Use of uninitialized value in string eq at template line 3.
Use of uninitialized value in concatenation (.) or string at template line 6.
Use of uninitialized value $class in concatenation (.) or string at template line 16.
Use of uninitialized value $class in concatenation (.) or string at template line 16.
Use of uninitialized value $class in concatenation (.) or string at template line 16.
Use of uninitialized value $class in concatenation (.) or string at template line 16.
Use of uninitialized value $class in concatenation (.) or string at template line 16.
Use of uninitialized value $class in concatenation (.) or string at template line 16.
Use of uninitialized value in string eq at template line 3.
Use of uninitialized value in concatenation (.) or string at template line 6.
Use of uninitialized value in pattern match (m//) at template line 112.
Use of uninitialized value in pattern match (m//) at template line 112.
Use of uninitialized value in pattern match (m//) at template line 112.
Use of uninitialized value $class in concatenation (.) or string at template line 16.
Use of uninitialized value $class in concatenation (.) or string at template line 16.
Use of uninitialized value $class in concatenation (.) or string at template line 16.
Use of uninitialized value $class in concatenation (.) or string at template line 16.
Use of uninitialized value $class in concatenation (.) or string at template line 16.
Use of uninitialized value $class in concatenation (.) or string at template line 16.
Use of uninitialized value $class in concatenation (.) or string at template line 16.
Use of uninitialized value $class in concatenation (.) or string at template line 16.
Use of uninitialized value $class in concatenation (.) or string at template line 16.
Use of uninitialized value $class in concatenation (.) or string at template line 16.
Use of uninitialized value $class in concatenation (.) or string at template line 16.
Use of uninitialized value $class in concatenation (.) or string at template line 16.
Use of uninitialized value $class in concatenation (.) or string at template line 16.
Use of uninitialized value $class in concatenation (.) or string at template line 16.
Use of uninitialized value $class in concatenation (.) or string at template line 16.
Use of uninitialized value $class in concatenation (.) or string at template line 16.
Use of uninitialized value $class in concatenation (.) or string at template line 16.
Use of uninitialized value $class in concatenation (.) or string at template line 16.
Use of uninitialized value $class in concatenation (.) or string at template line 16.
Use of uninitialized value $class in concatenation (.) or string at template line 16.
Use of uninitialized value $class in concatenation (.) or string at template line 16.
Use of uninitialized value in concatenation (.) or string at template line 6.
Use of uninitialized value in concatenation (.) or string at template line 6.
Use of uninitialized value $class in concatenation (.) or string at template line 16.
Use of uninitialized value in pattern match (m//) at template line 112.
Use of uninitialized value $class in concatenation (.) or string at template line 16.
Use of uninitialized value $class in concatenation (.) or string at template line 16.
Use of uninitialized value $class in concatenation (.) or string at template line 16.
Use of uninitialized value $class in concatenation (.) or string at template line 16.
Use of uninitialized value $class in concatenation (.) or string at template line 16.
Use of uninitialized value in string eq at template line 3.
Use of uninitialized value in concatenation (.) or string at template line 6.
Use of uninitialized value $class in concatenation (.) or string at template line 16.
Use of uninitialized value $class in concatenation (.) or string at template line 16.
Use of uninitialized value $class in concatenation (.) or string at template line 16.
Use of uninitialized value $class in concatenation (.) or string at template line 16.
Use of uninitialized value $class in concatenation (.) or string at template line 16.
Use of uninitialized value $class in concatenation (.) or string at template line 16.
Use of uninitialized value in string eq at template line 3.
Use of uninitialized value in concatenation (.) or string at template line 6.
Use of uninitialized value $class in concatenation (.) or string at template line 16.
Use of uninitialized value in string eq at template line 3.
Use of uninitialized value in concatenation (.) or string at template line 6.
Use of uninitialized value $class in concatenation (.) or string at template line 16.
Use of uninitialized value $class in concatenation (.) or string at template line 16.
Use of uninitialized value in string eq at template line 3.
Use of uninitialized value in concatenation (.) or string at template line 6.
Use of uninitialized value $class in concatenation (.) or string at template line 16.
Use of uninitialized value $class in concatenation (.) or string at template line 16.
Use of uninitialized value $class in concatenation (.) or string at template line 16.
Use of uninitialized value $class in concatenation (.) or string at template line 16.
Use of uninitialized value $class in concatenation (.) or string at template line 16.
Use of uninitialized value $class in concatenation (.) or string at template line 16.
Use of uninitialized value $class in concatenation (.) or string at template line 16.
Use of uninitialized value $class in concatenation (.) or string at template line 16.
Use of uninitialized value $class in concatenation (.) or string at template line 16.
Use of uninitialized value $class in concatenation (.) or string at template line 16.
Use of uninitialized value $class in concatenation (.) or string at template line 16.
Use of uninitialized value $class in concatenation (.) or string at template line 16.
Use of uninitialized value in pattern match (m//) at template line 112.
Use of uninitialized value in pattern match (m//) at template line 112.
Use of uninitialized value in pattern match (m//) at template line 112.
Use of uninitialized value in pattern match (m//) at template line 112.
Use of uninitialized value in pattern match (m//) at template line 112.
Use of uninitialized value in pattern match (m//) at template line 112.
Use of uninitialized value $class in concatenation (.) or string at template line 16.
Use of uninitialized value in pattern match (m//) at template line 112.
Use of uninitialized value in pattern match (m//) at template line 112.
Use of uninitialized value in pattern match (m//) at template line 112.
Use of uninitialized value $class in concatenation (.) or string at template line 16.
Use of uninitialized value $class in concatenation (.) or string at template line 16.
Use of uninitialized value $class in concatenation (.) or string at template line 16.
Use of uninitialized value $class in concatenation (.) or string at template line 16.
Use of uninitialized value $class in concatenation (.) or string at template line 16.
Use of uninitialized value $class in concatenation (.) or string at template line 16.
Use of uninitialized value $class in concatenation (.) or string at template line 16.
Use of uninitialized value $class in concatenation (.) or string at template line 16.
Use of uninitialized value $class in concatenation (.) or string at template line 16.
Use of uninitialized value $class in concatenation (.) or string at template line 16.
Use of uninitialized value $class in concatenation (.) or string at template line 16.
Use of uninitialized value $class in concatenation (.) or string at template line 16.
Use of uninitialized value in string eq at template line 3.
Use of uninitialized value in concatenation (.) or string at template line 6.
Use of uninitialized value $class in concatenation (.) or string at template line 16.
Use of uninitialized value $class in concatenation (.) or string at template line 16.
Use of uninitialized value in string eq at template line 3.
Use of uninitialized value in concatenation (.) or string at template line 6.
Use of uninitialized value in pattern match (m//) at template line 112.
Use of uninitialized value $class in concatenation (.) or string at template line 16.
Use of uninitialized value in pattern match (m//) at template line 112.
Use of uninitialized value $class in concatenation (.) or string at template line 16.
Use of uninitialized value $class in concatenation (.) or string at template line 16.
Use of uninitialized value $class in concatenation (.) or string at template line 16.
Use of uninitialized value $class in concatenation (.) or string at template line 16.
Use of uninitialized value $class in concatenation (.) or string at template line 16.
Use of uninitialized value $class in concatenation (.) or string at template line 16.
Use of uninitialized value $class in concatenation (.) or string at template line 16.
Use of uninitialized value $class in concatenation (.) or string at template line 16.
Use of uninitialized value in concatenation (.) or string at template line 6.
Use of uninitialized value in concatenation (.) or string at template line 6.
Use of uninitialized value $class in concatenation (.) or string at template line 16.
Use of uninitialized value $class in concatenation (.) or string at template line 16.
Use of uninitialized value $class in concatenation (.) or string at template line 16.
Use of uninitialized value in join or string at template line 10.
Use of uninitialized value in join or string at template line 10.
Use of uninitialized value in join or string at template line 10.
Use of uninitialized value in join or string at template line 10.
Use of uninitialized value $class in concatenation (.) or string at template line 16.
Use of uninitialized value $class in concatenation (.) or string at template line 16.
Use of uninitialized value in string eq at template line 3.
Use of uninitialized value in concatenation (.) or string at template line 6.
Use of uninitialized value in pattern match (m//) at template line 112.
Use of uninitialized value $class in concatenation (.) or string at template line 16.
Use of uninitialized value in concatenation (.) or string at template line 6.
Use of uninitialized value in concatenation (.) or string at template line 6.
Use of uninitialized value in pattern match (m//) at template line 112.
Use of uninitialized value in pattern match (m//) at template line 112.
Use of uninitialized value $class in concatenation (.) or string at template line 16.
Use of uninitialized value $class in concatenation (.) or string at template line 16.
Use of uninitialized value in string eq at template line 3.
Use of uninitialized value in concatenation (.) or string at template line 6.
Use of uninitialized value in pattern match (m//) at template line 112.
Use of uninitialized value $class in concatenation (.) or string at template line 16.
Use of uninitialized value $class in concatenation (.) or string at template line 16.
Use of uninitialized value $class in concatenation (.) or string at template line 16.
Use of uninitialized value $class in concatenation (.) or string at template line 16.
Use of uninitialized value in string eq at template line 3.
Use of uninitialized value in concatenation (.) or string at template line 6.
Use of uninitialized value $class in concatenation (.) or string at template line 16.
Use of uninitialized value in concatenation (.) or string at template line 6.
Use of uninitialized value $class in concatenation (.) or string at template line 16.
Use of uninitialized value $class in concatenation (.) or string at template line 16.
Use of uninitialized value $class in concatenation (.) or string at template line 16.
Use of uninitialized value $class in concatenation (.) or string at template line 16.
Use of uninitialized value $class in concatenation (.) or string at template line 16.
Use of uninitialized value $class in concatenation (.) or string at template line 16.
Use of uninitialized value $class in concatenation (.) or string at template line 16.
Use of uninitialized value $class in concatenation (.) or string at template line 16.
Use of uninitialized value $class in concatenation (.) or string at template line 16.
Use of uninitialized value $class in concatenation (.) or string at template line 16.
Use of uninitialized value $class in concatenation (.) or string at template line 16.
Use of uninitialized value $class in concatenation (.) or string at template line 16.
Use of uninitialized value $class in concatenation (.) or string at template line 16.
Use of uninitialized value $class in concatenation (.) or string at template line 16.
Use of uninitialized value $class in concatenation (.) or string at template line 16.
Use of uninitialized value $class in concatenation (.) or string at template line 16.
Use of uninitialized value $class in concatenation (.) or string at template line 16.
Use of uninitialized value $class in concatenation (.) or string at template line 16.
Use of uninitialized value $class in concatenation (.) or string at template line 16.
Use of uninitialized value $class in concatenation (.) or string at template line 16.
Use of uninitialized value $class in concatenation (.) or string at template line 16.
Use of uninitialized value $class in concatenation (.) or string at template line 16.
Use of uninitialized value $class in concatenation (.) or string at template line 16.
Use of uninitialized value $class in concatenation (.) or string at template line 16.
Use of uninitialized value $class in concatenation (.) or string at template line 16.
Use of uninitialized value $class in concatenation (.) or string at template line 16.
Use of uninitialized value $class in concatenation (.) or string at template line 16.
Use of uninitialized value $class in concatenation (.) or string at template line 16.
Use of uninitialized value $class in concatenation (.) or string at template line 16.
Use of uninitialized value $class in concatenation (.) or string at template line 16.
Use of uninitialized value $class in concatenation (.) or string at template line 16.
Use of uninitialized value $class in concatenation (.) or string at template line 16.
Use of uninitialized value $class in concatenation (.) or string at template line 16.
Use of uninitialized value $class in concatenation (.) or string at template line 16.
Use of uninitialized value $class in concatenation (.) or string at template line 16.
Use of uninitialized value $class in concatenation (.) or string at template line 16.
Use of uninitialized value $class in concatenation (.) or string at template line 16.
Use of uninitialized value $class in concatenation (.) or string at template line 16.
Use of uninitialized value $class in concatenation (.) or string at template line 16.
Use of uninitialized value $class in concatenation (.) or string at template line 16.
Use of uninitialized value $class in concatenation (.) or string at template line 16.
Use of uninitialized value $class in concatenation (.) or string at template line 16.
Use of uninitialized value $class in concatenation (.) or string at template line 16.
Use of uninitialized value $class in concatenation (.) or string at template line 16.
Use of uninitialized value $class in concatenation (.) or string at template line 16.
Use of uninitialized value $class in concatenation (.) or string at template line 16.
Use of uninitialized value $class in concatenation (.) or string at template line 16.
Use of uninitialized value $class in concatenation (.) or string at template line 16.
Use of uninitialized value $class in concatenation (.) or string at template line 16.
Use of uninitialized value $class in concatenation (.) or string at template line 16.
Use of uninitialized value $class in concatenation (.) or string at template line 16.
Use of uninitialized value $class in concatenation (.) or string at template line 16.
Use of uninitialized value $class in concatenation (.) or string at template line 16.
Use of uninitialized value $class in concatenation (.) or string at template line 16.
Use of uninitialized value $class in concatenation (.) or string at template line 16.
Use of uninitialized value $class in concatenation (.) or string at template line 16.
Use of uninitialized value $class in concatenation (.) or string at template line 16.
Use of uninitialized value $class in concatenation (.) or string at template line 16.
Use of uninitialized value $class in concatenation (.) or string at template line 16.
Use of uninitialized value $class in concatenation (.) or string at template line 16.
Use of uninitialized value $class in concatenation (.) or string at template line 16.
Use of uninitialized value $class in concatenation (.) or string at template line 16.
Use of uninitialized value $class in concatenation (.) or string at template line 16.
Use of uninitialized value $class in concatenation (.) or string at template line 16.
Use of uninitialized value $class in concatenation (.) or string at template line 16.
Use of uninitialized value $class in concatenation (.) or string at template line 16.
Use of uninitialized value $class in concatenation (.) or string at template line 16.
Use of uninitialized value $class in concatenation (.) or string at template line 16.
Use of uninitialized value $class in concatenation (.) or string at template line 16.
Use of uninitialized value $class in concatenation (.) or string at template line 16.
Use of uninitialized value $class in concatenation (.) or string at template line 16.
Use of uninitialized value $class in concatenation (.) or string at template line 16.
Use of uninitialized value $class in concatenation (.) or string at template line 16.
Use of uninitialized value $class in concatenation (.) or string at template line 16.
Use of uninitialized value $class in concatenation (.) or string at template line 16.
Use of uninitialized value $class in concatenation (.) or string at template line 16.
Use of uninitialized value $class in concatenation (.) or string at template line 16.
Use of uninitialized value $class in concatenation (.) or string at template line 16.
Use of uninitialized value $class in concatenation (.) or string at template line 16.
Use of uninitialized value $class in concatenation (.) or string at template line 16.
Use of uninitialized value $class in concatenation (.) or string at template line 16.
Use of uninitialized value $class in concatenation (.) or string at template line 16.
Use of uninitialized value $class in concatenation (.) or string at template line 16.
Use of uninitialized value $class in concatenation (.) or string at template line 16.
Use of uninitialized value $class in concatenation (.) or string at template line 16.
Use of uninitialized value $class in concatenation (.) or string at template line 16.
Use of uninitialized value $class in concatenation (.) or string at template line 16.
Use of uninitialized value in join or string at template line 10.
Use of uninitialized value in join or string at template line 10.
Use of uninitialized value in join or string at template line 10.
Use of uninitialized value in join or string at template line 10.
Use of uninitialized value $class in concatenation (.) or string at template line 16.
Use of uninitialized value $class in concatenation (.) or string at template line 16.
Use of uninitialized value $class in concatenation (.) or string at template line 16.
Use of uninitialized value $class in concatenation (.) or string at template line 16.
Use of uninitialized value $class in concatenation (.) or string at template line 16.
Use of uninitialized value $class in concatenation (.) or string at template line 16.
Use of uninitialized value $class in concatenation (.) or string at template line 16.
Use of uninitialized value $class in concatenation (.) or string at template line 16.
Use of uninitialized value $class in concatenation (.) or string at template line 16.
Use of uninitialized value $class in concatenation (.) or string at template line 16.
"my" variable $request masks earlier declaration in same scope at (eval 10150) line 15460.
"my" variable $body masks earlier declaration in same scope at (eval 10150) line 30292.
"my" variable $request masks earlier declaration in same scope at (eval 10150) line 45322.
"my" variable $ct masks earlier declaration in same scope at (eval 10150) line 47390.
"my" variable $ct masks earlier declaration in same scope at (eval 10150) line 47399.
"my" variable $ct masks earlier declaration in same scope at (eval 10150) line 47408.
"my" variable $ct masks earlier declaration in same scope at (eval 10150) line 47428.
"my" variable $ct masks earlier declaration in same scope at (eval 10150) line 47437.
"my" variable $ct masks earlier declaration in same scope at (eval 10150) line 47446.
"my" variable $ct masks earlier declaration in same scope at (eval 10150) line 47466.
"my" variable $ct masks earlier declaration in same scope at (eval 10150) line 47475.
"my" variable $ct masks earlier declaration in same scope at (eval 10150) line 47484.
"my" variable $ct masks earlier declaration in same scope at (eval 10150) line 47504.
"my" variable $ct masks earlier declaration in same scope at (eval 10150) line 47513.
"my" variable $ct masks earlier declaration in same scope at (eval 10150) line 47522.
"my" variable $ct masks earlier declaration in same scope at (eval 10150) line 47642.
"my" variable $ct masks earlier declaration in same scope at (eval 10150) line 47651.
"my" variable $ct masks earlier declaration in same scope at (eval 10150) line 47660.
"my" variable $ct masks earlier declaration in same scope at (eval 10150) line 47680.
"my" variable $ct masks earlier declaration in same scope at (eval 10150) line 47689.
"my" variable $ct masks earlier declaration in same scope at (eval 10150) line 47698.
"my" variable $ct masks earlier declaration in same scope at (eval 10150) line 47718.
"my" variable $ct masks earlier declaration in same scope at (eval 10150) line 47727.
"my" variable $ct masks earlier declaration in same scope at (eval 10150) line 47736.
"my" variable $ct masks earlier declaration in same scope at (eval 10150) line 47756.
"my" variable $ct masks earlier declaration in same scope at (eval 10150) line 47765.
"my" variable $ct masks earlier declaration in same scope at (eval 10150) line 47774.
"my" variable $ct masks earlier declaration in same scope at (eval 10150) line 47794.
"my" variable $ct masks earlier declaration in same scope at (eval 10150) line 47803.
"my" variable $ct masks earlier declaration in same scope at (eval 10150) line 47812.
"my" variable $ct masks earlier declaration in same scope at (eval 10150) line 47932.
"my" variable $ct masks earlier declaration in same scope at (eval 10150) line 47941.
"my" variable $ct masks earlier declaration in same scope at (eval 10150) line 47950.
"my" variable $ct masks earlier declaration in same scope at (eval 10150) line 47970.
"my" variable $ct masks earlier declaration in same scope at (eval 10150) line 47979.
"my" variable $ct masks earlier declaration in same scope at (eval 10150) line 47988.
"my" variable $ct masks earlier declaration in same scope at (eval 10150) line 48008.
"my" variable $ct masks earlier declaration in same scope at (eval 10150) line 48017.
"my" variable $ct masks earlier declaration in same scope at (eval 10150) line 48026.
"my" variable $ct masks earlier declaration in same scope at (eval 10150) line 48046.
"my" variable $ct masks earlier declaration in same scope at (eval 10150) line 48055.
"my" variable $ct masks earlier declaration in same scope at (eval 10150) line 48064.
"my" variable $ct masks earlier declaration in same scope at (eval 10150) line 48084.
"my" variable $ct masks earlier declaration in same scope at (eval 10150) line 48093.
"my" variable $ct masks earlier declaration in same scope at (eval 10150) line 48102.
"my" variable $request masks earlier declaration in same scope at (eval 10150) line 49180.
t/01-regression.t .. ok
t/02-http-form.t ... ok
All tests successful.

Test Summary Report
-------------------
t/01-regression.t (Wstat: 0 Tests: 1169 Failed: 0)
  TODO passed:   3, 5, 7, 9, 11, 13, 15, 17, 19, 21, 23
                25, 27, 29, 31, 33, 35, 37, 39, 41, 43
                45, 47, 49, 51, 53, 55, 57, 59, 61, 63
                65, 67, 69, 71, 73, 75, 77, 79, 81, 83
                85, 87, 89, 91, 93, 95, 97, 99, 101, 103
                105, 107, 109, 111, 113, 115, 117, 119
                121, 123, 125, 127, 129, 131, 133, 135
                137, 139, 141, 143, 145, 147, 149, 151
                153, 155, 157, 159, 161, 163, 165, 167
                169, 171, 173, 175, 177, 179, 181, 183
                185, 187, 189, 191, 193, 195, 197, 199
                201, 203, 205, 207, 209, 211, 213, 215
                217, 219, 221, 223, 225, 227, 229, 231
                233, 235, 237, 239, 241, 243, 245, 247
                249, 251, 253, 255, 257, 259, 261, 263
                265, 267, 269, 271, 273, 275, 277, 279
                281, 283, 285, 287, 289, 291, 293, 295
                297, 299, 301, 303, 305, 307, 309, 311
                313, 315, 317, 319, 321, 323, 325, 327
                329, 331, 333, 335, 337, 339, 341, 343
                345, 347, 349, 351, 353, 355, 357, 359
                361, 363, 365, 367, 369, 371, 373, 375
                377, 379, 381, 383, 385, 387, 389, 391
                393, 395, 397, 399, 401, 403, 405, 407
                409, 411, 413, 415, 417, 419, 421, 423
                425, 427, 429, 431, 433, 435, 437, 439
                441, 443, 445, 447, 449, 451, 453, 455
                457, 459, 461, 463, 465, 467, 469, 471
                473, 475, 477, 479, 481, 483, 485, 487
                489, 491, 493, 495, 497, 499, 501, 503
                505, 507, 509, 511, 513, 515, 517, 519
                521, 523, 525, 527, 529, 531, 533, 535
                537, 539, 541, 543, 545, 547, 549, 551
                553, 555, 557, 559, 561, 563, 565, 567
                569, 571, 573, 575, 577, 579, 581, 583
                585, 587, 589, 591, 593, 595, 597, 599
                601, 603, 605, 607, 609, 611, 613, 615
                617, 619, 621, 623, 625, 627, 629, 631
                633, 635, 637, 639, 641, 643, 645, 647
                649, 651, 653, 655, 657, 659, 661, 663
                665, 667, 669, 671, 673, 675, 677, 679
                681, 683, 685, 687, 689, 691, 693, 695
                697, 699, 701, 703, 705, 707, 709, 711
                713, 715, 717, 719, 721, 723, 725, 727
                729, 731, 733, 735, 737, 739, 741, 743
                745, 747, 749, 751, 753, 755, 757, 759
                761, 763, 765, 767, 769, 771, 773, 775
                777, 779, 781, 783, 785, 787, 789, 791
                793, 795, 797, 799, 801, 803, 805, 807
                809, 811, 813, 815, 817, 819, 821, 823
                825, 827, 829, 831, 833, 835, 837, 839
                841, 843, 845, 847, 849, 851, 853, 855
                857, 859, 861, 863, 865, 867, 869, 871
                873, 875, 877, 879, 881, 883, 885, 887
                889, 891, 893, 895, 897, 899, 901, 903
                905, 907, 909, 911, 913, 915, 917, 919
                921, 923, 925, 927, 929, 931, 933, 935
                937, 939, 941, 943, 945, 947, 949, 951
                953, 955, 957, 959, 961, 963, 965, 967
                969, 971, 973, 975, 977, 979, 981, 983
                985, 987, 989, 991, 993, 995, 997, 999
                1001, 1003, 1005, 1007, 1009, 1011, 1013
                1015, 1017, 1019, 1021, 1023, 1025, 1027
                1029, 1031, 1033, 1035, 1037, 1039, 1041
                1043, 1045, 1047, 1049, 1051, 1053, 1055
                1057, 1059, 1061, 1063, 1065, 1067, 1069
                1071, 1073, 1075, 1077, 1079, 1081, 1083
                1085, 1087, 1089, 1091, 1093
Files=3, Tests=1172, 21 wallclock secs ( 0.14 usr  0.03 sys + 17.76 cusr  0.66 csys = 18.59 CPU)
Result: PASS

------------------------------
PREREQUISITES
------------------------------

Prerequisite modules loaded:

requires:

    Module              Need  Have    
    ------------------- ----- --------
    Carp                0     1.52    
    Encode              0     3.20    
    experimental        0.031 0.031   
    Exporter            5     5.76    
    File::Basename      0     2.85    
    File::Path          0     2.18    
    Getopt::Long        0     2.57    
    HTTP::Request::Diff 0     0.07    
    JSON::Pointer       0     0.07    
    Markdown::Pod       0     0.008   
    Mojo::File          0     0       
    Mojo::Template      0     0       
    Mojolicious         0     9.31    
    Moo                 2     2.005005
    OpenAPI::Modern     0     0.058   
    perl                5.020 5.034001
    Perl::Tidy          0     20230309
    PerlX::Maybe        0     1.202   
    warnings            0     1.51    
    YAML::PP            0     v0.37.0 

build_requires:

    Module              Need  Have    
    ------------------- ----- --------
    ExtUtils::MakeMaker 0     7.70    
    Future::Mojo        1.003 1.003   
    Future::Queue       0     0.51    
    HTTP::Request::Diff 0     0.07    
    Mojolicious         1.03  9.31    
    Test2::V0           0     0.000159

configure_requires:

    Module              Need  Have    
    ------------------- ----- --------
    ExtUtils::MakeMaker 0     7.70    


------------------------------
ENVIRONMENT AND OTHER CONTEXT
------------------------------

Environment variables:

    AUTOMATED_TESTING = 1
    LANG = en_US.UTF-8
    LANGUAGE = en_US:en
    PATH = /home/sand/bin:/usr/local/bin:/usr/bin:/bin:/usr/games:/usr/local/perl/bin:/usr/X11/bin:/sbin:/usr/sbin
    PERL5LIB = 
    PERL5OPT = 
    PERL5_CPANPLUS_IS_RUNNING = 1293151
    PERL5_CPAN_IS_RUNNING = 1293151
    PERL_CANARY_STABILITY_NOPROMPT = 1
    PERL_MM_USE_DEFAULT = 1
    PERL_USE_UNSAFE_INC = 1
    SHELL = /usr/bin/zsh
    TERM = screen

Perl special variables (and OS-specific diagnostics, for MSWin32):

    $^X = /home/sand/src/perl/repoperls/installed-perls/host/k93msid/v5.34.1/af11/bin/perl
    $UID/$EUID = 1005 / 1005
    $GID = 1005 1005
    $EGID = 1005 1005

Perl module toolchain versions installed:

    Module              Have    
    ------------------- --------
    CPAN                2.33    
    CPAN::Meta          2.150010
    Cwd                 3.80    
    ExtUtils::CBuilder  0.280236
    ExtUtils::Command   7.70    
    ExtUtils::Install   2.20    
    ExtUtils::MakeMaker 7.70    
    ExtUtils::Manifest  1.73    
    ExtUtils::ParseXS   3.51    
    File::Spec          3.80    
    JSON                4.10    
    JSON::PP            4.11    
    Module::Build       0.4234  
    Module::Signature   0.88    
    Parse::CPAN::Meta   2.150010
    Test2               1.302195
    Test::Harness       3.47    
    Test::More          1.302195
    YAML                1.30    
    YAML::Syck          1.34    
    version             0.9929  


--

Summary of my perl5 (revision 5 version 34 subversion 1) configuration:
  Commit id: 1181cf72936404b890ef41362f533fe2c2626f9b
  Platform:
    osname=linux
    osvers=5.15.0-2-amd64
    archname=x86_64-linux-ld
    uname='linux k93msid 5.15.0-2-amd64 #1 smp debian 5.15.5-2 (2021-12-18) x86_64 gnulinux '
    config_args='-Dprefix=/home/sand/src/perl/repoperls/installed-perls/host/k93msid/v5.34.1/af11 -Dmyhostname=k93msid -Dinstallusrbinperl=n -Uversiononly -Dusedevel -des -Ui_db -Dlibswanted=cl pthread socket inet nsl gdbm dbm malloc dl ld sun m crypt sec util c cposix posix ucb BSD gdbm_compat -Uuseithreads -Duselongdouble -DEBUGGING=-g'
    hint=recommended
    useposix=true
    d_sigaction=define
    useithreads=undef
    usemultiplicity=undef
    use64bitint=define
    use64bitall=define
    uselongdouble=define
    usemymalloc=n
    default_inc_excludes_dot=define
  Compiler:
    cc='cc'
    ccflags ='-fwrapv -fno-strict-aliasing -pipe -fstack-protector-strong -I/usr/local/include -D_LARGEFILE_SOURCE -D_FILE_OFFSET_BITS=64 -D_FORTIFY_SOURCE=2'
    optimize='-O2 -g'
    cppflags='-fwrapv -fno-strict-aliasing -pipe -fstack-protector-strong -I/usr/local/include'
    ccversion=''
    gccversion='11.2.0'
    gccosandvers=''
    intsize=4
    longsize=8
    ptrsize=8
    doublesize=8
    byteorder=12345678
    doublekind=3
    d_longlong=define
    longlongsize=8
    d_longdbl=define
    longdblsize=16
    longdblkind=3
    ivtype='long'
    ivsize=8
    nvtype='long double'
    nvsize=16
    Off_t='off_t'
    lseeksize=8
    alignbytes=16
    prototype=define
  Linker and Libraries:
    ld='cc'
    ldflags =' -fstack-protector-strong -L/usr/local/lib'
    libpth=/usr/local/lib /usr/lib/x86_64-linux-gnu /usr/lib /lib/x86_64-linux-gnu /lib
    libs=-lpthread -lnsl -ldl -lm -lcrypt -lutil -lc
    perllibs=-lpthread -lnsl -ldl -lm -lcrypt -lutil -lc
    libc=libc-2.33.so
    so=so
    useshrplib=false
    libperl=libperl.a
    gnulibc_version='2.33'
  Dynamic Linking:
    dlsrc=dl_dlopen.xs
    dlext=so
    d_dlsymun=undef
    ccdlflags='-Wl,-E'
    cccdlflags='-fPIC'
    lddlflags='-shared -O2 -g -L/usr/local/lib -fstack-protector-strong'


Characteristics of this binary (from libperl): 
  Compile-time options:
    HAS_TIMES
    PERLIO_LAYERS
    PERL_COPY_ON_WRITE
    PERL_DONT_CREATE_GVSV
    PERL_MALLOC_WRAP
    PERL_OP_PARENT
    PERL_PRESERVE_IVUV
    PERL_USE_DEVEL
    USE_64_BIT_ALL
    USE_64_BIT_INT
    USE_LARGE_FILES
    USE_LOCALE
    USE_LOCALE_COLLATE
    USE_LOCALE_CTYPE
    USE_LOCALE_NUMERIC
    USE_LOCALE_TIME
    USE_LONG_DOUBLE
    USE_PERLIO
    USE_PERL_ATOF
  Built under linux
  Compiled at Mar 13 2022 11:05:32
  %ENV:
    PERL5LIB=""
    PERL5OPT=""
    PERL5_CPANPLUS_IS_RUNNING="1293151"
    PERL5_CPAN_IS_RUNNING="1293151"
    PERL_CANARY_STABILITY_NOPROMPT="1"
    PERL_MM_USE_DEFAULT="1"
    PERL_USE_UNSAFE_INC="1"
  @INC:
    /home/sand/src/perl/repoperls/installed-perls/host/k93msid/v5.34.1/af11/lib/site_perl/5.34.1/x86_64-linux-ld
    /home/sand/src/perl/repoperls/installed-perls/host/k93msid/v5.34.1/af11/lib/site_perl/5.34.1
    /home/sand/src/perl/repoperls/installed-perls/host/k93msid/v5.34.1/af11/lib/5.34.1/x86_64-linux-ld
    /home/sand/src/perl/repoperls/installed-perls/host/k93msid/v5.34.1/af11/lib/5.34.1
    .