Net-Curl-Promiser v0.16 Perl 5 v5.32.0 amd64-freebsd
- Status
- Pass
- From
- Slaven Rezić
- Dist
-
Net-Curl-Promiser v0.16
- Platform
- Perl 5 v5.32.0 amd64-freebsd
- Date
- 2021-04-01 06:58:36
- ID
- ae4d1be8-92b7-11eb-a32b-1d171f24ea8f
This distribution has been tested as part of the CPAN Testers
project, supporting the Perl programming language. See
http://wiki.cpantesters.org/ for more information or email
questions to cpan-testers-discuss@perl.org
--
Dear Felipe Gasper,
This is a computer-generated report for Net-Curl-Promiser-0.16
on perl 5.32.0, created by CPAN-Reporter-1.2018.
Thank you for uploading your work to CPAN. Congratulations!
All tests were successful.
Sections of this report:
* Tester comments
* Program output
* Prerequisites
* Environment and other context
------------------------------
TESTER COMMENTS
------------------------------
Additional comments from tester:
none provided
------------------------------
PROGRAM OUTPUT
------------------------------
Output from '/usr/bin/make test':
PERL_DL_NONLAZY=1 "/usr/perl5.32.0p/bin/perl" "-MExtUtils::Command::MM" "-MTest::Harness" "-e" "undef *Test::Harness::Switches; test_harness(0, 'blib/lib', 'blib/arch')" t/*.t
# Created listening socket on port 40309
* Trying 127.0.0.1:40309...
* Connected to 127.0.0.1 (127.0.0.1) port 40309 (#0)
> GET / HTTP/1.1
Host: 127.0.0.1:40309
Accept: */*
# Curl told us to poll; continuing â¦
* Closing connection 0
# Created listening socket on port 56591
* Trying 127.0.0.1:56591...
* Connected to 127.0.0.1 (127.0.0.1) port 56591 (#0)
> GET / HTTP/1.1
Host: 127.0.0.1:56591
Accept: */*
# Curl told us to poll; continuing â¦
* Closing connection 0
# Created listening socket on port 23362
* Trying 127.0.0.1:23362...
* Connected to 127.0.0.1 (127.0.0.1) port 23362 (#0)
> GET / HTTP/1.1
Host: 127.0.0.1:23362
Accept: */*
# Curl told us to poll; continuing â¦
* Closing connection 0
t/cancel_fail.t ....................................... ok
t/Net-Curl-Promiser-AnyEvent.t ........................ ok
t/Net-Curl-Promiser-AnyEvent_reuse.t .................. ok
t/Net-Curl-Promiser-IOAsync.t ......................... ok
t/Net-Curl-Promiser-IOAsync_net_curl_easy_overload.t .. ok
# Mojolicious version: 9.14
# Using loop class Mojo::Reactor::Poll
# SERVER PORT: 50659
# SERVER PID: 65948
# libcurl libcurl/7.75.0 OpenSSL/1.1.1k zlib/1.2.11 nghttp2/1.43.0 (477952)
# FINISHING SERVER: PID 65948 (from PID 65947)
# Server (65948) received request to shut down
# REAPED SERVER: PID 65948 (from PID 65947)
t/Net-Curl-Promiser-Mojo.t ............................ ok
# SERVER PORT: 42008
# SERVER PID: 65950
# libcurl libcurl/7.75.0 OpenSSL/1.1.1k zlib/1.2.11 nghttp2/1.43.0 (477952)
# FINISHING SERVER: PID 65950 (from PID 65949)
# Server (65950) received request to shut down
# REAPED SERVER: PID 65950 (from PID 65949)
t/Net-Curl-Promiser-Select.t .......................... ok
t/Net-Curl-Promiser-Select_setopt_fail.t .............. ok
All tests successful.
Files=8, Tests=64, 2 wallclock secs ( 0.05 usr 0.01 sys + 1.03 cusr 0.27 csys = 1.37 CPU)
Result: PASS
------------------------------
PREREQUISITES
------------------------------
Prerequisite modules loaded:
requires:
Module Need Have
------------------- ----- --------
Net::Curl 0.44 0.48
Promise::ES6 0.07 0.23
build_requires:
Module Need Have
------------------- ----- --------
autodie 0 2.32
ExtUtils::MakeMaker 0 7.44
FindBin 0 1.51
Test::Class::Tiny 0 0.03
Test::Deep 1.120 1.130
Test::FailWarnings 0 0.008
Test::Fatal 0 0.016
Test::More 0 1.302183
configure_requires:
Module Need Have
------------------- ----- --------
ExtUtils::MakeMaker 0 7.44
------------------------------
ENVIRONMENT AND OTHER CONTEXT
------------------------------
Environment variables:
PATH = /usr/local/bin:/usr/bin:/bin:/usr/local/sbin:/usr/sbin:/sbin:/home/cpansand/bin/freebsd13.0:/home/cpansand/bin/sh:/home/cpansand/bin:/usr/games:/home/cpansand/devel:/usr/home/eserte/src/srezic-misc/scripts
PERL5LIB = /home/cpansand/.cpan/build/2021040105/Test-Class-Tiny-0.03-2/blib/arch:/home/cpansand/.cpan/build/2021040105/Test-Class-Tiny-0.03-2/blib/lib:/home/cpansand/.cpan/build/2021040105/Promise-ES6-0.23-1/blib/arch:/home/cpansand/.cpan/build/2021040105/Promise-ES6-0.23-1/blib/lib:/home/cpansand/.cpan/build/2021040105/Test-FailWarnings-0.008-1/blib/arch:/home/cpansand/.cpan/build/2021040105/Test-FailWarnings-0.008-1/blib/lib:/home/cpansand/.cpan/build/2021040105/Test-Class-0.52-1/blib/arch:/home/cpansand/.cpan/build/2021040105/Test-Class-0.52-1/blib/lib:/home/cpansand/.cpan/build/2021040105/Test-Exception-0.43-1/blib/arch:/home/cpansand/.cpan/build/2021040105/Test-Exception-0.43-1/blib/lib:/home/cpansand/.cpan/build/2021040105/Sub-Uplevel-0.2800-3/blib/arch:/home/cpansand/.cpan/build/2021040105/Sub-Uplevel-0.2800-3/blib/lib:/home/cpansand/.cpan/build/2021040105/Net-Curl-0.48-2/blib/arch:/home/cpansand/.cpan/build/2021040105/Net-Curl-0.48-2/blib/lib
PERL5OPT =
PERL5_CPANPLUS_IS_RUNNING = 64990
PERL5_CPAN_IS_RUNNING = 64990
PERL5_CPAN_IS_RUNNING_IN_RECURSION = 57556,64990
PERLDOC = -MPod::Perldoc::ToTextOverstrike
PERL_BATCH = yes
PERL_CANARY_STABILITY_NOPROMPT = 1
PERL_CPAN_REPORTER_CONFIG = /var/tmp/cpansmoker-1023/2021040105/cpanreporter_000_config.ini
PERL_EXTUTILS_AUTOINSTALL = --defaultdeps
PERL_USE_UNSAFE_INC = 1
SHELL = /usr/local/bin/zsh
TERM = screen
TMPDIR = /var/tmp/cpansmoker-1023/2021040105
Perl special variables (and OS-specific diagnostics, for MSWin32):
$^X = /usr/perl5.32.0p/bin/perl
$UID/$EUID = 1023 / 1023
$GID = 1023 1023
$EGID = 1023 1023
Perl module toolchain versions installed:
Module Have
------------------- --------
CPAN 2.27
CPAN::Meta 2.150010
Cwd 3.78
ExtUtils::CBuilder 0.280234
ExtUtils::Command 7.44
ExtUtils::Install 2.14
ExtUtils::MakeMaker 7.44
ExtUtils::Manifest 1.72
ExtUtils::ParseXS 3.40
File::Spec 3.78
JSON n/a
JSON::PP 4.04
Module::Build 0.4231
Module::Signature n/a
Parse::CPAN::Meta 2.150010
Test::Harness 3.42
Test::More 1.302183
YAML 1.30
YAML::Syck 1.34
version 0.9924
--
Summary of my perl5 (revision 5 version 32 subversion 0) configuration:
Platform:
osname=freebsd
osvers=13.0-stable
archname=amd64-freebsd
uname='freebsd cloud2.bbbike.org 13.0-stable freebsd 13.0-stable #4 stable13-n245045-a20427cc039: sat mar 27 11:49:50 utc 2021 root@cloud2.bbbike.org:usrobjusrhomeprojectsfreebsdamd64.amd64sysgeneric amd64 '
config_args='-ds -e -Dprefix=/usr/perl5.32.0p -Dcf_email=srezic@cpan.org -Doptimize=-O2 -pipe'
hint=recommended
useposix=true
d_sigaction=define
useithreads=undef
usemultiplicity=undef
use64bitint=define
use64bitall=define
uselongdouble=undef
usemymalloc=n
default_inc_excludes_dot=define
bincompat5005=undef
Compiler:
cc='cc'
ccflags ='-DHAS_FPSETMASK -DHAS_FLOATINGPOINT_H -fno-strict-aliasing -pipe -fstack-protector-strong -I/usr/local/include'
optimize='-O2 -pipe'
cppflags='-DHAS_FPSETMASK -DHAS_FLOATINGPOINT_H -fno-strict-aliasing -pipe -fstack-protector-strong -I/usr/local/include'
ccversion=''
gccversion='FreeBSD Clang 11.0.1 (git@github.com:llvm/llvm-project.git llvmorg-11.0.1-0-g43ff75f2c3fe)'
gccosandvers=''
intsize=4
longsize=8
ptrsize=8
doublesize=8
byteorder=12345678
doublekind=3
d_longlong=define
longlongsize=8
d_longdbl=define
longdblsize=16
longdblkind=3
ivtype='long'
ivsize=8
nvtype='double'
nvsize=8
Off_t='off_t'
lseeksize=8
alignbytes=8
prototype=define
Linker and Libraries:
ld='cc'
ldflags ='-pthread -Wl,-E -fstack-protector-strong -L/usr/local/lib'
libpth=/usr/lib /usr/local/lib /usr/lib/clang/11.0.1/lib /usr/lib
libs=-lpthread -lgdbm -ldl -lm -lcrypt -lutil -lc
perllibs=-lpthread -ldl -lm -lcrypt -lutil -lc
libc=
so=so
useshrplib=false
libperl=libperl.a
gnulibc_version=''
Dynamic Linking:
dlsrc=dl_dlopen.xs
dlext=so
d_dlsymun=undef
ccdlflags=' '
cccdlflags='-DPIC -fPIC'
lddlflags='-shared -L/usr/local/lib -fstack-protector-strong'
Characteristics of this binary (from libperl):
Compile-time options:
HAS_TIMES
PERLIO_LAYERS
PERL_COPY_ON_WRITE
PERL_DONT_CREATE_GVSV
PERL_MALLOC_WRAP
PERL_OP_PARENT
PERL_PRESERVE_IVUV
USE_64_BIT_ALL
USE_64_BIT_INT
USE_LARGE_FILES
USE_LOCALE
USE_LOCALE_COLLATE
USE_LOCALE_CTYPE
USE_LOCALE_NUMERIC
USE_LOCALE_TIME
USE_PERLIO
USE_PERL_ATOF
Built under freebsd
Compiled at Mar 27 2021 20:39:53
%ENV:
PERL5LIB="/home/cpansand/.cpan/build/2021040105/Test-Class-Tiny-0.03-2/blib/arch:/home/cpansand/.cpan/build/2021040105/Test-Class-Tiny-0.03-2/blib/lib:/home/cpansand/.cpan/build/2021040105/Promise-ES6-0.23-1/blib/arch:/home/cpansand/.cpan/build/2021040105/Promise-ES6-0.23-1/blib/lib:/home/cpansand/.cpan/build/2021040105/Test-FailWarnings-0.008-1/blib/arch:/home/cpansand/.cpan/build/2021040105/Test-FailWarnings-0.008-1/blib/lib:/home/cpansand/.cpan/build/2021040105/Test-Class-0.52-1/blib/arch:/home/cpansand/.cpan/build/2021040105/Test-Class-0.52-1/blib/lib:/home/cpansand/.cpan/build/2021040105/Test-Exception-0.43-1/blib/arch:/home/cpansand/.cpan/build/2021040105/Test-Exception-0.43-1/blib/lib:/home/cpansand/.cpan/build/2021040105/Sub-Uplevel-0.2800-3/blib/arch:/home/cpansand/.cpan/build/2021040105/Sub-Uplevel-0.2800-3/blib/lib:/home/cpansand/.cpan/build/2021040105/Net-Curl-0.48-2/blib/arch:/home/cpansand/.cpan/build/2021040105/Net-Curl-0.48-2/blib/lib"
PERL5OPT=""
PERL5_CPANPLUS_IS_RUNNING="64990"
PERL5_CPAN_IS_RUNNING="64990"
PERL5_CPAN_IS_RUNNING_IN_RECURSION="57556,64990"
PERLDOC="-MPod::Perldoc::ToTextOverstrike"
PERL_BATCH="yes"
PERL_CANARY_STABILITY_NOPROMPT="1"
PERL_CPAN_REPORTER_CONFIG="/var/tmp/cpansmoker-1023/2021040105/cpanreporter_000_config.ini"
PERL_EXTUTILS_AUTOINSTALL="--defaultdeps"
PERL_USE_UNSAFE_INC="1"
@INC:
/home/cpansand/.cpan/build/2021040105/Test-Class-Tiny-0.03-2/blib/arch
/home/cpansand/.cpan/build/2021040105/Test-Class-Tiny-0.03-2/blib/lib
/home/cpansand/.cpan/build/2021040105/Promise-ES6-0.23-1/blib/arch
/home/cpansand/.cpan/build/2021040105/Promise-ES6-0.23-1/blib/lib
/home/cpansand/.cpan/build/2021040105/Test-FailWarnings-0.008-1/blib/arch
/home/cpansand/.cpan/build/2021040105/Test-FailWarnings-0.008-1/blib/lib
/home/cpansand/.cpan/build/2021040105/Test-Class-0.52-1/blib/arch
/home/cpansand/.cpan/build/2021040105/Test-Class-0.52-1/blib/lib
/home/cpansand/.cpan/build/2021040105/Test-Exception-0.43-1/blib/arch
/home/cpansand/.cpan/build/2021040105/Test-Exception-0.43-1/blib/lib
/home/cpansand/.cpan/build/2021040105/Sub-Uplevel-0.2800-3/blib/arch
/home/cpansand/.cpan/build/2021040105/Sub-Uplevel-0.2800-3/blib/lib
/home/cpansand/.cpan/build/2021040105/Net-Curl-0.48-2/blib/arch
/home/cpansand/.cpan/build/2021040105/Net-Curl-0.48-2/blib/lib
/usr/perl5.32.0p/lib/site_perl/5.32.0/amd64-freebsd
/usr/perl5.32.0p/lib/site_perl/5.32.0
/usr/perl5.32.0p/lib/5.32.0/amd64-freebsd
/usr/perl5.32.0p/lib/5.32.0
.