Report for Capture-Tiny-Extended-0.114

Back
From: metabase:user:320bfe00-2aae-11df-837a-5e0a49663a4f
Subject: PASS Capture-Tiny-Extended-0.114 v5.8.1 GNU/Linux
Date: 2015-12-30T15:26:21Z

This distribution has been tested as part of the CPAN Testers
project, supporting the Perl programming language.  See
http://wiki.cpantesters.org/ for more information or email
questions to cpan-testers-discuss@perl.org


--
Dear Christian Walde,

This is a computer-generated report for Capture-Tiny-Extended-0.114
on perl 5.8.1, created by CPAN-Reporter-1.2015.

Thank you for uploading your work to CPAN.  Congratulations!
All tests were successful.

Sections of this report:

    * Tester comments
    * Program output
    * Prerequisites
    * Environment and other context

------------------------------
TESTER COMMENTS
------------------------------

Additional comments from tester:

this report is from an automated smoke testing program
and was not reviewed by a human for accuracy

------------------------------
PROGRAM OUTPUT
------------------------------

Output from '/usr/bin/make test':

PERL_DL_NONLAZY=1 "/tmp/basesmoker-reloperl-WCgT/bin/perl" "-MExtUtils::Command::MM" "-MTest::Harness" "-e" "undef *Test::Harness::Switches; test_harness(0, 'blib/lib', 'blib/arch')" t/*.t
t/00-compile.t ............. ok
t/01-Capture-Tiny.t ........ ok
t/02-capture.t ............. ok
t/03-tee.t ................. ok
t/06-stdout-closed.t ....... ok
t/07-stderr-closed.t ....... ok
t/08-stdin-closed.t ........ ok
t/09-preserve-exit-code.t .. ok
t/10-stdout-string.t ....... ok
t/11-stderr-string.t ....... ok
t/12-stdin-string.t ........ ok
t/13-stdout-tied.t ......... ok
t/14-stderr-tied.t ......... ok
t/15-stdin-tied.t .......... ok
t/16-catch-errors.t ........ ok
All tests successful.

Test Summary Report
-------------------
t/13-stdout-tied.t       (Wstat: 0 Tests: 489 Failed: 0)
  TODO passed:   9-10, 18-19, 26-28, 36-37, 45-46, 53-55
                64, 73, 81-82, 91, 98, 100, 108-109, 118
                125, 127, 142-144, 160-162, 176-181, 196-198
                214-216, 230-235, 246, 258, 268-271, 282
                294, 304-307, 329, 331-333, 335-337, 362-363
                366-367, 388, 390, 392-394, 396-397, 419
                421-423, 425-427, 452-453, 456-457, 478
                480, 482-484, 486-487
t/14-stderr-tied.t       (Wstat: 0 Tests: 489 Failed: 0)
  TODO passed:   2, 4, 11-13, 20, 22, 29, 31, 38-40, 47
                49, 56, 59, 62, 65, 68, 71, 74-76, 83-85
                92-94, 101-103, 110-112, 119-121, 128-129
                132, 146-151, 164-165, 168, 182-183, 186
                200-205, 218-219, 222, 236-237, 239, 248-251
                260-261, 263, 272-273, 275, 284-287, 296-297
                299, 308-317, 338-347, 368-377, 398-407
                428-437, 458-467
Files=15, Tests=4904, 12 wallclock secs ( 0.58 usr  0.05 sys +  9.36 cusr  4.32 csys = 14.31 CPU)
Result: PASS

------------------------------
PREREQUISITES
------------------------------

Prerequisite modules loaded:

requires:

    Module              Need Have        
    ------------------- ---- ------------
    Carp                0    1.38        
    Exporter            0    5.72        
    File::Spec          0    3.60        
    File::Temp          0    0.2304      
    IO::Handle          0    1.28        

build_requires:

    Module              Need Have        
    ------------------- ---- ------------
    File::Find          0    1.05        
    Test::More          0.62 1.302013_004

configure_requires:

    Module              Need Have        
    ------------------- ---- ------------
    ExtUtils::MakeMaker 6.30 7.10        


------------------------------
ENVIRONMENT AND OTHER CONTEXT
------------------------------

Environment variables:

    AUTOMATED_TESTING = 1
    LANG = en_US.UTF-8
    LANGUAGE = en_US:en
    PATH = /home/sand/bin:/usr/local/bin:/usr/bin:/bin:/usr/games:/usr/local/perl/bin:/usr/X11/bin:/sbin:/usr/sbin
    PERL = /tmp/basesmoker-reloperl-WCgT/bin/perl
    PERL5LIB = 
    PERL5OPT = 
    PERL5_CPANPLUS_IS_RUNNING = 26212
    PERL5_CPAN_IS_RUNNING = 26212
    PERL_MM_USE_DEFAULT = 1
    SHELL = /usr/bin/zsh
    TERM = screen

Perl special variables (and OS-specific diagnostics, for MSWin32):

    $^X = /tmp/basesmoker-reloperl-WCgT/bin/perl
    $UID/$EUID = 1005 / 1005
    $GID = 1005 1005
    $EGID = 1005 1005

Perl module toolchain versions installed:

    Module              Have        
    ------------------- ------------
    CPAN                2.10        
    CPAN::Meta          2.150005    
    Cwd                 3.60        
    ExtUtils::CBuilder  0.280224    
    ExtUtils::Command   7.10        
    ExtUtils::Install   1.54        
    ExtUtils::MakeMaker 7.10        
    ExtUtils::Manifest  1.65        
    ExtUtils::ParseXS   3.30        
    File::Spec          3.60        
    JSON                2.90        
    JSON::PP            2.27203     
    Module::Build       0.4214      
    Module::Signature   n/a         
    Parse::CPAN::Meta   1.4417      
    Test::Harness       3.35        
    Test::More          1.302013_004
    YAML                1.15        
    YAML::Syck          1.29        
    version             0.9912      


--

Summary of my perl5 (revision 5.0 version 8 subversion 1) configuration:
  Platform:
    osname=linux, osvers=4.3.0-1-amd64, archname=x86_64-linux
    uname='linux k83 4.3.0-1-amd64 #1 smp debian 4.3.3-2 (2015-12-17) x86_64 gnulinux '
    config_args='-Dprefix=/home/sand/src/perl/repoperls/installed-perls/perl/perl-5.8.1/165a4 -Dmyhostname=k83 -Dinstallusrbinperl=n -Uversiononly -Dusedevel -des -Ui_db -Uuseithreads -Uuselongdouble -DDEBUGGING=-g'
    hint=recommended, useposix=true, d_sigaction=define
    usethreads=undef use5005threads=undef useithreads=undef usemultiplicity=undef
    useperlio=define d_sfio=undef uselargefiles=define usesocks=undef
    use64bitint=define use64bitall=define uselongdouble=undef
    usemymalloc=n, bincompat5005=undef
  Compiler:
    cc='cc', ccflags ='-fno-strict-aliasing -I/usr/local/include -D_LARGEFILE_SOURCE -D_FILE_OFFSET_BITS=64',
    optimize='-O2',
    cppflags='-fno-strict-aliasing -I/usr/local/include'
    ccversion='', gccversion='5.3.1 20151219', gccosandvers=''
    intsize=4, longsize=8, ptrsize=8, doublesize=8, byteorder=12345678
    d_longlong=define, longlongsize=8, d_longdbl=define, longdblsize=16
    ivtype='long', ivsize=8, nvtype='double', nvsize=8, Off_t='off_t', lseeksize=8
    alignbytes=8, prototype=define
  Linker and Libraries:
    ld='cc', ldflags =' -L/usr/local/lib'
    libpth=/usr/local/lib /lib/x86_64-linux-gnu /lib/../lib /usr/lib/x86_64-linux-gnu /usr/lib/../lib /lib /usr/lib
    libs=-lnsl -lnm -lgdbm -ldb -ldl -lm -lcrypt -lutil -lc -lgdbm_compat
    perllibs=-lnsl -lnm -ldl -lm -lcrypt -lutil -lc -lgdbm_compat
    libc=libc-2.21.so, so=so, useshrplib=false, libperl=libperl.a
    gnulibc_version='2.21'
  Dynamic Linking:
    dlsrc=dl_dlopen.xs, dlext=so, d_dlsymun=undef, ccdlflags='-rdynamic'
    cccdlflags='-fpic', lddlflags='-shared -L/usr/local/lib'


Characteristics of this binary (from libperl): 
  Compile-time options: USE_64_BIT_INT USE_64_BIT_ALL USE_LARGE_FILES
  Locally applied patches:
  	Devel::PatchPerl 1.40
  Built under linux
  Compiled at Dec 29 2015 15:40:48
  %ENV:
    PERL="/tmp/basesmoker-reloperl-WCgT/bin/perl"
    PERL5LIB=""
    PERL5OPT=""
    PERL5_CPANPLUS_IS_RUNNING="26212"
    PERL5_CPAN_IS_RUNNING="26212"
    PERL_MM_USE_DEFAULT="1"
  @INC:
    /home/sand/src/perl/repoperls/installed-perls/perl/perl-5.8.1/165a4/lib/5.8.1/x86_64-linux
    /home/sand/src/perl/repoperls/installed-perls/perl/perl-5.8.1/165a4/lib/5.8.1
    /home/sand/src/perl/repoperls/installed-perls/perl/perl-5.8.1/165a4/lib/site_perl/5.8.1/x86_64-linux
    /home/sand/src/perl/repoperls/installed-perls/perl/perl-5.8.1/165a4/lib/site_perl/5.8.1
    /home/sand/src/perl/repoperls/installed-perls/perl/perl-5.8.1/165a4/lib/site_perl
    .