B-Generate v1.56 Perl 5 v5.20.0 armv6l-linux-thread-multi
- Status
- Pass
- From
- Nigel Horne
- Dist
-
B-Generate v1.56
- Platform
- Perl 5 v5.20.0 armv6l-linux-thread-multi
- Date
- 2018-06-07 16:20:23
- ID
- ae5af0e8-6a6e-11e8-8fb1-ef5133556b3f
This distribution has been tested as part of the CPAN Testers
project, supporting the Perl programming language. See
http://wiki.cpantesters.org/ for more information or email
questions to cpan-testers-discuss@perl.org
--
Dear Reini Urban,
This is a computer-generated report for B-Generate-1.56
on perl 5.20.0, created by CPAN-Reporter-1.2018.
Thank you for uploading your work to CPAN. Congratulations!
All tests were successful.
Sections of this report:
* Tester comments
* Program output
* Prerequisites
* Environment and other context
------------------------------
TESTER COMMENTS
------------------------------
Additional comments from tester:
this report is from an automated smoke testing program
and was not reviewed by a human for accuracy
------------------------------
PROGRAM OUTPUT
------------------------------
Output from '/usr/bin/make test':
"/mnt/nas/home/pi2/njh/perl5/perlbrew/perls/perl-5.20.0/bin/perl" -MExtUtils::Command::MM -e 'cp_nonempty' -- Generate.bs blib/arch/auto/B/Generate/Generate.bs 644
"/mnt/nas/home/pi2/njh/perl5/perlbrew/perls/perl-5.20.0/bin/perl" "-MExtUtils::Command::MM" "-MTest::Harness" "-e" "undef *Test::Harness::Switches; test_harness(0, 'blib/lib', 'blib/arch')" t/*.t
Name "DB::single" used only once: possible typo at t/basic.t line 32.
# search for const(PV 'lead') in &foo::baz
# B::SPECIAL=SCALAR(0xb45120)
# changed 'lead' into 'gold'
# search for const(PV 'bad') in ANON &CODE(0xf98a40)
# changed 'bad' into 'good'
t/const.t ......... ok
# found first add
# search for const(IV 30) after the add
# found const(IV 30)
# changed add - const(IV 30) into 13
# find_cv &foo::baz->START
t/basic.t ......... ok
t/find_cv.t ....... ok
t/new_cv.t ........ ok
t/cpan70398.t ..... ok
t/cpan70396.t ..... ok
t/op_list_bgen.t .. ok
t/op_list.t ....... ok
t/scope.t ......... ok
t/svclasses.t ..... ok
All tests successful.
Files=10, Tests=54, 6 wallclock secs ( 0.37 usr 0.14 sys + 8.60 cusr 3.67 csys = 12.78 CPU)
Result: PASS
------------------------------
PREREQUISITES
------------------------------
Prerequisite modules loaded:
requires:
Module Need Have
------------------- ---- --------
B 0 1.48
ExtUtils::CBuilder 0 0.280216
ExtUtils::Embed 0 1.32
build_requires:
Module Need Have
------------------- ---- --------
ExtUtils::MakeMaker 0 7.30
configure_requires:
Module Need Have
------------------- ---- --------
ExtUtils::MakeMaker 0 7.30
------------------------------
ENVIRONMENT AND OTHER CONTEXT
------------------------------
Environment variables:
AUTOMATED_TESTING = 1
HARNESS_OPTIONS = j4
LANG = en_GB.UTF-8
PATH = /home/njh/perl5/perlbrew/bin:/home/njh/perl5/perlbrew/perls/perl-5.20.0/bin:src/njh/smoker/bin:/usr/bin:/bin
PERL5LIB = /home/njh/.cpan/build/Clone-Any-1.01-0/blib/arch:/home/njh/.cpan/build/Clone-Any-1.01-0/blib/lib:/home/njh/.cpan/build/Devel-UseAnyFunc-1-0/blib/arch:/home/njh/.cpan/build/Devel-UseAnyFunc-1-0/blib/lib:/home/njh/.cpan/build/Carp-Always-0.13-0/blib/arch:/home/njh/.cpan/build/Carp-Always-0.13-0/blib/lib:/home/njh/.cpan/build/Business-ISBN-3.004-0/blib/arch:/home/njh/.cpan/build/Business-ISBN-3.004-0/blib/lib:/home/njh/.cpan/build/Business-ISBN-Data-20140910.003-0/blib/arch:/home/njh/.cpan/build/Business-ISBN-Data-20140910.003-0/blib/lib:/home/njh/.cpan/build/Bit-Vector-7.4-0/blib/arch:/home/njh/.cpan/build/Bit-Vector-7.4-0/blib/lib:/home/njh/.cpan/build/Benchmark-Forking-1.01-0/blib/arch:/home/njh/.cpan/build/Benchmark-Forking-1.01-0/blib/lib
PERL5OPT =
PERL5_CPANPLUS_IS_RUNNING = 4043
PERL5_CPAN_IS_RUNNING = 4043
PERLBREW_BASHRC_VERSION = 0.80
PERLBREW_HOME = /home/njh/.perlbrew
PERLBREW_MANPATH = /home/njh/perl5/perlbrew/perls/perl-5.20.0/man
PERLBREW_PATH = /home/njh/perl5/perlbrew/bin:/home/njh/perl5/perlbrew/perls/perl-5.20.0/bin
PERLBREW_PERL = perl-5.20.0
PERLBREW_ROOT = /home/njh/perl5/perlbrew
PERLBREW_VERSION = 0.80
SHELL = /bin/sh
TMPDIR = /tmp/testwrapper.4033
Perl special variables (and OS-specific diagnostics, for MSWin32):
$^X = /mnt/nas/home/pi2/njh/perl5/perlbrew/perls/perl-5.20.0/bin/perl
$UID/$EUID = 1000 / 1000
$GID = 1000 4 20 24 25 27 29 30 44 46 60 100 101 108 997 998 999 1000
$EGID = 1000 4 20 24 25 27 29 30 44 46 60 100 101 108 997 998 999 1000
Perl module toolchain versions installed:
Module Have
------------------- --------
CPAN 2.16
CPAN::Meta 2.150005
Cwd 3.47
ExtUtils::CBuilder 0.280216
ExtUtils::Command 7.30
ExtUtils::Install 2.06
ExtUtils::MakeMaker 7.30
ExtUtils::Manifest 1.70
ExtUtils::ParseXS 3.24
File::Spec 3.47
JSON 2.90
JSON::PP 2.27400
Module::Build 0.4206
Module::Signature 0.73
Parse::CPAN::Meta 1.4422
Test::Harness 3.36
Test::More 1.302136
YAML 1.24
YAML::Syck 1.30
version 0.9908
--
Summary of my perl5 (revision 5 version 20 subversion 0) configuration:
Platform:
osname=linux, osvers=3.10.34+, archname=armv6l-linux-thread-multi
uname='linux pi 3.10.34+ #661 preempt thu mar 27 00:36:02 gmt 2014 armv6l gnulinux '
config_args='-de -Dprefix=/home/njh/perl5/perlbrew/perls/perl-5.20.0 -Duseithreads -Dusemultiplicity -Accflags=-O2 -W -Wformat=2 -Wswitch -Wshadow -Wwrite-strings -Wuninitialized -Wall -pipe -fomit-frame-pointer -pedantic -D_FORTIFY_SOURCE=2 -Wpointer-arith -Wstrict-prototypes -fstack-protector -Wstack-protector -Wextra -Wbad-function-cast -Wcast-align -Wcast-qual -Wdisabled-optimization -Wendif-labels -Wfloat-equal -Wformat-nonliteral -Winline -Wmissing-declarations -Wmissing-prototypes -Wnested-externs -Wpointer-arith -Wundef -Wformat-security -march=armv6 -mfpu=vfp -mfloat-abi=hard -Aeval:scriptdir=/home/njh/perl5/perlbrew/perls/perl-5.20.0/bin'
hint=recommended, useposix=true, d_sigaction=define
useithreads=define, usemultiplicity=define
use64bitint=undef, use64bitall=undef, uselongdouble=undef
usemymalloc=n, bincompat5005=undef
Compiler:
cc='cc', ccflags ='-D_REENTRANT -D_GNU_SOURCE -O2 -W -Wformat=2 -Wswitch -Wshadow -Wwrite-strings -Wuninitialized -Wall -pipe -fomit-frame-pointer -pedantic -D_FORTIFY_SOURCE=2 -Wpointer-arith -Wstrict-prototypes -fstack-protector -Wstack-protector -Wextra -Wbad-function-cast -Wcast-align -Wcast-qual -Wdisabled-optimization -Wendif-labels -Wfloat-equal -Wformat-nonliteral -Winline -Wmissing-declarations -Wmissing-prototypes -Wnested-externs -Wpointer-arith -Wundef -Wformat-security -march=armv6 -mfpu=vfp -mfloat-abi=hard -fwrapv -fno-strict-aliasing -I/usr/local/include -D_LARGEFILE_SOURCE -D_FILE_OFFSET_BITS=64',
optimize='-O2',
cppflags='-D_REENTRANT -D_GNU_SOURCE -O2 -W -Wformat=2 -Wswitch -Wshadow -Wwrite-strings -Wuninitialized -Wall -pipe -fomit-frame-pointer -pedantic -D_FORTIFY_SOURCE=2 -Wpointer-arith -Wstrict-prototypes -fstack-protector -Wstack-protector -Wextra -Wbad-function-cast -Wcast-align -Wcast-qual -Wdisabled-optimization -Wendif-labels -Wfloat-equal -Wformat-nonliteral -Winline -Wmissing-declarations -Wmissing-prototypes -Wnested-externs -Wpointer-arith -Wundef -Wformat-security -march=armv6 -mfpu=vfp -mfloat-abi=hard -fwrapv -fno-strict-aliasing -I/usr/local/include'
ccversion='', gccversion='4.6.3', gccosandvers=''
intsize=4, longsize=4, ptrsize=4, doublesize=8, byteorder=1234
d_longlong=define, longlongsize=8, d_longdbl=define, longdblsize=8
ivtype='long', ivsize=4, nvtype='double', nvsize=8, Off_t='off_t', lseeksize=8
alignbytes=8, prototype=define
Linker and Libraries:
ld='cc', ldflags =' -fstack-protector -L/usr/local/lib'
libpth=/usr/local/lib /usr/lib/gcc/arm-linux-gnueabihf/4.6/include-fixed /usr/include/arm-linux-gnueabihf /usr/lib /lib/arm-linux-gnueabihf /lib /usr/lib/arm-linux-gnueabihf
libs=-lnsl -lgdbm -ldb -ldl -lm -lcrypt -lutil -lpthread -lc -lgdbm_compat
perllibs=-lnsl -ldl -lm -lcrypt -lutil -lpthread -lc
libc=, so=so, useshrplib=false, libperl=libperl.a
gnulibc_version='2.13'
Dynamic Linking:
dlsrc=dl_dlopen.xs, dlext=so, d_dlsymun=undef, ccdlflags='-Wl,-E'
cccdlflags='-fPIC', lddlflags='-shared -O2 -L/usr/local/lib -fstack-protector'
Characteristics of this binary (from libperl):
Compile-time options: HAS_TIMES MULTIPLICITY PERLIO_LAYERS
PERL_DONT_CREATE_GVSV
PERL_HASH_FUNC_ONE_AT_A_TIME_HARD
PERL_IMPLICIT_CONTEXT PERL_MALLOC_WRAP
PERL_NEW_COPY_ON_WRITE PERL_PRESERVE_IVUV
USE_ITHREADS USE_LARGE_FILES USE_LOCALE
USE_LOCALE_COLLATE USE_LOCALE_CTYPE
USE_LOCALE_NUMERIC USE_PERLIO USE_PERL_ATOF
USE_REENTRANT_API
Built under linux
Compiled at May 28 2014 09:12:18
%ENV:
PERL5LIB="/home/njh/.cpan/build/Clone-Any-1.01-0/blib/arch:/home/njh/.cpan/build/Clone-Any-1.01-0/blib/lib:/home/njh/.cpan/build/Devel-UseAnyFunc-1-0/blib/arch:/home/njh/.cpan/build/Devel-UseAnyFunc-1-0/blib/lib:/home/njh/.cpan/build/Carp-Always-0.13-0/blib/arch:/home/njh/.cpan/build/Carp-Always-0.13-0/blib/lib:/home/njh/.cpan/build/Business-ISBN-3.004-0/blib/arch:/home/njh/.cpan/build/Business-ISBN-3.004-0/blib/lib:/home/njh/.cpan/build/Business-ISBN-Data-20140910.003-0/blib/arch:/home/njh/.cpan/build/Business-ISBN-Data-20140910.003-0/blib/lib:/home/njh/.cpan/build/Bit-Vector-7.4-0/blib/arch:/home/njh/.cpan/build/Bit-Vector-7.4-0/blib/lib:/home/njh/.cpan/build/Benchmark-Forking-1.01-0/blib/arch:/home/njh/.cpan/build/Benchmark-Forking-1.01-0/blib/lib"
PERL5OPT=""
PERL5_CPANPLUS_IS_RUNNING="4043"
PERL5_CPAN_IS_RUNNING="4043"
PERLBREW_BASHRC_VERSION="0.80"
PERLBREW_HOME="/home/njh/.perlbrew"
PERLBREW_MANPATH="/home/njh/perl5/perlbrew/perls/perl-5.20.0/man"
PERLBREW_PATH="/home/njh/perl5/perlbrew/bin:/home/njh/perl5/perlbrew/perls/perl-5.20.0/bin"
PERLBREW_PERL="perl-5.20.0"
PERLBREW_ROOT="/home/njh/perl5/perlbrew"
PERLBREW_VERSION="0.80"
@INC:
/home/njh/.cpan/build/Clone-Any-1.01-0/blib/arch
/home/njh/.cpan/build/Clone-Any-1.01-0/blib/lib
/home/njh/.cpan/build/Devel-UseAnyFunc-1-0/blib/arch
/home/njh/.cpan/build/Devel-UseAnyFunc-1-0/blib/lib
/home/njh/.cpan/build/Carp-Always-0.13-0/blib/arch
/home/njh/.cpan/build/Carp-Always-0.13-0/blib/lib
/home/njh/.cpan/build/Business-ISBN-3.004-0/blib/arch
/home/njh/.cpan/build/Business-ISBN-3.004-0/blib/lib
/home/njh/.cpan/build/Business-ISBN-Data-20140910.003-0/blib/arch
/home/njh/.cpan/build/Business-ISBN-Data-20140910.003-0/blib/lib
/home/njh/.cpan/build/Bit-Vector-7.4-0/blib/arch
/home/njh/.cpan/build/Bit-Vector-7.4-0/blib/lib
/home/njh/.cpan/build/Benchmark-Forking-1.01-0/blib/arch
/home/njh/.cpan/build/Benchmark-Forking-1.01-0/blib/lib
/home/njh/perl5/perlbrew/perls/perl-5.20.0/lib/site_perl/5.20.0/armv6l-linux-thread-multi
/home/njh/perl5/perlbrew/perls/perl-5.20.0/lib/site_perl/5.20.0
/home/njh/perl5/perlbrew/perls/perl-5.20.0/lib/5.20.0/armv6l-linux-thread-multi
/home/njh/perl5/perlbrew/perls/perl-5.20.0/lib/5.20.0
.