Assert-Refute v0.1301 Perl 5 v5.24.4 x86_64-linux

Status
Pass
From
Nigel Horne
Dist
Assert-Refute v0.1301
Platform
Perl 5 v5.24.4 x86_64-linux
Date
2018-08-24 18:58:26
ID
ae601ebc-a7cf-11e8-ac4b-91e1574f9e0a
This distribution has been tested as part of the CPAN Testers
project, supporting the Perl programming language.  See
http://wiki.cpantesters.org/ for more information or email
questions to cpan-testers-discuss@perl.org


--
Dear Konstantin S. Uvarin,

This is a computer-generated report for Assert-Refute-0.1301
on perl 5.24.4, created by CPAN-Reporter-1.2018.

Thank you for uploading your work to CPAN.  Congratulations!
All tests were successful.

Sections of this report:

    * Tester comments
    * Program output
    * Prerequisites
    * Environment and other context

------------------------------
TESTER COMMENTS
------------------------------

Additional comments from tester:

this report is from an automated smoke testing program
and was not reviewed by a human for accuracy

------------------------------
PROGRAM OUTPUT
------------------------------

Output from '/usr/bin/make test':

PERL_DL_NONLAZY=1 "/home/njh/perl5/perlbrew/perls/perl-5.24.4/bin/perl" "-MExtUtils::Command::MM" "-MTest::Harness" "-e" "undef *Test::Harness::Switches; test_harness(0, 'blib/lib', 'blib/arch')" t/*.t
# Testing Assert::Refute 0.1301, Perl 5.024004, /home/njh/perl5/perlbrew/perls/perl-5.24.4/bin/perl
t/000-load.t .............................. ok
t/001-contract-signature.t ................ ok
t/002-try_refute.t ........................ ok
t/101-Report-refute.t ..................... ok
t/102-Contract-apply.t .................... ok
t/103-Report-signature.t .................. ok
t/105-Report-readonly.t ................... ok
t/106-Build-to_scalar.t ................... ok
t/109-Report-do_run.t ..................... ok
t/110-Build-build_refute.t ................ ok
t/107-Basic-deep_diff.t ................... ok
t/111-Contract-adjust.t ................... ok
t/112-Report-refute-multiline.t ........... ok
t/113-Report-plan-tests.t ................. ok
t/114-Report-get_result_details-vs-tap.t .. ok
t/115-T-Tester.t .......................... ok
t/201-current_contract.t .................. ok
t/202-Build-build_refute.t ................ ok
t/203-T-Basic-smoke.t ..................... ok
t/204-T-Basic-all.t ....................... ok
t/205-inspect.t ........................... ok
t/206-signature.t ......................... ok
t/207-subcontract.t ....................... ok
t/208-T-Basic-contract-is.t ............... ok
t/210-T-Basic-cmp_ok.t .................... ok
t/211-Basic-use_ok.t ...................... ok
t/212-get_tap-exact.t ..................... ok
t/213-Report-get_result_details.t ......... ok
t/215-optimize-out.t ...................... ok
t/214-plan-tests.t ........................ ok
t/301-dies_like.t ......................... ok
t/302-warns_like.t ........................ ok
t/303-refute_these.t ...................... ok
t/304-carp_refute-config.t ................ ok
t/306-T-Array-array_of.t .................. ok
t/307-T-Array-is_sorted.t ................. ok
t/308-T-Hash-keys_are.t ................... ok
t/309-T-Hash-values_are.t ................. ok
t/310-numeric.t ........................... ok
t/311-T-Array-map-reduce.t ................ ok
t/312-T-Scalar-maybe_is.t ................. ok
t/402-Build-name-clash.t .................. ok
t/401-minargs.t ........................... ok
t/403-T-Hash-values_are-bad.t ............. ok
t/404-configure.t ......................... ok
t/502-refute_these-config-0.13.t .......... ok
t/503-refute_these-v.0.15.t ............... ok
t/504-Report-set_result-v.0.15.t .......... ok
t/604-Driver-More.t ....................... ok
t/603-Driver-More-popen.t ................. ok
All tests successful.
Files=50, Tests=270,  1 wallclock secs ( 0.14 usr  0.05 sys +  3.12 cusr  0.35 csys =  3.66 CPU)
Result: PASS

------------------------------
PREREQUISITES
------------------------------

Prerequisite modules loaded:

requires:

    Module              Need     Have    
    ------------------- -------- --------
    Data::Dumper        2        2.161   
    parent              0        0.236   
    perl                5.006002 5.024004
    Scalar::Util        1.14     1.50    

build_requires:

    Module              Need     Have    
    ------------------- -------- --------
    Test::More          0.98     1.302136

configure_requires:

    Module              Need     Have    
    ------------------- -------- --------
    ExtUtils::MakeMaker 0        7.34    


------------------------------
ENVIRONMENT AND OTHER CONTEXT
------------------------------

Environment variables:

    AUTOMATED_TESTING = 1
    HARNESS_OPTIONS = j4
    LANG = en_GB.UTF-8
    LANGUAGE = en_GB:en
    PATH = /home/njh/perl5/perlbrew/bin:/home/njh/perl5/perlbrew/perls/perl-5.24.4/bin:/home/njh/src/njh/smoker/bin:/usr/bin:/bin
    PERL5LIB = 
    PERL5OPT = 
    PERL5_CPANPLUS_IS_RUNNING = 26261
    PERL5_CPAN_IS_RUNNING = 26261
    PERLBREW_HOME = /home/njh/.perlbrew
    PERLBREW_MANPATH = /home/njh/perl5/perlbrew/perls/perl-5.24.4/man
    PERLBREW_PATH = /home/njh/perl5/perlbrew/bin:/home/njh/perl5/perlbrew/perls/perl-5.24.4/bin
    PERLBREW_PERL = perl-5.24.4
    PERLBREW_ROOT = /home/njh/perl5/perlbrew
    PERLBREW_SHELLRC_VERSION = 0.82
    PERLBREW_VERSION = 0.82
    SHELL = /bin/sh
    TEMP = /tmp/user/1000
    TMPDIR = /tmp/user/1000/testwrapper.26247

Perl special variables (and OS-specific diagnostics, for MSWin32):

    $^X = /home/njh/perl5/perlbrew/perls/perl-5.24.4/bin/perl
    $UID/$EUID = 1000 / 1000
    $GID = 1000 4 24 25 29 30 44 46 108 112 1000
    $EGID = 1000 4 24 25 29 30 44 46 108 112 1000

Perl module toolchain versions installed:

    Module              Have    
    ------------------- --------
    CPAN                2.16    
    CPAN::Meta          2.150010
    Cwd                 3.74    
    ExtUtils::CBuilder  0.280230
    ExtUtils::Command   7.34    
    ExtUtils::Install   2.14    
    ExtUtils::MakeMaker 7.34    
    ExtUtils::Manifest  1.71    
    ExtUtils::ParseXS   3.35    
    File::Spec          3.74    
    JSON                2.97001 
    JSON::PP            2.97001 
    Module::Build       0.4224  
    Module::Signature   n/a     
    Parse::CPAN::Meta   2.150010
    Test::Harness       3.42    
    Test::More          1.302136
    YAML                1.26    
    YAML::Syck          1.30    
    version             0.9924  


--

Summary of my perl5 (revision 5 version 24 subversion 4) configuration:
   
  Platform:
    osname=linux, osvers=4.14.0-3-amd64, archname=x86_64-linux
    uname='linux gateway 4.14.0-3-amd64 #1 smp debian 4.14.17-1 (2018-02-14) x86_64 gnulinux '
    config_args='-de -Dprefix=/home/njh/perl5/perlbrew/perls/perl-5.24.4 -Aeval:scriptdir=/home/njh/perl5/perlbrew/perls/perl-5.24.4/bin'
    hint=recommended, useposix=true, d_sigaction=define
    useithreads=undef, usemultiplicity=undef
    use64bitint=define, use64bitall=define, uselongdouble=undef
    usemymalloc=n, bincompat5005=undef
  Compiler:
    cc='cc', ccflags ='-fwrapv -fno-strict-aliasing -pipe -fstack-protector-strong -I/usr/local/include -D_LARGEFILE_SOURCE -D_FILE_OFFSET_BITS=64 -D_FORTIFY_SOURCE=2',
    optimize='-O2',
    cppflags='-fwrapv -fno-strict-aliasing -pipe -fstack-protector-strong -I/usr/local/include'
    ccversion='', gccversion='7.3.0', gccosandvers=''
    intsize=4, longsize=8, ptrsize=8, doublesize=8, byteorder=12345678, doublekind=3
    d_longlong=define, longlongsize=8, d_longdbl=define, longdblsize=16, longdblkind=3
    ivtype='long', ivsize=8, nvtype='double', nvsize=8, Off_t='off_t', lseeksize=8
    alignbytes=8, prototype=define
  Linker and Libraries:
    ld='cc', ldflags =' -fstack-protector-strong -L/usr/local/lib'
    libpth=/usr/local/lib /usr/lib/gcc/x86_64-linux-gnu/7/include-fixed /usr/include/x86_64-linux-gnu /usr/lib /lib/x86_64-linux-gnu /lib/../lib /usr/lib/x86_64-linux-gnu /usr/lib/../lib /lib
    libs=-lpthread -lnsl -lgdbm -ldb -ldl -lm -lcrypt -lutil -lc
    perllibs=-lpthread -lnsl -ldl -lm -lcrypt -lutil -lc
    libc=libc-2.27.so, so=so, useshrplib=false, libperl=libperl.a
    gnulibc_version='2.27'
  Dynamic Linking:
    dlsrc=dl_dlopen.xs, dlext=so, d_dlsymun=undef, ccdlflags='-Wl,-E'
    cccdlflags='-fPIC', lddlflags='-shared -O2 -L/usr/local/lib -fstack-protector-strong'


Characteristics of this binary (from libperl): 
  Compile-time options: HAS_TIMES PERLIO_LAYERS PERL_COPY_ON_WRITE
                        PERL_DONT_CREATE_GVSV
                        PERL_HASH_FUNC_ONE_AT_A_TIME_HARD PERL_MALLOC_WRAP
                        PERL_PRESERVE_IVUV USE_64_BIT_ALL USE_64_BIT_INT
                        USE_LARGE_FILES USE_LOCALE USE_LOCALE_COLLATE
                        USE_LOCALE_CTYPE USE_LOCALE_NUMERIC USE_LOCALE_TIME
                        USE_PERLIO USE_PERL_ATOF
  Locally applied patches:
	Devel::PatchPerl 1.48
  Built under linux
  Compiled at May  2 2018 00:45:31
  %ENV:
    PERL5LIB=""
    PERL5OPT=""
    PERL5_CPANPLUS_IS_RUNNING="26261"
    PERL5_CPAN_IS_RUNNING="26261"
    PERLBREW_HOME="/home/njh/.perlbrew"
    PERLBREW_MANPATH="/home/njh/perl5/perlbrew/perls/perl-5.24.4/man"
    PERLBREW_PATH="/home/njh/perl5/perlbrew/bin:/home/njh/perl5/perlbrew/perls/perl-5.24.4/bin"
    PERLBREW_PERL="perl-5.24.4"
    PERLBREW_ROOT="/home/njh/perl5/perlbrew"
    PERLBREW_SHELLRC_VERSION="0.82"
    PERLBREW_VERSION="0.82"
  @INC:
    /home/njh/perl5/perlbrew/perls/perl-5.24.4/lib/site_perl/5.24.4/x86_64-linux
    /home/njh/perl5/perlbrew/perls/perl-5.24.4/lib/site_perl/5.24.4
    /home/njh/perl5/perlbrew/perls/perl-5.24.4/lib/5.24.4/x86_64-linux
    /home/njh/perl5/perlbrew/perls/perl-5.24.4/lib/5.24.4
    .