Report for Soar-WM-0.04

Back
From: metabase:user:320bfe00-2aae-11df-837a-5e0a49663a4f
Subject: PASS Soar-WM-0.04 v5.18.0 GNU/Linux
Date: 2017-05-02T06:43:42Z

This distribution has been tested as part of the CPAN Testers
project, supporting the Perl programming language.  See
http://wiki.cpantesters.org/ for more information or email
questions to cpan-testers-discuss@perl.org


--
Dear Nathan Gary Glenn,

This is a computer-generated report for Soar-WM-0.04
on perl 5.18.0, created by CPAN-Reporter-1.2018.

Thank you for uploading your work to CPAN.  Congratulations!
All tests were successful.

Sections of this report:

    * Tester comments
    * Program output
    * Prerequisites
    * Environment and other context

------------------------------
TESTER COMMENTS
------------------------------

Additional comments from tester:

this report is from an automated smoke testing program
and was not reviewed by a human for accuracy

------------------------------
PROGRAM OUTPUT
------------------------------

Output from '/usr/bin/make test':

PERL_DL_NONLAZY=1 "/home/sand/src/perl/repoperls/installed-perls/host/k93msid/v5.18.0/2d7c/bin/perl" "-MExtUtils::Command::MM" "-MTest::Harness" "-e" "undef *Test::Harness::Switches; test_harness(0, 'blib/lib', 'blib/arch')" t/*.t
t/00-compile.t ................ ok
# 
# 
# Generated by Dist::Zilla::Plugin::ReportVersions::Tiny v1.08
# perl: 5.018000 (wanted 5.010) on linux from /home/sand/src/perl/repoperls/installed-perls/host/k93msid/v5.18.0/2d7c/bin/perl
# 
# Carp                                          => 1.38       (want any version)
# Data::Dumper                                  => 2.161      (want any version)
# Data::Section::Simple                         => 0.07       (want any version)
# Exporter                                      => 5.72       (want any version)
# File::Find                                    => 1.23       (want any version)
# File::Spec                                    => 3.62       (want any version)
# File::Temp                                    => 0.2304     (want any version)
# FindBin                                       => 1.51       (want any version)
# Module::Build                                 => 0.4222     (want 0.3601) 
# Pod::Coverage::TrustPod                       => 0.100003   (want any version)
# Test::CPAN::Meta                              => 0.25       (want any version)
# Test::Deep                                    => 1.126001   (want any version)
# Test::More                                    => 1.302084   (want 0.88)   
# Test::NoWarnings                              => 1.04       (want any version)
# Test::Pod                                     => 1.51       (want 1.41)   
# Test::Pod::Coverage                           => 1.10       (want 1.08)   
# Test::Warn                                    => 0.32       (want any version)
# autodie                                       => 2.29       (want any version)
# base                                          => 2.18       (want any version)
# strict                                        => 1.07       (want any version)
# version                                       => 0.9917     (want 0.9901) 
# warnings                                      => 1.18       (want any version)
# 
# Thanks for using my code.  I hope it works for you.
# If not, please try and include this output in the bug report.
# That will help me reproduce the issue and solve your problem.
# 
t/000-report-versions-tiny.t .. ok
t/01-slurp.t .................. ok
t/02-wm.t ..................... ok
t/03-traversal.t .............. ok
t/04-errors.t ................. ok
All tests successful.
Files=6, Tests=34,  2 wallclock secs ( 0.01 usr  0.05 sys +  0.52 cusr  0.09 csys =  0.67 CPU)
Result: PASS

------------------------------
PREREQUISITES
------------------------------

Prerequisite modules loaded:

requires:

    Module                Need   Have     
    --------------------- ------ ---------
    autodie               0      2.29     
    base                  0      2.18     
    Carp                  0      1.38     
    Exporter              0      5.72     
    strict                0      1.07     
    warnings              0      1.18     

build_requires:

    Module                Need   Have     
    --------------------- ------ ---------
    Data::Dumper          0      2.161    
    Data::Section::Simple 0      0.07     
    File::Find            0      1.23     
    File::Spec            0      3.62     
    File::Temp            0      0.2304   
    FindBin               0      1.51     
    Module::Build         0.3601 0.4222   
    Test::Deep            0      1.126_001
    Test::More            0.88   1.302084 
    Test::NoWarnings      0      1.04     
    Test::Warn            0      0.32     

configure_requires:

    Module                Need   Have     
    --------------------- ------ ---------
    Module::Build         0.3601 0.4222   


------------------------------
ENVIRONMENT AND OTHER CONTEXT
------------------------------

Environment variables:

    AUTOMATED_TESTING = 1
    LANG = en_US.UTF-8
    PATH = /home/sand/bin:/usr/local/bin:/usr/bin:/bin:/usr/games:/usr/local/perl/bin:/usr/X11/bin:/sbin:/usr/sbin
    PERL5LIB = 
    PERL5OPT = 
    PERL5_CPANPLUS_IS_RUNNING = 17498
    PERL5_CPAN_IS_RUNNING = 17498
    PERL_CANARY_STABILITY_NOPROMPT = 1
    PERL_MM_USE_DEFAULT = 1
    PERL_USE_UNSAFE_INC = 1
    SHELL = /usr/bin/zsh
    TERM = screen

Perl special variables (and OS-specific diagnostics, for MSWin32):

    $^X = /home/sand/src/perl/repoperls/installed-perls/host/k93msid/v5.18.0/2d7c/bin/perl
    $UID/$EUID = 1005 / 1005
    $GID = 1005 1005
    $EGID = 1005 1005

Perl module toolchain versions installed:

    Module              Have    
    ------------------- --------
    CPAN                2.18    
    CPAN::Meta          2.150010
    Cwd                 3.62    
    ExtUtils::CBuilder  0.280224
    ExtUtils::Command   7.24    
    ExtUtils::Install   1.59    
    ExtUtils::MakeMaker 7.24    
    ExtUtils::Manifest  1.70    
    ExtUtils::ParseXS   3.30    
    File::Spec          3.62    
    JSON                2.90    
    JSON::PP            2.27400 
    Module::Build       0.4222  
    Module::Signature   0.81    
    Parse::CPAN::Meta   2.150010
    Test::Harness       3.39    
    Test::More          1.302084
    YAML                1.23    
    YAML::Syck          1.30_01 
    version             0.9917  


--

Summary of my perl5 (revision 5 version 18 subversion 0) configuration:
  Derived from: a9acda3b5f74585852a57b51b724804ac586cb0b
  Platform:
    osname=linux, osvers=4.9.0-2-amd64, archname=x86_64-linux-ld
    uname='linux k93msid 4.9.0-2-amd64 #1 smp debian 4.9.18-1 (2017-03-30) x86_64 gnulinux '
    config_args='-Dprefix=/home/sand/src/perl/repoperls/installed-perls/host/k93msid/v5.18.0/2d7c -Dmyhostname=k93msid -Dinstallusrbinperl=n -Uversiononly -Dusedevel -des -Ui_db -Dlibswanted=cl pthread socket inet nsl gdbm dbm malloc dl ld sun m crypt sec util c cposix posix ucb BSD gdbm_compat -Uuseithreads -Duselongdouble -DDEBUGGING=-g'
    hint=recommended, useposix=true, d_sigaction=define
    useithreads=undef, usemultiplicity=undef
    useperlio=define, d_sfio=undef, uselargefiles=define, usesocks=undef
    use64bitint=define, use64bitall=define, uselongdouble=define
    usemymalloc=n, bincompat5005=undef
  Compiler:
    cc='cc', ccflags ='-fno-strict-aliasing -pipe -fstack-protector -I/usr/local/include -D_LARGEFILE_SOURCE -D_FILE_OFFSET_BITS=64',
    optimize='-O2 -g',
    cppflags='-fno-strict-aliasing -pipe -fstack-protector -I/usr/local/include'
    ccversion='', gccversion='6.3.0 20170406', gccosandvers=''
    intsize=4, longsize=8, ptrsize=8, doublesize=8, byteorder=12345678
    d_longlong=define, longlongsize=8, d_longdbl=define, longdblsize=16
    ivtype='long', ivsize=8, nvtype='long double', nvsize=16, Off_t='off_t', lseeksize=8
    alignbytes=16, prototype=define
  Linker and Libraries:
    ld='cc', ldflags =' -fstack-protector -L/usr/local/lib'
    libpth=/usr/local/lib /lib/x86_64-linux-gnu /lib/../lib /usr/lib/x86_64-linux-gnu /usr/lib/../lib /lib /usr/lib
    libs=-lpthread -lnsl -ldl -lm -lcrypt -lutil -lc
    perllibs=-lpthread -lnsl -ldl -lm -lcrypt -lutil -lc
    libc=libc-2.24.so, so=so, useshrplib=false, libperl=libperl.a
    gnulibc_version='2.24'
  Dynamic Linking:
    dlsrc=dl_dlopen.xs, dlext=so, d_dlsymun=undef, ccdlflags='-Wl,-E'
    cccdlflags='-fPIC', lddlflags='-shared -O2 -g -L/usr/local/lib -fstack-protector'


Characteristics of this binary (from libperl): 
  Compile-time options: HAS_TIMES PERLIO_LAYERS PERL_DONT_CREATE_GVSV
                        PERL_HASH_FUNC_ONE_AT_A_TIME_HARD PERL_MALLOC_WRAP
                        PERL_PRESERVE_IVUV PERL_SAWAMPERSAND PERL_USE_DEVEL
                        USE_64_BIT_ALL USE_64_BIT_INT USE_LARGE_FILES
                        USE_LOCALE USE_LOCALE_COLLATE USE_LOCALE_CTYPE
                        USE_LOCALE_NUMERIC USE_LONG_DOUBLE USE_PERLIO
                        USE_PERL_ATOF
  Locally applied patches:
	uncommitted-changes
  Built under linux
  Compiled at Apr 17 2017 07:11:49
  %ENV:
    PERL5LIB=""
    PERL5OPT=""
    PERL5_CPANPLUS_IS_RUNNING="17498"
    PERL5_CPAN_IS_RUNNING="17498"
    PERL_CANARY_STABILITY_NOPROMPT="1"
    PERL_MM_USE_DEFAULT="1"
    PERL_USE_UNSAFE_INC="1"
  @INC:
    /home/sand/src/perl/repoperls/installed-perls/host/k93msid/v5.18.0/2d7c/lib/site_perl/5.18.0/x86_64-linux-ld
    /home/sand/src/perl/repoperls/installed-perls/host/k93msid/v5.18.0/2d7c/lib/site_perl/5.18.0
    /home/sand/src/perl/repoperls/installed-perls/host/k93msid/v5.18.0/2d7c/lib/5.18.0/x86_64-linux-ld
    /home/sand/src/perl/repoperls/installed-perls/host/k93msid/v5.18.0/2d7c/lib/5.18.0
    .