Report for Mail-Transport-Dbx-0.07

Back
From: metabase:user:20b5d20a-b56b-11df-b6fe-a673812b71ce
Subject: PASS Mail-Transport-Dbx-0.07 v5.12.2 GNU/Linux
Date: 2010-10-30T15:45:12Z

This distribution has been tested as part of the CPAN Testers
project, supporting the Perl programming language.  See
http://wiki.cpantesters.org/ for more information or email
questions to cpan-testers-discuss@perl.org


--
Dear Tassilo von Parseval,

This is a computer-generated report for Mail-Transport-Dbx-0.07
on perl 5.12.2, created by CPAN-Reporter-1.1803.

Thank you for uploading your work to CPAN.  Congratulations!
All tests were successful.

Sections of this report:

    * Tester comments
    * Program output
    * Prerequisites
    * Environment and other context

------------------------------
TESTER COMMENTS
------------------------------

Additional comments from tester:

none provided

------------------------------
PROGRAM OUTPUT
------------------------------

Output from '/usr/bin/make test':

make[1]: Entering directory `/root/.cpan/build/Mail-Transport-Dbx-0.07-_wLVAr/libdbx'
make[1]: Nothing to be done for `all'.
make[1]: Leaving directory `/root/.cpan/build/Mail-Transport-Dbx-0.07-_wLVAr/libdbx'
PERL_DL_NONLAZY=1 /usr/bin/perl5.12.2 "-MExtUtils::Command::MM" "-e" "test_harness(0, 'blib/lib', 'blib/arch')" t/*.t
t/0_pod.t ........... ok
t/0_pod_coverage.t .. ok
t/1.t ............... ok
t/2.t ............... ok
t/3.t ............... ok
t/fixed.t ........... ok
All tests successful.
Files=6, Tests=60,  0 wallclock secs ( 0.04 usr  0.01 sys +  0.20 cusr  0.02 csys =  0.27 CPU)
Result: PASS
make[1]: Entering directory `/root/.cpan/build/Mail-Transport-Dbx-0.07-_wLVAr/libdbx'
No tests defined for Mail::Transport::Dbx::libdbx extension.
make[1]: Leaving directory `/root/.cpan/build/Mail-Transport-Dbx-0.07-_wLVAr/libdbx'

------------------------------
PREREQUISITES
------------------------------

Prerequisite modules loaded:

    No requirements found

------------------------------
ENVIRONMENT AND OTHER CONTEXT
------------------------------

Environment variables:

    PATH = /usr/local/sbin:/usr/local/bin:/usr/sbin:/usr/bin:/sbin:/bin:/opt/bin:/usr/x86_64-pc-linux-gnu/gcc-bin/4.3.4
    PERL5LIB = 
    PERL5OPT = 
    PERL5_CPANPLUS_IS_RUNNING = 2724
    PERL5_CPAN_IS_RUNNING = 2724
    SHELL = /bin/bash
    TERM = screen

Perl special variables (and OS-specific diagnostics, for MSWin32):

    $^X = /usr/bin/perl5.12.2
    $UID/$EUID = 0 / 0
    $GID = 0 0 1 2 3 4 6 10 11 20 26 27
    $EGID = 0 0 1 2 3 4 6 10 11 20 26 27

Perl module toolchain versions installed:

    Module              Have   
    ------------------- -------
    CPAN                1.94_56
    Cwd                 3.31   
    ExtUtils::CBuilder  0.2703 
    ExtUtils::Command   1.16   
    ExtUtils::Install   1.55   
    ExtUtils::MakeMaker 6.56   
    ExtUtils::Manifest  1.58   
    ExtUtils::ParseXS   2.2206 
    File::Spec          3.31   
    Module::Build       0.3607 
    Module::Signature   n/a    
    Test::Harness       3.17   
    Test::More          0.96   
    YAML                0.71   
    YAML::Syck          1.15   
    version             0.82   


--

Summary of my perl5 (revision 5 version 12 subversion 2) configuration:
   
  Platform:
    osname=linux, osvers=2.6.34-gentoo-r11, archname=x86_64-linux
    uname='linux ux11 2.6.34-gentoo-r11 #1 smp sun oct 10 12:49:13 cdt 2010 x86_64 amd athlon(tm) 64 x2 dual core processor 4800+ authenticamd gnulinux '
    config_args='-des -Duseshrplib -Darchname=x86_64-linux -Dcc=x86_64-pc-linux-gnu-gcc -Doptimize=-march=athlon64 -O2 -pipe -Dldflags=-Wl,-O1 -Wl,--as-needed -Dprefix=/usr -Dsiteprefix=/usr -Dvendorprefix=/usr -Dscriptdir=/usr/bin -Dprivlib=/usr/lib64/perl5/5.12.2 -Darchlib=/usr/lib64/perl5/5.12.2/x86_64-linux -Dsitelib=/usr/lib64/perl5/site_perl/5.12.2 -Dsitearch=/usr/lib64/perl5/site_perl/5.12.2/x86_64-linux -Dvendorlib=/usr/lib64/perl5/vendor_perl/5.12.2 -Dvendorarch=/usr/lib64/perl5/vendor_perl/5.12.2/x86_64-linux -Dman1dir=/usr/share/man/man1 -Dman3dir=/usr/share/man/man3 -Dsiteman1dir=/usr/share/man/man1 -Dsiteman3dir=/usr/share/man/man3 -Dvendorman1dir=/usr/share/man/man1 -Dvendorman3dir=/usr/share/man/man3 -Dman1ext=1 -Dman3ext=3pm -Dlibperl=libperl.so.5.12.2 -Dlocincpth=  -Duselargefiles -Dd_semctl_semun -Dcf_by=Gentoo -Dmyhostname=localhost -Dperladmin=root@localhost -Dinstallusrbinperl=n -Ud_csh -Uusenm -Di_ndbm -Di_gdbm -Di_db -DDEBUGGING=none -Dinc_version_list=5.12.1/x86_64-linux 5.12.1 5.12.0/x86_64-linux 5.12.0  -Dusrinc=/usr/include -Dlibpth=/usr/local/lib64 /lib64 /usr/lib64'
    hint=recommended, useposix=true, d_sigaction=define
    useithreads=undef, usemultiplicity=undef
    useperlio=define, d_sfio=undef, uselargefiles=define, usesocks=undef
    use64bitint=define, use64bitall=define, uselongdouble=undef
    usemymalloc=n, bincompat5005=undef
  Compiler:
    cc='x86_64-pc-linux-gnu-gcc', ccflags ='-fno-strict-aliasing -pipe -fstack-protector -D_LARGEFILE_SOURCE -D_FILE_OFFSET_BITS=64',
    optimize='-march=athlon64 -O2 -pipe',
    cppflags='-fno-strict-aliasing -pipe -fstack-protector'
    ccversion='', gccversion='4.3.4', gccosandvers=''
    intsize=4, longsize=8, ptrsize=8, doublesize=8, byteorder=12345678
    d_longlong=define, longlongsize=8, d_longdbl=define, longdblsize=16
    ivtype='long', ivsize=8, nvtype='double', nvsize=8, Off_t='off_t', lseeksize=8
    alignbytes=8, prototype=define
  Linker and Libraries:
    ld='x86_64-pc-linux-gnu-gcc', ldflags ='-Wl,-O1 -Wl,--as-needed -fstack-protector'
    libpth=/usr/local/lib64 /lib64 /usr/lib64
    libs=-lnsl -lndbm -lgdbm -ldb -ldl -lm -lcrypt -lutil -lc -lgdbm_compat
    perllibs=-lnsl -ldl -lm -lcrypt -lutil -lc
    libc=/lib/libc-2.11.2.so, so=so, useshrplib=true, libperl=libperl.so.5.12.2
    gnulibc_version='2.11.2'
  Dynamic Linking:
    dlsrc=dl_dlopen.xs, dlext=so, d_dlsymun=undef, ccdlflags='-Wl,-E'
    cccdlflags='-fPIC', lddlflags='-shared -march=athlon64 -O2 -pipe -fstack-protector -Wl,-O1 -Wl,--as-needed'


Characteristics of this binary (from libperl): 
  Compile-time options: PERL_DONT_CREATE_GVSV PERL_MALLOC_WRAP USE_64_BIT_ALL
                        USE_64_BIT_INT USE_LARGE_FILES USE_PERLIO
                        USE_PERL_ATOF
  Locally applied patches:
	0001-gentoo_MakeMaker-RUNPATH.diff
	0002-gentoo_config_over.diff
	0003-gentoo_cpan_definstalldirs.diff
	0004-gentoo_cpanplus_definstalldirs.diff
	0005-gentoo_create-libperl-soname.diff
	0006-gentoo_MakeMaker-delete_packlist.diff
	0007-fixes_8d66b3f9_h2hp_fix.diff
  Built under linux
  Compiled at Oct 27 2010 00:17:27
  %ENV:
    PERL5LIB=""
    PERL5OPT=""
    PERL5_CPANPLUS_IS_RUNNING="2724"
    PERL5_CPAN_IS_RUNNING="2724"
  @INC:
    /usr/lib64/perl5/site_perl/5.12.2/x86_64-linux
    /usr/lib64/perl5/site_perl/5.12.2
    /usr/lib64/perl5/vendor_perl/5.12.2/x86_64-linux
    /usr/lib64/perl5/vendor_perl/5.12.2
    /usr/lib64/perl5/5.12.2/x86_64-linux
    /usr/lib64/perl5/5.12.2
    /usr/lib64/perl5/site_perl
    /usr/lib64/perl5/vendor_perl
    .