DBIx-QueryLog v0.42 Perl 5 v5.24.3 x86_64-linux-thread-multi

Status
Pass
From
David Cantrell (DCANTRELL)
Dist
DBIx-QueryLog v0.42
Platform
Perl 5 v5.24.3 x86_64-linux-thread-multi
Date
2019-02-05 15:21:17
ID
aed3f7fe-2959-11e9-bae7-36ff7247484a
This distribution has been tested as part of the CPAN Testers
project, supporting the Perl programming language.  See
http://wiki.cpantesters.org/ for more information or email
questions to cpan-testers-discuss@perl.org


--
Dear Yuji Shimada,

This is a computer-generated report for DBIx-QueryLog-0.42
on perl 5.24.3, created by CPAN-Reporter-1.2018.

Thank you for uploading your work to CPAN.  Congratulations!
All tests were successful.

Sections of this report:

    * Tester comments
    * Program output
    * Prerequisites
    * Environment and other context

------------------------------
TESTER COMMENTS
------------------------------

Additional comments from tester:

this report is from an automated smoke testing program
and was not reviewed by a human for accuracy

------------------------------
PROGRAM OUTPUT
------------------------------

Output from './Build test':

t/00_compile.t ................ ok
t/01_accessors.t .............. ok
t/10_simple.t ................. skipped: Test requires module 'DBD::SQLite' but it's not found
t/11_bind.t ................... skipped: Test requires module 'DBD::SQLite' but it's not found
t/12_skip_bind.t .............. skipped: Test requires module 'DBD::SQLite' but it's not found
t/13_threshold.t .............. skipped: Test requires module 'DBD::SQLite' but it's not found
t/14_probability.t ............ skipped: Test requires module 'DBD::SQLite' but it's not found
t/15_selectrow_array.t ........ skipped: Test requires module 'DBD::SQLite' but it's not found
t/16_multi_line.t ............. skipped: Test requires module 'DBD::SQLite' but it's not found
t/18_bind_param.t ............. skipped: Test requires module 'DBD::SQLite' but it's not found
t/20_localizetion.t ........... skipped: Test requires module 'DBD::SQLite' but it's not found
t/21_guard.t .................. skipped: Test requires module 'DBD::SQLite' but it's not found
t/22_ignore_trace.t ........... skipped: Test requires module 'DBD::SQLite' but it's not found
t/23_do_explain.t ............. skipped: Test requires module 'DBD::SQLite' but it's not found
t/30_logger.t ................. skipped: Test requires module 'DBD::SQLite' but it's not found
t/31_output.t ................. skipped: Test requires module 'DBD::SQLite' but it's not found
t/32_color.t .................. skipped: Test requires module 'DBD::SQLite' but it's not found
t/33_useqq.t .................. skipped: Test requires module 'DBD::SQLite' but it's not found
t/34_compact.t ................ skipped: Test requires module 'DBD::SQLite' but it's not found
t/35_useqq_and_compact.t ...... skipped: Test requires module 'DBD::SQLite' but it's not found
t/36_show_data_srouce.t ....... skipped: Test requires module 'DBD::SQLite' but it's not found
t/90_alias.t .................. ok
t/99_regression_sqlite_148.t .. skipped: Test requires module 'DBD::SQLite' but it's not found
t/mysql/01_simple.t ........... skipped: Test requires module 'DBD::mysql' but it's not found
t/mysql/02_bind.t ............. skipped: Test requires module 'DBD::mysql' but it's not found
t/mysql/10_do.t ............... skipped: Test requires module 'DBD::mysql' but it's not found
t/mysql/11_do_dind.t .......... skipped: Test requires module 'DBD::mysql' but it's not found
t/mysql/12_do_skip_bind.t ..... skipped: Test requires module 'DBD::mysql' but it's not found
t/mysql/13_do_probability.t ... skipped: Test requires module 'DBD::mysql' but it's not found
t/mysql/14_do_logger.t ........ skipped: Test requires module 'DBD::mysql' but it's not found
t/mysql/15_selectrow_array.t .. skipped: Test requires module 'DBD::mysql' but it's not found
t/mysql/16_multi_line.t ....... skipped: Test requires module 'DBD::mysql' but it's not found
t/mysql/17_limit.t ............ skipped: Test requires module 'DBD::mysql' but it's not found
t/mysql/18_bind_param.t ....... skipped: Test requires module 'DBD::mysql' but it's not found
t/mysql/19_bind_with_type.t ... skipped: Test requires module 'DBD::mysql' but it's not found
t/mysql/20_reuse_sql_type.t ... skipped: Test requires module 'DBD::mysql' but it's not found
t/mysql/21_do_explain.t ....... skipped: Test requires module 'DBD::mysql' but it's not found
t/pg/01_simple.t .............. skipped: Test requires module 'DBD::Pg' but it's not found
t/pg/02_bind.t ................ skipped: Test requires module 'DBD::Pg' but it's not found
t/pg/10_do.t .................. skipped: Test requires module 'DBD::Pg' but it's not found
t/pg/11_do_dind.t ............. skipped: Test requires module 'DBD::Pg' but it's not found
t/pg/12_do_skip_bind.t ........ skipped: Test requires module 'DBD::Pg' but it's not found
t/pg/13_do_probability.t ...... skipped: Test requires module 'DBD::Pg' but it's not found
t/pg/14_do_logger.t ........... skipped: Test requires module 'DBD::Pg' but it's not found
t/pg/15_selectrow_array.t ..... skipped: Test requires module 'DBD::Pg' but it's not found
t/pg/16_multi_line.t .......... skipped: Test requires module 'DBD::Pg' but it's not found
t/pg/17_limit.t ............... skipped: Test requires module 'DBD::Pg' but it's not found
t/pg/18_bind_param.t .......... skipped: Test requires module 'DBD::Pg' but it's not found
t/pg/19_bind_with_type.t ...... skipped: Test requires module 'DBD::Pg' but it's not found
t/pg/20_reuse_sql_type.t ...... skipped: Test requires module 'DBD::Pg' but it's not found
t/pg/21_do_explain.t .......... skipped: Test requires module 'DBD::Pg' but it's not found
All tests successful.
Files=51, Tests=12,  4 wallclock secs ( 0.07 usr  0.28 sys +  0.55 cusr  0.14 csys =  1.04 CPU)
Result: PASS

------------------------------
PREREQUISITES
------------------------------

Prerequisite modules loaded:

requires:

    Module              Need     Have    
    ------------------- -------- --------
    Data::Dumper        0        2.160   
    DBI                 0        1.642   
    perl                5.008001 5.024003
    Term::ANSIColor     0        4.04    
    Text::ASCIITable    0        0.22    
    Time::HiRes         0        1.9741  

build_requires:

    Module              Need     Have    
    ------------------- -------- --------
    ExtUtils::MakeMaker 6.59     7.10_02 
    Test::More          0.96     1.001014
    Test::Requires      0        0.10    

configure_requires:

    Module              Need     Have    
    ------------------- -------- --------
    Module::Build::Tiny 0.035    0.039   


------------------------------
ENVIRONMENT AND OTHER CONTEXT
------------------------------

Environment variables:

    AUTOMATED_TESTING = 1
    NONINTERACTIVE_TESTING = 1
    PATH = /usr/local/bin:/usr/bin:/bin:/usr/local/games:/usr/games
    PERL = 5.24.3
    PERL5LIB = 
    PERL5OPT = 
    PERL5_CPANPLUS_IS_RUNNING = 16745
    PERL5_CPAN_IS_RUNNING = 16745
    PERLVER = 5.24.3
    PERL_INLINE_DIRECTORY = /home/david/.Inline-5.24.3
    PERL_MM_USE_DEFAULT = 1
    PERL_USE_UNSAFE_INC = 0
    SHELL = /bin/bash
    TERM = screen

Perl special variables (and OS-specific diagnostics, for MSWin32):

    $^X = /home/david/cpantesting/perl-5.24.3/bin/perl
    $UID/$EUID = 1000 / 1000
    $GID = 1000 1000
    $EGID = 1000 1000

Perl module toolchain versions installed:

    Module              Have      
    ------------------- ----------
    CPAN                2.11_01   
    CPAN::Meta          2.150005  
    Cwd                 3.63_01   
    ExtUtils::CBuilder  0.280225  
    ExtUtils::Command   7.10_02   
    ExtUtils::Install   2.04      
    ExtUtils::MakeMaker 7.10_02   
    ExtUtils::Manifest  1.70      
    ExtUtils::ParseXS   3.31      
    File::Spec          3.63_01   
    JSON                n/a       
    JSON::PP            2.27300_01
    Module::Build       0.4224    
    Module::Signature   n/a       
    Parse::CPAN::Meta   1.4417_001
    Test::Harness       3.36_01   
    Test::More          1.001014  
    YAML                n/a       
    YAML::Syck          n/a       
    version             0.9916    


--

Summary of my perl5 (revision 5 version 24 subversion 3) configuration:
   
  Platform:
    osname=linux, osvers=3.16.0-4-amd64, archname=x86_64-linux-thread-multi
    uname='linux pigsty.barnyard.co.uk 3.16.0-4-amd64 #1 smp debian 3.16.36-1+deb8u1 (2016-09-03) x86_64 gnulinux '
    config_args='-de -Duse64bitall -Dusethreads -Dprefix=/home/david/cpantesting/perl-5.24.3'
    hint=recommended, useposix=true, d_sigaction=define
    useithreads=define, usemultiplicity=define
    use64bitint=define, use64bitall=define, uselongdouble=undef
    usemymalloc=n, bincompat5005=undef
  Compiler:
    cc='cc', ccflags ='-D_REENTRANT -D_GNU_SOURCE -fwrapv -fno-strict-aliasing -pipe -fstack-protector-strong -I/usr/local/include -D_LARGEFILE_SOURCE -D_FILE_OFFSET_BITS=64 -D_FORTIFY_SOURCE=2',
    optimize='-O2',
    cppflags='-D_REENTRANT -D_GNU_SOURCE -fwrapv -fno-strict-aliasing -pipe -fstack-protector-strong -I/usr/local/include'
    ccversion='', gccversion='4.9.2', gccosandvers=''
    intsize=4, longsize=8, ptrsize=8, doublesize=8, byteorder=12345678, doublekind=3
    d_longlong=define, longlongsize=8, d_longdbl=define, longdblsize=16, longdblkind=3
    ivtype='long', ivsize=8, nvtype='double', nvsize=8, Off_t='off_t', lseeksize=8
    alignbytes=8, prototype=define
  Linker and Libraries:
    ld='cc', ldflags =' -fstack-protector-strong -L/usr/local/lib'
    libpth=/usr/local/lib /usr/lib/gcc/x86_64-linux-gnu/4.9/include-fixed /usr/include/x86_64-linux-gnu /usr/lib /lib/x86_64-linux-gnu /lib/../lib /usr/lib/x86_64-linux-gnu /usr/lib/../lib /lib
    libs=-lpthread -lnsl -ldb -ldl -lm -lcrypt -lutil -lc
    perllibs=-lpthread -lnsl -ldl -lm -lcrypt -lutil -lc
    libc=libc-2.19.so, so=so, useshrplib=false, libperl=libperl.a
    gnulibc_version='2.19'
  Dynamic Linking:
    dlsrc=dl_dlopen.xs, dlext=so, d_dlsymun=undef, ccdlflags='-Wl,-E'
    cccdlflags='-fPIC', lddlflags='-shared -O2 -L/usr/local/lib -fstack-protector-strong'


Characteristics of this binary (from libperl): 
  Compile-time options: HAS_TIMES MULTIPLICITY PERLIO_LAYERS
                        PERL_COPY_ON_WRITE PERL_DONT_CREATE_GVSV
                        PERL_HASH_FUNC_ONE_AT_A_TIME_HARD
                        PERL_IMPLICIT_CONTEXT PERL_MALLOC_WRAP
                        PERL_PRESERVE_IVUV USE_64_BIT_ALL USE_64_BIT_INT
                        USE_ITHREADS USE_LARGE_FILES USE_LOCALE
                        USE_LOCALE_COLLATE USE_LOCALE_CTYPE
                        USE_LOCALE_NUMERIC USE_LOCALE_TIME USE_PERLIO
                        USE_PERL_ATOF USE_REENTRANT_API
  Built under linux
  Compiled at Sep 26 2017 16:23:50
  %ENV:
    PERL="5.24.3"
    PERL5LIB=""
    PERL5OPT=""
    PERL5_CPANPLUS_IS_RUNNING="16745"
    PERL5_CPAN_IS_RUNNING="16745"
    PERLVER="5.24.3"
    PERL_INLINE_DIRECTORY="/home/david/.Inline-5.24.3"
    PERL_MM_USE_DEFAULT="1"
    PERL_USE_UNSAFE_INC="0"
  @INC:
    /home/david/cpantesting/perl-5.24.3/lib/site_perl/5.24.3/x86_64-linux-thread-multi
    /home/david/cpantesting/perl-5.24.3/lib/site_perl/5.24.3
    /home/david/cpantesting/perl-5.24.3/lib/5.24.3/x86_64-linux-thread-multi
    /home/david/cpantesting/perl-5.24.3/lib/5.24.3
    .