Report for PerlIO-via-EscStatus-10

Back
From: metabase:user:30977d10-2aae-11df-837a-5e0a49663a4f
Subject: PASS PerlIO-via-EscStatus-10 v5.13.8 GNU/Linux
Date: 2011-02-02T06:21:34Z

This distribution has been tested as part of the CPAN Testers
project, supporting the Perl programming language.  See
http://wiki.cpantesters.org/ for more information or email
questions to cpan-testers-discuss@perl.org


--
Dear Kevin Ryde,

This is a computer-generated report for PerlIO-via-EscStatus-10
on perl 5.13.8, created by CPAN-Reporter-1.1902.

Thank you for uploading your work to CPAN.  Congratulations!
All tests were successful.

Sections of this report:

    * Tester comments
    * Program output
    * Prerequisites
    * Environment and other context

------------------------------
TESTER COMMENTS
------------------------------

Additional comments from tester:

this report is from an automated smoke testing program
and was not reviewed by a human for accuracy

------------------------------
PROGRAM OUTPUT
------------------------------

Output from '/usr/bin/make test':

PERL_DL_NONLAZY=1 /home/stro/perl/perl5138/bin/perl "-MExtUtils::Command::MM" "-e" "test_harness(0, 'blib/lib', 'blib/arch')" t/*.t
t/ANSIescape.t .......... ok
t/EscStatus-load.t ...... ok
t/EscStatus-Renaming.t .. skipped: due to Exporter::Renaming not available -- Can't locate Exporter/Renaming.pm in @INC (@INC contains: t /home/stro/cpan/build/5.13.8/PerlIO-via-EscStatus-10-_Y12xi/blib/lib /home/stro/cpan/build/5.13.8/PerlIO-via-EscStatus-10-_Y12xi/blib/arch /home/stro/perl/perl5138/lib/site_perl/5.13.8/i686-linux /home/stro/perl/perl5138/lib/site_perl/5.13.8 /home/stro/perl/perl5138/lib/5.13.8/i686-linux /home/stro/perl/perl5138/lib/5.13.8 .) at (eval 4) line 1.
# IsZero
# IsDouble
# IsOther
# _truncate
# flush
# with encoding
# with ttystatus
# _term_width
# close clearing
# done
t/EscStatus.t ........... ok
t/Parser.t .............. ok
# on a binary file
# temp file /tmp/PerlIO-via-EscStatus-ShowAll-test-qCO6Xv
# on a utf8 file
# temp file /tmp/PerlIO-via-EscStatus-ShowAll-test-OWyJlt
t/ShowAll.t ............. ok
# on a binary file
# temp file /tmp/PerlIO-via-EscStatus-ShowNone-test-wIXC0e
# on a utf8 file
# temp file /tmp/PerlIO-via-EscStatus-ShowNone-test-_T2HVQ
t/ShowNone.t ............ ok
t/ToEscStatus.t ......... skipped: ProgressMonitor package not available: Can't locate ProgressMonitor.pm in @INC (@INC contains: t /home/stro/cpan/build/5.13.8/PerlIO-via-EscStatus-10-_Y12xi/blib/lib /home/stro/cpan/build/5.13.8/PerlIO-via-EscStatus-10-_Y12xi/blib/arch /home/stro/perl/perl5138/lib/site_perl/5.13.8/i686-linux /home/stro/perl/perl5138/lib/site_perl/5.13.8 /home/stro/perl/perl5138/lib/5.13.8/i686-linux /home/stro/perl/perl5138/lib/5.13.8 .) at t/ToEscStatus.t line 29.
All tests successful.
Files=8, Tests=1889,  2 wallclock secs ( 0.06 usr  0.12 sys +  0.35 cusr  0.73 csys =  1.26 CPU)
Result: PASS

------------------------------
PREREQUISITES
------------------------------

Prerequisite modules loaded:

requires:

    Module              Need     Have      
    ------------------- -------- ----------
    Encode              0        2.41      
    perl                5.008005 5.013008  
    PerlIO::via         0        0.11      
    Regexp::Common      0        2010010201
    Term::Size          0        0.207     

build_requires:

    Module              Need     Have      
    ------------------- -------- ----------
    ExtUtils::MakeMaker 0        6.57_05   

configure_requires:

    Module              Need     Have      
    ------------------- -------- ----------
    ExtUtils::MakeMaker 0        6.57_05   


------------------------------
ENVIRONMENT AND OTHER CONTEXT
------------------------------

Environment variables:

    AUTOMATED_TESTING = 1
    LANG = en_US.UTF-8
    PATH = /usr/local/bin:/usr/bin:/bin:/usr/games
    PERL5LIB = 
    PERL5OPT = 
    PERL5_CPANPLUS_IS_RUNNING = 896
    PERL5_CPAN_IS_RUNNING = 896
    PERL5_CPAN_IS_RUNNING_IN_RECURSION = 27435,896
    PERL_CR_SMOKER_CURRENT = PerlIO-via-EscStatus-10
    PERL_EXTUTILS_AUTOINSTALL = --defaultdeps
    PERL_MM_USE_DEFAULT = 1
    SHELL = /bin/bash
    TERM = xterm

Perl special variables (and OS-specific diagnostics, for MSWin32):

    $^X = /home/stro/perl/perl5138/bin/perl
    $UID/$EUID = 1000 / 1000
    $GID = 1000 20 24 25 29 44 46 1000
    $EGID = 1000 20 24 25 29 44 46 1000

Perl module toolchain versions installed:

    Module              Have    
    ------------------- --------
    CPAN                1.94_62 
    Cwd                 3.35    
    ExtUtils::CBuilder  0.280202
    ExtUtils::Command   1.16    
    ExtUtils::Install   1.55    
    ExtUtils::MakeMaker 6.57_05 
    ExtUtils::Manifest  1.58    
    ExtUtils::ParseXS   2.2208  
    File::Spec          3.33    
    Module::Build       0.3624  
    Module::Signature   0.66    
    Test::Harness       3.22    
    Test::More          0.97_01 
    YAML                n/a     
    YAML::Syck          1.17    
    version             0.88    


--

Summary of my perl5 (revision 5 version 13 subversion 8) configuration:
   
  Platform:
    osname=linux, osvers=2.6.26-2-686, archname=i686-linux
    uname='linux debian5 2.6.26-2-686 #1 smp thu nov 25 01:53:57 utc 2010 i686 gnulinux '
    config_args=''
    hint=recommended, useposix=true, d_sigaction=define
    useithreads=undef, usemultiplicity=undef
    useperlio=define, d_sfio=undef, uselargefiles=define, usesocks=undef
    use64bitint=undef, use64bitall=undef, uselongdouble=undef
    usemymalloc=n, bincompat5005=undef
  Compiler:
    cc='cc', ccflags ='-fno-strict-aliasing -pipe -fstack-protector -I/usr/local/include -D_LARGEFILE_SOURCE -D_FILE_OFFSET_BITS=64',
    optimize='-O2',
    cppflags='-fno-strict-aliasing -pipe -fstack-protector -I/usr/local/include'
    ccversion='', gccversion='4.3.2', gccosandvers=''
    intsize=4, longsize=4, ptrsize=4, doublesize=8, byteorder=1234
    d_longlong=define, longlongsize=8, d_longdbl=define, longdblsize=12
    ivtype='long', ivsize=4, nvtype='double', nvsize=8, Off_t='off_t', lseeksize=8
    alignbytes=4, prototype=define
  Linker and Libraries:
    ld='cc', ldflags =' -fstack-protector -L/usr/local/lib'
    libpth=/usr/local/lib /lib /usr/lib
    libs=-lnsl -ldl -lm -lcrypt -lutil -lc
    perllibs=-lnsl -ldl -lm -lcrypt -lutil -lc
    libc=/lib/libc-2.7.so, so=so, useshrplib=false, libperl=libperl.a
    gnulibc_version='2.7'
  Dynamic Linking:
    dlsrc=dl_dlopen.xs, dlext=so, d_dlsymun=undef, ccdlflags='-Wl,-E'
    cccdlflags='-fPIC', lddlflags='-shared -O2 -L/usr/local/lib -fstack-protector'


Characteristics of this binary (from libperl): 
  Compile-time options: PERL_DONT_CREATE_GVSV PERL_MALLOC_WRAP
                        USE_LARGE_FILES USE_PERLIO USE_PERL_ATOF
  Built under linux
  Compiled at Dec 21 2010 15:28:40
  %ENV:
    PERL5LIB=""
    PERL5OPT=""
    PERL5_CPANPLUS_IS_RUNNING="896"
    PERL5_CPAN_IS_RUNNING="896"
    PERL5_CPAN_IS_RUNNING_IN_RECURSION="27435,896"
    PERL_CR_SMOKER_CURRENT="PerlIO-via-EscStatus-10"
    PERL_EXTUTILS_AUTOINSTALL="--defaultdeps"
    PERL_MM_USE_DEFAULT="1"
  @INC:
    /home/stro/perl/perl5138/lib/site_perl/5.13.8/i686-linux
    /home/stro/perl/perl5138/lib/site_perl/5.13.8
    /home/stro/perl/perl5138/lib/5.13.8/i686-linux
    /home/stro/perl/perl5138/lib/5.13.8
    .